BEGIN:VCALENDAR
VERSION:2.0
PRODID:-//Livehouse Wall - ECPv6.15.20//NONSGML v1.0//EN
CALSCALE:GREGORIAN
METHOD:PUBLISH
X-ORIGINAL-URL:https://nakano-dynamite.com/wall
X-WR-CALDESC:Livehouse Wall のイベント
REFRESH-INTERVAL;VALUE=DURATION:PT1H
X-Robots-Tag:noindex
X-PUBLISHED-TTL:PT1H
BEGIN:VTIMEZONE
TZID:Asia/Tokyo
BEGIN:STANDARD
TZOFFSETFROM:+0900
TZOFFSETTO:+0900
TZNAME:JST
DTSTART:20210101T000000
END:STANDARD
END:VTIMEZONE
BEGIN:VEVENT
DTSTART;TZID=Asia/Tokyo:20251001T183000
DTEND;TZID=Asia/Tokyo:20251001T220000
DTSTAMP:20260422T193619
CREATED:20250808T125121Z
LAST-MODIFIED:20250808T125121Z
UID:4081-1759343400-1759356000@nakano-dynamite.com
SUMMARY:CH3 JAPAN TOUR 2025
DESCRIPTION:2025.10.01(wed)\nOPEN 18:30\nSTART 19:00\nADV ¥2000\nDOOR ¥3000\n+1D\n\nCH3\nHOW\nNO ALL\nTROPICAL GORILLA\n\n\nWALL pre.\nCH3 JAPAN TOUR 2025\n@初台WALL
URL:https://nakano-dynamite.com/wall/event/2025-10-01/
LOCATION:初台WALL\, 西新宿　3-15-8-B1\, 新宿区\, 東京都\, 160-0023\, Japan
ATTACH;FMTTYPE=image/jpeg:https://nakano-dynamite.com/wall/wp-content/uploads/2025/08/20251001.jpg
END:VEVENT
BEGIN:VEVENT
DTSTART;TZID=Asia/Tokyo:20230618T163000
DTEND;TZID=Asia/Tokyo:20230618T220000
DTSTAMP:20260422T193619
CREATED:20230426T062621Z
LAST-MODIFIED:20230426T062621Z
UID:1202-1687105800-1687125600@nakano-dynamite.com
SUMMARY:OVER ALL
DESCRIPTION:2023.06.18 (sun)\nOPEN 16:30  START 17:00\nADV ¥2400  DOOR ¥2900+1D\n\nHOW \nCHANIWA \nRatchild \nTAKE BACK THE BEERS! \nTROPICAL GORILLA \nNINJA BOYZ \nSHORT STORY \nDJ:セージーガガ\n\n\nOVER ALL CREWpre\nOVER ALL\n@初台WALL
URL:https://nakano-dynamite.com/wall/event/2023-06-18/
LOCATION:初台WALL\, 西新宿　3-15-8-B1\, 新宿区\, 東京都\, 160-0023\, Japan
ATTACH;FMTTYPE=image/jpeg:https://nakano-dynamite.com/wall/wp-content/uploads/2023/04/20230618.jpg
END:VEVENT
BEGIN:VEVENT
DTSTART;TZID=Asia/Tokyo:20221127T170000
DTEND;TZID=Asia/Tokyo:20221127T220000
DTSTAMP:20260422T193619
CREATED:20221121T034726Z
LAST-MODIFIED:20221129T091429Z
UID:66-1669568400-1669586400@nakano-dynamite.com
SUMMARY:MEXICAN AGE × THE SENSATIONS pre: PUNCH IN THE FACE vol.1
DESCRIPTION:2022.11.27(sun)\nOPEN 16:00 / START 16:30\nADV ¥2\,500 / DOOR ¥3\,000\nMEXICAN AGE\nTHE SENSATIONS\nwaterweed\nTROPICAL GORILLA\nMATTER\n \nMEXICAN AGE × THE SENSATIONS pre\n「PUNCH IN THE FACE vol.1」\n@初台WALL
URL:https://nakano-dynamite.com/wall/event/2022-11-27/
LOCATION:初台WALL\, 西新宿　3-15-8-B1\, 新宿区\, 東京都\, 160-0023\, Japan
ATTACH;FMTTYPE=image/jpeg:https://nakano-dynamite.com/wall/wp-content/uploads/2022/11/2022-11-27.jpeg
END:VEVENT
END:VCALENDAR