BEGIN:VCALENDAR
VERSION:2.0
PRODID:-//Livehouse Wall - ECPv6.15.20//NONSGML v1.0//EN
CALSCALE:GREGORIAN
METHOD:PUBLISH
X-WR-CALNAME:Livehouse Wall
X-ORIGINAL-URL:https://nakano-dynamite.com/wall
X-WR-CALDESC:Livehouse Wall のイベント
REFRESH-INTERVAL;VALUE=DURATION:PT1H
X-Robots-Tag:noindex
X-PUBLISHED-TTL:PT1H
BEGIN:VTIMEZONE
TZID:Asia/Tokyo
BEGIN:STANDARD
TZOFFSETFROM:+0900
TZOFFSETTO:+0900
TZNAME:JST
DTSTART:20220101T000000
END:STANDARD
END:VTIMEZONE
BEGIN:VEVENT
DTSTART;TZID=Asia/Tokyo:20240427T163000
DTEND;TZID=Asia/Tokyo:20240427T220000
DTSTAMP:20260422T092257
CREATED:20240329T071858Z
LAST-MODIFIED:20240419T070130Z
UID:2503-1714235400-1714255200@nakano-dynamite.com
SUMMARY:五臓六腑vol.12
DESCRIPTION:2024.04.27(sat)\nOPEN 16:30\nSTART 17:00\nADV￥2900\nDOOR￥3400\n+1D\n\nBAUMKUCHEN\nENSLAVE\nFIVE NO RISK(大阪)\nKiM(京都)\nORION\nto overflow evidence(いわき)\nVELOCITY\n\n-DJ-\nセージーガガ\n\n-FOOD-\nスタッズひとみ\n\n-SHOP-\nTORANOCO\n\nGNDM pre\n五臓六腑vol.12\n@初台WALL
URL:https://nakano-dynamite.com/wall/event/2024-04-27/
LOCATION:初台WALL\, 西新宿　3-15-8-B1\, 新宿区\, 東京都\, 160-0023\, Japan
ATTACH;FMTTYPE=image/jpeg:https://nakano-dynamite.com/wall/wp-content/uploads/2024/03/20240427.jpg
END:VEVENT
BEGIN:VEVENT
DTSTART;TZID=Asia/Tokyo:20240414T140000
DTEND;TZID=Asia/Tokyo:20240414T220000
DTSTAMP:20260422T092257
CREATED:20240310T142540Z
LAST-MODIFIED:20240310T142540Z
UID:2456-1713103200-1713132000@nakano-dynamite.com
SUMMARY:BABA2
DESCRIPTION:2024.04.14(sun)\nOPEN 14:00\nSTART 14:30\nADV￥3000\nDOOR￥3500\n+1D\n\nwaterweed\nRatchild\nCODE AXE\nneko!\nTHRH\nTAKE BACK THE BEERS!\nVELOCITY\nWith A Splash\n\n-DJ- \ndjbagworm\n後藤(to overflow evidence)\n\n-FOOD-\nなおきシェフ\n\n\n\nwaterweed × Ratchild pre\n"BABA2"\n@初台WALL
URL:https://nakano-dynamite.com/wall/event/2024-04-14/
LOCATION:初台WALL\, 西新宿　3-15-8-B1\, 新宿区\, 東京都\, 160-0023\, Japan
ATTACH;FMTTYPE=image/jpeg:https://nakano-dynamite.com/wall/wp-content/uploads/2024/03/20240414.jpg
END:VEVENT
BEGIN:VEVENT
DTSTART;TZID=Asia/Tokyo:20231203T170000
DTEND;TZID=Asia/Tokyo:20231203T220000
DTSTAMP:20260422T092257
CREATED:20231028T065508Z
LAST-MODIFIED:20231028T065508Z
UID:1695-1701622800-1701640800@nakano-dynamite.com
SUMMARY:PUNK ROCK LOCAL WARABI
DESCRIPTION:2023.12.03 (sun)\nOPEN 17:00 START 17:30\nADV/DOOR ¥1000+1D\n\nNO-ALL\nCROCODILE COX and the DISASTER\nONE YAH ONE\nMINAMOTO\nTHE EREXIONALS\nVELOCITY\n\n-DJ-\nSINBA(sakamoto disco)\n\n\nPUNK ROCK LOCAL WARABI\n@初台WALL
URL:https://nakano-dynamite.com/wall/event/2023-12-03/
LOCATION:初台WALL\, 西新宿　3-15-8-B1\, 新宿区\, 東京都\, 160-0023\, Japan
ATTACH;FMTTYPE=image/jpeg:https://nakano-dynamite.com/wall/wp-content/uploads/2023/10/20231203.jpg
END:VEVENT
BEGIN:VEVENT
DTSTART;TZID=Asia/Tokyo:20231118T170000
DTEND;TZID=Asia/Tokyo:20231118T220000
DTSTAMP:20260422T092257
CREATED:20231006T132904Z
LAST-MODIFIED:20231006T132904Z
UID:1635-1700326800-1700344800@nakano-dynamite.com
SUMMARY:BIG MOM VIBRATION
DESCRIPTION:2023.11.18 (sat)\nOPEN 17:00  START 17:30\nDOOR ¥2900+1D\n\nFIVE NO RISK(大阪)\nSUNSHINE DUB(大阪)\nVELOCITY\nneko!\nANCHOR\nHONEY SUGAR MILK CHOCOLATES \n\n\n\nmamizo&FIVE NO RISK pre\nBIG MOM VIBRATION\n@初台WALL
URL:https://nakano-dynamite.com/wall/event/2023-11-18/
LOCATION:初台WALL\, 西新宿　3-15-8-B1\, 新宿区\, 東京都\, 160-0023\, Japan
ATTACH;FMTTYPE=image/jpeg:https://nakano-dynamite.com/wall/wp-content/uploads/2023/10/20231118.jpg
END:VEVENT
BEGIN:VEVENT
DTSTART;TZID=Asia/Tokyo:20230624T160000
DTEND;TZID=Asia/Tokyo:20230624T220000
DTSTAMP:20260422T092257
CREATED:20230525T131436Z
LAST-MODIFIED:20230525T131436Z
UID:1311-1687622400-1687644000@nakano-dynamite.com
SUMMARY:"Fuck’in this show"   WALL24th ANNIVERSARY
DESCRIPTION:2023.06.24 (sat)\nOPEN 16:00  START 16:30\nADV ￥2500  DOOR ￥3000 +1D\n\nTake out bright\nVELOCITY\nANTINICE\nAudinaries\nSABANNAMAN\nSMOOTHY\nANCHOR\n\nTake out bright pre\n"Fuck’in this show" WALL24th ANNIVERSARY\n@初台WALL
URL:https://nakano-dynamite.com/wall/event/2023-06-24/
LOCATION:初台WALL\, 西新宿　3-15-8-B1\, 新宿区\, 東京都\, 160-0023\, Japan
ATTACH;FMTTYPE=image/jpeg:https://nakano-dynamite.com/wall/wp-content/uploads/2023/05/20230624.jpg
END:VEVENT
END:VCALENDAR