BEGIN:VCALENDAR
VERSION:2.0
PRODID:-//Livehouse Wall - ECPv6.15.20//NONSGML v1.0//EN
CALSCALE:GREGORIAN
METHOD:PUBLISH
X-ORIGINAL-URL:https://nakano-dynamite.com/wall
X-WR-CALDESC:Livehouse Wall のイベント
REFRESH-INTERVAL;VALUE=DURATION:PT1H
X-Robots-Tag:noindex
X-PUBLISHED-TTL:PT1H
BEGIN:VTIMEZONE
TZID:Asia/Tokyo
BEGIN:STANDARD
TZOFFSETFROM:+0900
TZOFFSETTO:+0900
TZNAME:JST
DTSTART:20240101T000000
END:STANDARD
END:VTIMEZONE
BEGIN:VEVENT
DTSTART;TZID=Asia/Tokyo:20250330T153000
DTEND;TZID=Asia/Tokyo:20250330T220000
DTSTAMP:20260421T232312
CREATED:20250222T065803Z
LAST-MODIFIED:20250222T065803Z
UID:3497-1743348600-1743372000@nakano-dynamite.com
SUMMARY:WITHOUT SYSTEM & WALL pre.
DESCRIPTION:2025.03.30(sun)\nOPEN 15:30\nSTART 16:00\nDOOR ¥1000\n+1D\n\nWITHOUT SYSTEM\nFALLING DOWN\n133ANDSPEX\nFLiPOUT A.A\nKISSSSAKI\n遊撃\nDE-CULTURES\n\n\n\nWITHOUT SYSTEM & WALL pre.\n@初台WALL
URL:https://nakano-dynamite.com/wall/event/2025-03-30/
LOCATION:初台WALL\, 西新宿　3-15-8-B1\, 新宿区\, 東京都\, 160-0023\, Japan
ATTACH;FMTTYPE=image/jpeg:https://nakano-dynamite.com/wall/wp-content/uploads/2025/02/20250330.jpg
END:VEVENT
BEGIN:VEVENT
DTSTART;TZID=Asia/Tokyo:20250613T183000
DTEND;TZID=Asia/Tokyo:20250613T220000
DTSTAMP:20260421T232312
CREATED:20250515T112514Z
LAST-MODIFIED:20250515T112514Z
UID:3748-1749839400-1749852000@nakano-dynamite.com
SUMMARY:Without system川西さん企画
DESCRIPTION:2025.06.13(fri)\nOPEN 18:30\nSTART 18:45\nDOOR ¥1000\n+1D\n\nJABARA.\nCROSS FACE\nHUMAN ARTS\nVROOM\nWithout system\n\n\n\n川西さん pre.\n@初台WALL
URL:https://nakano-dynamite.com/wall/event/2025-06-13/
LOCATION:東京都
ATTACH;FMTTYPE=image/jpeg:https://nakano-dynamite.com/wall/wp-content/uploads/2025/05/20250613.jpg
END:VEVENT
BEGIN:VEVENT
DTSTART;TZID=Asia/Tokyo:20250923T173000
DTEND;TZID=Asia/Tokyo:20250923T220000
DTSTAMP:20260421T232312
CREATED:20250821T111021Z
LAST-MODIFIED:20250821T111021Z
UID:4142-1758648600-1758664800@nakano-dynamite.com
SUMMARY:西新宿狂想曲
DESCRIPTION:2025.09.23(tue)\nOPEN 17:30\nSTART 18:00\nADV ¥2000\nDOOR ¥2500\n+1D\n\nWithout System\n三日月爆音団\nDISASTER\nLEGEND OF TRUTH\nSOLDERA\n\n \n\nWALL pre.\n西新宿狂想曲\n@初台WALL
URL:https://nakano-dynamite.com/wall/event/2025-09-23/
LOCATION:初台WALL\, 西新宿　3-15-8-B1\, 新宿区\, 東京都\, 160-0023\, Japan
ATTACH;FMTTYPE=image/jpeg:https://nakano-dynamite.com/wall/wp-content/uploads/2025/08/20250923.jpg
END:VEVENT
BEGIN:VEVENT
DTSTART;TZID=Asia/Tokyo:20251021T192000
DTEND;TZID=Asia/Tokyo:20251021T220000
DTSTAMP:20260421T232312
CREATED:20251003T142051Z
LAST-MODIFIED:20251003T142051Z
UID:4250-1761074400-1761084000@nakano-dynamite.com
SUMMARY:REJECT JAPAN TOUR 2025
DESCRIPTION:2025.10.21 Tue\nOPEN 19:20\nSTART 19:50\nADV ¥2000+1D\nDoor ¥2500+1D\n\nREJECT(Bali\,Indonesia)\nNO PROBLEM\nWITHOUT SYSTEM\nUMBRO\nFUCK ON THE BEACH\n\n\n\nWALL pre.\nREJECT JAPAN TOUR 2025\n@初台WALL
URL:https://nakano-dynamite.com/wall/event/2025-10-21/
LOCATION:初台WALL\, 西新宿　3-15-8-B1\, 新宿区\, 東京都\, 160-0023\, Japan
ATTACH;FMTTYPE=image/jpeg:https://nakano-dynamite.com/wall/wp-content/uploads/2025/10/20251021.jpg
END:VEVENT
BEGIN:VEVENT
DTSTART;TZID=Asia/Tokyo:20260208T183000
DTEND;TZID=Asia/Tokyo:20260208T220000
DTSTAMP:20260421T232312
CREATED:20260116T142331Z
LAST-MODIFIED:20260116T142331Z
UID:4550-1770575400-1770588000@nakano-dynamite.com
SUMMARY:Without System pre.
DESCRIPTION:2026.02.08(sun)\nOPEN 18:30\nSTART 19:00\nDOOR ¥1000\n+1D\n\nH81\n異ナルニ非ズ\nUMBRO\nWithout System\n\n-FOOD-\nFREE FOOD STAND\n\n\n\nWithout System pre.\n@初台WALL
URL:https://nakano-dynamite.com/wall/event/2026-02-08/
LOCATION:初台WALL\, 西新宿　3-15-8-B1\, 新宿区\, 東京都\, 160-0023\, Japan
ATTACH;FMTTYPE=image/jpeg:https://nakano-dynamite.com/wall/wp-content/uploads/2026/01/20260208.jpg
END:VEVENT
END:VCALENDAR