BEGIN:VCALENDAR
VERSION:2.0
PRODID:-//Livehouse Wall - ECPv6.15.20//NONSGML v1.0//EN
CALSCALE:GREGORIAN
METHOD:PUBLISH
X-WR-CALNAME:Livehouse Wall
X-ORIGINAL-URL:https://nakano-dynamite.com/wall
X-WR-CALDESC:Livehouse Wall のイベント
REFRESH-INTERVAL;VALUE=DURATION:PT1H
X-Robots-Tag:noindex
X-PUBLISHED-TTL:PT1H
BEGIN:VTIMEZONE
TZID:Asia/Tokyo
BEGIN:STANDARD
TZOFFSETFROM:+0900
TZOFFSETTO:+0900
TZNAME:JST
DTSTART:20240101T000000
END:STANDARD
END:VTIMEZONE
BEGIN:VEVENT
DTSTART;TZID=Asia/Tokyo:20250927T180000
DTEND;TZID=Asia/Tokyo:20250927T220000
DTSTAMP:20260424T041722
CREATED:20250829T142248Z
LAST-MODIFIED:20250829T142248Z
UID:4154-1758996000-1759010400@nakano-dynamite.com
SUMMARY:CUBFIRES Japan Tour 2025
DESCRIPTION:2025.09.27(sat)\nOPEN 18:00\nSTART 18:30\nADV ¥2400\nDOOR ¥2900\n+1D\n\nおまえ\nWhat Goes Up\nYard End Robinson's\nCUBFIRES\n\nWALL pre.\nCUBFIRES Japan Tour 2025\n@初台WALL
URL:https://nakano-dynamite.com/wall/event/2025-09-27/
LOCATION:初台WALL\, 西新宿　3-15-8-B1\, 新宿区\, 東京都\, 160-0023\, Japan
ATTACH;FMTTYPE=image/jpeg:https://nakano-dynamite.com/wall/wp-content/uploads/2025/08/20250927-1.jpg
END:VEVENT
BEGIN:VEVENT
DTSTART;TZID=Asia/Tokyo:20250905T185000
DTEND;TZID=Asia/Tokyo:20250905T220000
DTSTAMP:20260424T041722
CREATED:20250806T095351Z
LAST-MODIFIED:20250806T095351Z
UID:4041-1757098200-1757109600@nakano-dynamite.com
SUMMARY:WALLA WALLA
DESCRIPTION:2025.09.05(fri)\nOPEN 18:50\nWALLA 19:20\nADV ¥1900\nDOOR ¥2400\n+1D\n\nDAYBREAK\nHExSO\nサザンクロズ\nYARD END ROBINSON'S\n\n\n\nWALL pre.\nWALLA WALLA\n@初台WALL
URL:https://nakano-dynamite.com/wall/event/2025-09-05/
LOCATION:初台WALL\, 西新宿　3-15-8-B1\, 新宿区\, 東京都\, 160-0023\, Japan
ATTACH;FMTTYPE=image/jpeg:https://nakano-dynamite.com/wall/wp-content/uploads/2025/08/20250905.jpg
END:VEVENT
BEGIN:VEVENT
DTSTART;TZID=Asia/Tokyo:20250530T183000
DTEND;TZID=Asia/Tokyo:20250530T220000
DTSTAMP:20260424T041722
CREATED:20250424T111700Z
LAST-MODIFIED:20250424T111700Z
UID:3698-1748629800-1748642400@nakano-dynamite.com
SUMMARY:IF IT DOES IT\, IT BECOME VOL.27
DESCRIPTION:2025.05.30(fri)\nOPEN 18:30\nSTART 19:00\nDOOR ¥1900\n+1D\n恋のロシアンルーレット\nyard end robinson's\nGOOD DREAM\nthe denisons\n\n\n\nまさっち pre.\nIF IT DOES IT\, IT BECOME VOL.27\n@初台WALL
URL:https://nakano-dynamite.com/wall/event/2025-05-30/
LOCATION:初台WALL\, 西新宿　3-15-8-B1\, 新宿区\, 東京都\, 160-0023\, Japan
ATTACH;FMTTYPE=image/jpeg:https://nakano-dynamite.com/wall/wp-content/uploads/2025/04/20250530.jpg
END:VEVENT
END:VCALENDAR