BEGIN:VCALENDAR
VERSION:2.0
PRODID:-//Livehouse Wall - ECPv6.15.20//NONSGML v1.0//EN
CALSCALE:GREGORIAN
METHOD:PUBLISH
X-WR-CALNAME:Livehouse Wall
X-ORIGINAL-URL:https://nakano-dynamite.com/wall
X-WR-CALDESC:Livehouse Wall のイベント
REFRESH-INTERVAL;VALUE=DURATION:PT1H
X-Robots-Tag:noindex
X-PUBLISHED-TTL:PT1H
BEGIN:VTIMEZONE
TZID:Asia/Tokyo
BEGIN:STANDARD
TZOFFSETFROM:+0900
TZOFFSETTO:+0900
TZNAME:JST
DTSTART:20220101T000000
END:STANDARD
END:VTIMEZONE
BEGIN:VEVENT
DTSTART;TZID=Asia/Tokyo:20250306T183000
DTEND;TZID=Asia/Tokyo:20250306T220000
DTSTAMP:20260422T125329
CREATED:20250214T161730Z
LAST-MODIFIED:20250214T161817Z
UID:3436-1741285800-1741298400@nakano-dynamite.com
SUMMARY:新発見！ムチコンドリア！
DESCRIPTION:2025.03.06(thu)\nOPEN 18:30\nSTART 18:50\nDOOR ¥1900\n+1D\n\nスーパームチオ\n破壊光線\nAchin'\nHEXO\nはいから\nおまえ\n\n\n\nWALL pre.\n新発見！ムチコンドリア！\n@初台WALL
URL:https://nakano-dynamite.com/wall/event/2025-03-06/
LOCATION:初台WALL\, 西新宿　3-15-8-B1\, 新宿区\, 東京都\, 160-0023\, Japan
ATTACH;FMTTYPE=image/jpeg:https://nakano-dynamite.com/wall/wp-content/uploads/2025/02/20250306.jpg
END:VEVENT
BEGIN:VEVENT
DTSTART;TZID=Asia/Tokyo:20250117T183000
DTEND;TZID=Asia/Tokyo:20250117T220000
DTSTAMP:20260422T125329
CREATED:20241222T080536Z
LAST-MODIFIED:20241222T080536Z
UID:3255-1737138600-1737151200@nakano-dynamite.com
SUMMARY:おつむてんてんクリニック
DESCRIPTION:2025.01.17(fri)\nOPEN 18:30\nSTART 19:00\nADV/DOOR ¥1900\n+1D\n\nシャウト中村とこんにちわ\nスーパームチオ\nはいから\nkill me Elk\n百鬼夜恍\n\n\n\n\nWALL pre.\nおつむてんてんクリニック\n@初台WALL
URL:https://nakano-dynamite.com/wall/event/2025-01-17/
LOCATION:初台WALL\, 西新宿　3-15-8-B1\, 新宿区\, 東京都\, 160-0023\, Japan
ATTACH;FMTTYPE=image/jpeg:https://nakano-dynamite.com/wall/wp-content/uploads/2024/12/20250117.jpg
END:VEVENT
BEGIN:VEVENT
DTSTART;TZID=Asia/Tokyo:20241031T183000
DTEND;TZID=Asia/Tokyo:20241031T220000
DTSTAMP:20260422T125329
CREATED:20241003T132600Z
LAST-MODIFIED:20241003T132600Z
UID:3048-1730399400-1730412000@nakano-dynamite.com
SUMMARY:HAPPY HELLOWEEN 2024
DESCRIPTION:2024.10.31(thu)\nOPEN 18:30\nSTART 19:00\nDOOR ¥2000+1D\n※仮装割引1Dのみ入場可能\n\n3000万パワーズ\nはいから\nTHE バイキング\nスーパームチオ\n劇団たんぽぽ\nオッケーボーイ\nセージーガガ\nDJサマービューティ\n\n\n\nWALL pre.\nHAPPY HELLOWEEN 2024\n@初台WALL
URL:https://nakano-dynamite.com/wall/event/2024-10-31/
LOCATION:初台WALL\, 西新宿　3-15-8-B1\, 新宿区\, 東京都\, 160-0023\, Japan
ATTACH;FMTTYPE=image/jpeg:https://nakano-dynamite.com/wall/wp-content/uploads/2024/10/20241031.jpg
END:VEVENT
BEGIN:VEVENT
DTSTART;TZID=Asia/Tokyo:20240814T183000
DTEND;TZID=Asia/Tokyo:20240814T220000
DTSTAMP:20260422T125329
CREATED:20240727T092616Z
LAST-MODIFIED:20240730T081342Z
UID:2823-1723660200-1723672800@nakano-dynamite.com
SUMMARY:BIG BONUS
DESCRIPTION:2024.08.14(wed)\nOPEN 18:30\nSTART 19:00\nDOOR ¥2000\n+1D\n\nはいから\n魔ゼルな規犬\nHAIGAN\n桑原耀平\nJETヒロシ\n\nWALL pre.\nBIG BONUS\n@初台WALL
URL:https://nakano-dynamite.com/wall/event/2024-08-14/
LOCATION:初台WALL\, 西新宿　3-15-8-B1\, 新宿区\, 東京都\, 160-0023\, Japan
ATTACH;FMTTYPE=image/jpeg:https://nakano-dynamite.com/wall/wp-content/uploads/2024/07/20240814.jpg
END:VEVENT
BEGIN:VEVENT
DTSTART;TZID=Asia/Tokyo:20240715T160000
DTEND;TZID=Asia/Tokyo:20240715T220000
DTSTAMP:20260422T125329
CREATED:20240627T142055Z
LAST-MODIFIED:20240627T142055Z
UID:2656-1721059200-1721080800@nakano-dynamite.com
SUMMARY:OVERALL
DESCRIPTION:2024.07.15(mon)\nOPEN 16:00\nSTART 16:30\nDOOR ¥2400\nU-23 ¥900\n+1D\nJ-BOYz\nHOW\nRUBE RACIES\nはいから\nMEXICAN AGE\nSABANNAMAN\nSIXX66\nDANCE WITH ME\n\nHOW pre.\nOVERALL\n@初台WALL
URL:https://nakano-dynamite.com/wall/event/2024-07-15/
LOCATION:初台WALL\, 西新宿　3-15-8-B1\, 新宿区\, 東京都\, 160-0023\, Japan
ATTACH;FMTTYPE=image/jpeg:https://nakano-dynamite.com/wall/wp-content/uploads/2024/06/20240715.jpg
END:VEVENT
BEGIN:VEVENT
DTSTART;TZID=Asia/Tokyo:20240620T183000
DTEND;TZID=Asia/Tokyo:20240620T220000
DTSTAMP:20260422T125329
CREATED:20240609T124836Z
LAST-MODIFIED:20240609T124836Z
UID:2590-1718908200-1718920800@nakano-dynamite.com
SUMMARY:スナック臓物
DESCRIPTION:2024.06.20(thu)\nOPEN 18:30\nSTART 19:00\nCHARGE￥0\n+2D\n\nはいから\nAchin'\nアナベル・リー\n爆裂ジャイロ \n\n\nWALL pre.\nスナック臓物\n@初台WALL
URL:https://nakano-dynamite.com/wall/event/2024-06-20/
LOCATION:初台WALL\, 西新宿　3-15-8-B1\, 新宿区\, 東京都\, 160-0023\, Japan
ATTACH;FMTTYPE=image/jpeg:https://nakano-dynamite.com/wall/wp-content/uploads/2024/06/20240620.jpg
END:VEVENT
BEGIN:VEVENT
DTSTART;TZID=Asia/Tokyo:20240417T183000
DTEND;TZID=Asia/Tokyo:20240417T220000
DTSTAMP:20260422T125329
CREATED:20240322T140058Z
LAST-MODIFIED:20240322T141038Z
UID:2462-1713378600-1713391200@nakano-dynamite.com
SUMMARY:スクール★ムチ★ヲォーズ
DESCRIPTION:2024.04.17(wed)\nOPEN 18:30\nSTART 19:00\nADV￥2000\nDOOR￥2500\n+1D\n\nスーパームチオ\n劇団たんぽぽ\n2Strike3Ball\nはいから\nポコンチサイトー\n爆裂ジャイロ\nHEXO\n\n\n\nWALL pre\nスクール★ムチ★ヲォーズ\n@初台WALL
URL:https://nakano-dynamite.com/wall/event/2024-04-17/
LOCATION:初台WALL\, 西新宿　3-15-8-B1\, 新宿区\, 東京都\, 160-0023\, Japan
ATTACH;FMTTYPE=image/jpeg:https://nakano-dynamite.com/wall/wp-content/uploads/2024/03/20240417.jpg
END:VEVENT
BEGIN:VEVENT
DTSTART;TZID=Asia/Tokyo:20240406T150000
DTEND;TZID=Asia/Tokyo:20240406T220000
DTSTAMP:20260422T125329
CREATED:20240310T133724Z
LAST-MODIFIED:20240310T133724Z
UID:2447-1712415600-1712440800@nakano-dynamite.com
SUMMARY:HEAVY RECOMMEND
DESCRIPTION:2024.04.06(sat)\nOPEN 15:00\nSTART 15:30\nADV￥2900\nDOOR￥3400\n+1D\n\nMEXICAN AGE\nNAFT\nJolly Bobby SEX\nBad Attack\nTake Back The Beers!\nTrash of Acorn\nHOW\nはいから\nJERSEY DEVIL\n\n\nMEXICAN AGE pre\nHEAVY RECOMMEND\n@初台WALL
URL:https://nakano-dynamite.com/wall/event/2024-04-06/
LOCATION:初台WALL\, 西新宿　3-15-8-B1\, 新宿区\, 東京都\, 160-0023\, Japan
ATTACH;FMTTYPE=image/jpeg:https://nakano-dynamite.com/wall/wp-content/uploads/2024/03/20240406.jpg
END:VEVENT
BEGIN:VEVENT
DTSTART;TZID=Asia/Tokyo:20240330T163000
DTEND;TZID=Asia/Tokyo:20240330T220000
DTSTAMP:20260422T125329
CREATED:20240222T112217Z
LAST-MODIFIED:20240222T112217Z
UID:2405-1711816200-1711836000@nakano-dynamite.com
SUMMARY:KEIZOKU
DESCRIPTION:2024.03.30(sat)\nOPEN 16:30\nSTART 17:00\nDOOR￥2500\n＋1D\n\nスーパー12時間\nBONBON組\nBuzz Winks\nNULL POOL\nUNRUCH\nはイかラ\nCosmo Dragoon No8\n鷲尾\n\n\nはいからX鷲尾 pre\nKEIZOKU\n@初台WALL
URL:https://nakano-dynamite.com/wall/event/2024-03-30/
LOCATION:初台WALL\, 西新宿　3-15-8-B1\, 新宿区\, 東京都\, 160-0023\, Japan
ATTACH;FMTTYPE=image/jpeg:https://nakano-dynamite.com/wall/wp-content/uploads/2024/02/20240330.jpg
END:VEVENT
BEGIN:VEVENT
DTSTART;TZID=Asia/Tokyo:20240201T183000
DTEND;TZID=Asia/Tokyo:20240201T220000
DTSTAMP:20260422T125329
CREATED:20240121T110314Z
LAST-MODIFIED:20240121T110314Z
UID:2258-1706812200-1706824800@nakano-dynamite.com
SUMMARY:PUNK de BOMB
DESCRIPTION:2024.02.01 (Thu)\nOPEN 18:30 START 19:00\nDOOR ￥2000＋1D\nSxGxS\nBad Choices\nHEXO\nPUNiK\nはいから \n \nWALL pre\nPUNK de BOMB\n＠初台WALL
URL:https://nakano-dynamite.com/wall/event/2024-02-01/
LOCATION:初台WALL\, 西新宿　3-15-8-B1\, 新宿区\, 東京都\, 160-0023\, Japan
CATEGORIES:PUNK de BOMB
ATTACH;FMTTYPE=image/jpeg:https://nakano-dynamite.com/wall/wp-content/uploads/2024/01/20240201.jpg
END:VEVENT
BEGIN:VEVENT
DTSTART;TZID=Asia/Tokyo:20231225T180000
DTEND;TZID=Asia/Tokyo:20231225T220000
DTSTAMP:20260422T125329
CREATED:20231201T131351Z
LAST-MODIFIED:20231201T131351Z
UID:2121-1703527200-1703541600@nakano-dynamite.com
SUMMARY:ムチヲのワイルド・クリスマス
DESCRIPTION:2023.12.25 (mon)\nOPEN 18:00  START 18:30\nDOOR ￥2000＋1D\n\nスーパームチヲ\nダーハマ\nｍ-DASH\nはいから\n百鬼夜光\nBuzz Winks\nKenjiii (TRES)\n\n\nWALL pre\nムチヲのワイルド・クリスマス\n@初台WALL
URL:https://nakano-dynamite.com/wall/event/2023-12-25/
LOCATION:初台WALL\, 西新宿　3-15-8-B1\, 新宿区\, 東京都\, 160-0023\, Japan
ATTACH;FMTTYPE=image/jpeg:https://nakano-dynamite.com/wall/wp-content/uploads/2023/12/20231225.jpg
END:VEVENT
BEGIN:VEVENT
DTSTART;TZID=Asia/Tokyo:20231122T183000
DTEND;TZID=Asia/Tokyo:20231122T220000
DTSTAMP:20260422T125329
CREATED:20231028T055619Z
LAST-MODIFIED:20231028T055619Z
UID:1685-1700677800-1700690400@nakano-dynamite.com
SUMMARY:初台にほえろ
DESCRIPTION:2023.11.22 (wed)\nOPEN 18:30  START 19:00\nADV/DOOR　¥2000＋1D\n\n劇団たんぽぽ\nサザンクロズ\nくるぴの\nはいから\nいち\n\n\n\nWALL pre\n初台にほえろ\n@初台WALL
URL:https://nakano-dynamite.com/wall/event/2023-11-22/
LOCATION:初台WALL\, 西新宿　3-15-8-B1\, 新宿区\, 東京都\, 160-0023\, Japan
ATTACH;FMTTYPE=image/jpeg:https://nakano-dynamite.com/wall/wp-content/uploads/2023/10/20231122.jpg
END:VEVENT
BEGIN:VEVENT
DTSTART;TZID=Asia/Tokyo:20231019T183000
DTEND;TZID=Asia/Tokyo:20231019T220000
DTSTAMP:20260422T125329
CREATED:20230921T094822Z
LAST-MODIFIED:20231006T103734Z
UID:1596-1697740200-1697752800@nakano-dynamite.com
SUMMARY:OVERALL -中沢真一聖誕祭-
DESCRIPTION:2023.10.19 (sat)\nOPEN 18:30  START 19:00\nDOOR￥2000＋1D\n\nHOW\nSIXX66\nはいから\nMEN★PLA\nRUBE RACIES\nDJ セージーガガ\nスナック臓物\n\n\n\nWALL pre\nOVERALL -中沢真一聖誕祭-\n@初台WALL
URL:https://nakano-dynamite.com/wall/event/2023-10-19/
LOCATION:初台WALL\, 西新宿　3-15-8-B1\, 新宿区\, 東京都\, 160-0023\, Japan
ATTACH;FMTTYPE=image/jpeg:https://nakano-dynamite.com/wall/wp-content/uploads/2023/09/20231019-1.jpg
END:VEVENT
BEGIN:VEVENT
DTSTART;TZID=Asia/Tokyo:20230517T190000
DTEND;TZID=Asia/Tokyo:20230517T220000
DTSTAMP:20260422T125329
CREATED:20230415T064629Z
LAST-MODIFIED:20230415T064629Z
UID:1188-1684350000-1684360800@nakano-dynamite.com
SUMMARY:スナック臓物
DESCRIPTION:2023.05.17 (wed)\nOPEN 19:00  START 20:00\nDOOR ￥1200　(2D込)\n\nはいから\nGAGA-STANDARD\nTEENNAGE AFTERPARTY\n\n\nたとうーpre\nスナック臓物\n@初台WALL
URL:https://nakano-dynamite.com/wall/event/2023-05-17/
LOCATION:初台WALL\, 西新宿　3-15-8-B1\, 新宿区\, 東京都\, 160-0023\, Japan
ATTACH;FMTTYPE=image/jpeg:https://nakano-dynamite.com/wall/wp-content/uploads/2023/04/20230517.jpg
END:VEVENT
BEGIN:VEVENT
DTSTART;TZID=Asia/Tokyo:20230122T160000
DTEND;TZID=Asia/Tokyo:20230122T220000
DTSTAMP:20260422T125329
CREATED:20221130T150054Z
LAST-MODIFIED:20221222T094117Z
UID:221-1674403200-1674424800@nakano-dynamite.com
SUMMARY:Harvest
DESCRIPTION:2023.01.22(sun)\nOPEN16:00 START16:30\nDOORONLY! ￥1500+1D\nアノダイズヘッド\nFRACTURE　\n達磨　 \nBad Choice　\nSequel \nはいから　\nPLUCK\n\nHarvest\n@初台WALL
URL:https://nakano-dynamite.com/wall/event/2023-01-22/
LOCATION:初台WALL\, 西新宿　3-15-8-B1\, 新宿区\, 東京都\, 160-0023\, Japan
ATTACH;FMTTYPE=image/jpeg:https://nakano-dynamite.com/wall/wp-content/uploads/2022/12/1・22.jpg
END:VEVENT
END:VCALENDAR