BEGIN:VCALENDAR
VERSION:2.0
PRODID:-//Livehouse Wall - ECPv6.15.20//NONSGML v1.0//EN
CALSCALE:GREGORIAN
METHOD:PUBLISH
X-ORIGINAL-URL:https://nakano-dynamite.com/wall
X-WR-CALDESC:Livehouse Wall のイベント
REFRESH-INTERVAL;VALUE=DURATION:PT1H
X-Robots-Tag:noindex
X-PUBLISHED-TTL:PT1H
BEGIN:VTIMEZONE
TZID:Asia/Tokyo
BEGIN:STANDARD
TZOFFSETFROM:+0900
TZOFFSETTO:+0900
TZNAME:JST
DTSTART:20240101T000000
END:STANDARD
END:VTIMEZONE
BEGIN:VEVENT
DTSTART;TZID=Asia/Tokyo:20250526T190000
DTEND;TZID=Asia/Tokyo:20250526T220000
DTSTAMP:20260425T044405
CREATED:20250506T030545Z
LAST-MODIFIED:20250506T030545Z
UID:3719-1748286000-1748296800@nakano-dynamite.com
SUMMARY:WALLA WALLA
DESCRIPTION:2025.05.26(mon)\nOPEN 19:00\nSTART 19:30\nADV ¥1400\nDOOR ¥1900\n+1D\n\nサザンクロズ\nFLOWLINK\nkill me Elk\nはいから\n\n\n\nWALL pre.\nWALLA WALLA\n@初台WALL
URL:https://nakano-dynamite.com/wall/event/2025-05-26/
LOCATION:初台WALL\, 西新宿　3-15-8-B1\, 新宿区\, 東京都\, 160-0023\, Japan
ATTACH;FMTTYPE=image/jpeg:https://nakano-dynamite.com/wall/wp-content/uploads/2025/05/20250526.jpg
END:VEVENT
BEGIN:VEVENT
DTSTART;TZID=Asia/Tokyo:20250611T190000
DTEND;TZID=Asia/Tokyo:20250611T220000
DTSTAMP:20260425T044405
CREATED:20250524T124719Z
LAST-MODIFIED:20250524T124719Z
UID:3783-1749668400-1749679200@nakano-dynamite.com
SUMMARY:WALLA WALLA
DESCRIPTION:2025.06.11(wed)\nOPEN 19:00\nSTART 19:00\nENTRANCE FREE!!\n\n344(HYPER DISORDER)\nTIPPS\nはいから\nセージーガガ\n小野BOY\nシロー(TBTB!)\nヒロ(大衆酒場食堂レター) \n\n\nWALL pre.\nWALLA WALLA\n@初台WALL
URL:https://nakano-dynamite.com/wall/event/2025-06-11/
LOCATION:初台WALL\, 西新宿　3-15-8-B1\, 新宿区\, 東京都\, 160-0023\, Japan
ATTACH;FMTTYPE=image/jpeg:https://nakano-dynamite.com/wall/wp-content/uploads/2025/05/20250611.jpg
END:VEVENT
BEGIN:VEVENT
DTSTART;TZID=Asia/Tokyo:20250717T190000
DTEND;TZID=Asia/Tokyo:20250717T220000
DTSTAMP:20260425T044405
CREATED:20250709T112720Z
LAST-MODIFIED:20250709T112720Z
UID:3933-1752778800-1752789600@nakano-dynamite.com
SUMMARY:WALLA WALLA
DESCRIPTION:2025.07.17(thu)\nOPEN 19:00\nSTART 19:30\nDOOR ¥1900\n+1D\n\n裏ドラギャングスタ\nはいから\nbarcounters\nサザンクロズ \n\n-DJ-\n匠CREW\n\nWALL pre.\nWALLA WALLA\n@初台WALL
URL:https://nakano-dynamite.com/wall/event/2025-07-17/
LOCATION:初台WALL\, 西新宿　3-15-8-B1\, 新宿区\, 東京都\, 160-0023\, Japan
ATTACH;FMTTYPE=image/jpeg:https://nakano-dynamite.com/wall/wp-content/uploads/2025/07/20250717.jpg
END:VEVENT
BEGIN:VEVENT
DTSTART;TZID=Asia/Tokyo:20251030T183000
DTEND;TZID=Asia/Tokyo:20251030T220000
DTSTAMP:20260425T044405
CREATED:20251009T093153Z
LAST-MODIFIED:20251009T093153Z
UID:4271-1761849000-1761861600@nakano-dynamite.com
SUMMARY:PANIC SHOW~HALLOWEEN 2025~
DESCRIPTION:2025.10.30(thu)\nOPEN 18:30\nSTART 18:50\nDOOR ¥1900\n仮装割引 ¥900\n+1D\n\nJ-BOYz\nElmo Aoyama (from AUS)\n野村秀直\nご飯DEATHよ\nはいから\nサザンクロズ\nドラゴン岩村\n\n-DJ-\nセージーガガ\nオッケーボーイ \n\n\nJ-BOYz pre.\nPANIC SHOW\n@初台WALL
URL:https://nakano-dynamite.com/wall/event/2025-10-30/
LOCATION:初台WALL\, 西新宿　3-15-8-B1\, 新宿区\, 東京都\, 160-0023\, Japan
ATTACH;FMTTYPE=image/jpeg:https://nakano-dynamite.com/wall/wp-content/uploads/2025/10/20251030.jpg
END:VEVENT
BEGIN:VEVENT
DTSTART;TZID=Asia/Tokyo:20260326T183000
DTEND;TZID=Asia/Tokyo:20260326T220000
DTSTAMP:20260425T044405
CREATED:20260109T145139Z
LAST-MODIFIED:20260109T145139Z
UID:4534-1774549800-1774562400@nakano-dynamite.com
SUMMARY:【ムチオの卒業式】~2 STAGE GIG~
DESCRIPTION:2026.03.26(thu)\nOPEN 18:30\nSTART 19:00\nADV ¥1900\nDOOR ¥2400\n+1D\n\n人の気持ちがわからない\nHEXO\nはいから\n岡部晃\nスーパームチオ\nサザンクロズ\nスリルTHEスリル\n\n\n\nWALL pre.\nムチオの卒業式 ~2 STAGE GIG~\n@初台WALL
URL:https://nakano-dynamite.com/wall/event/2026-03-26/
LOCATION:初台WALL\, 西新宿　3-15-8-B1\, 新宿区\, 東京都\, 160-0023\, Japan
ATTACH;FMTTYPE=image/jpeg:https://nakano-dynamite.com/wall/wp-content/uploads/2026/01/20260326.jpg
END:VEVENT
END:VCALENDAR