BEGIN:VCALENDAR
VERSION:2.0
PRODID:-//Livehouse Wall - ECPv6.15.20//NONSGML v1.0//EN
CALSCALE:GREGORIAN
METHOD:PUBLISH
X-WR-CALNAME:Livehouse Wall
X-ORIGINAL-URL:https://nakano-dynamite.com/wall
X-WR-CALDESC:Livehouse Wall のイベント
REFRESH-INTERVAL;VALUE=DURATION:PT1H
X-Robots-Tag:noindex
X-PUBLISHED-TTL:PT1H
BEGIN:VTIMEZONE
TZID:Asia/Tokyo
BEGIN:STANDARD
TZOFFSETFROM:+0900
TZOFFSETTO:+0900
TZNAME:JST
DTSTART:20230101T000000
END:STANDARD
END:VTIMEZONE
BEGIN:VEVENT
DTSTART;TZID=Asia/Tokyo:20260122T190000
DTEND;TZID=Asia/Tokyo:20260122T220000
DTSTAMP:20260423T171835
CREATED:20251226T095855Z
LAST-MODIFIED:20251226T095855Z
UID:4495-1769108400-1769119200@nakano-dynamite.com
SUMMARY:BUCHIAGE NIGHT vol.3
DESCRIPTION:2026.01.22(thu)\nOPEN 19:00\nSTART 19:30\nADV ¥1000\nDOOR ¥1000\n+1D\n\nサカモトケンタ\nはりや\nyujiro ozaki\n腰越ジョー\n\n\n\nWALL pre.\nBUCHIAGE NIGHT vol.3\n@初台WALL
URL:https://nakano-dynamite.com/wall/event/2026-01-22/
LOCATION:初台WALL\, 西新宿　3-15-8-B1\, 新宿区\, 東京都\, 160-0023\, Japan
ATTACH;FMTTYPE=image/jpeg:https://nakano-dynamite.com/wall/wp-content/uploads/2025/12/20260122.jpg
END:VEVENT
BEGIN:VEVENT
DTSTART;TZID=Asia/Tokyo:20240612T183000
DTEND;TZID=Asia/Tokyo:20240612T220000
DTSTAMP:20260423T171835
CREATED:20240602T123031Z
LAST-MODIFIED:20240602T150624Z
UID:2566-1718217000-1718229600@nakano-dynamite.com
SUMMARY:ACOUSTIC NIGHT
DESCRIPTION:2024.06.12(wed)\nOPEN 18:30\nSTART 19:00\nDOOR￥2000\n+1D\n\n腰越ジョー\nはりや\nポコンチサイトー\nTUMA銃ゴロウ\nへっちゃん\nいち\n\n\nWALL pre.\nACOUSTIC NIGHT\n@初台WALL
URL:https://nakano-dynamite.com/wall/event/2024-06-12/
LOCATION:初台WALL\, 西新宿　3-15-8-B1\, 新宿区\, 東京都\, 160-0023\, Japan
ATTACH;FMTTYPE=image/jpeg:https://nakano-dynamite.com/wall/wp-content/uploads/2024/06/20240612-1.jpg
END:VEVENT
END:VCALENDAR