BEGIN:VCALENDAR
VERSION:2.0
PRODID:-//Livehouse Wall - ECPv6.15.20//NONSGML v1.0//EN
CALSCALE:GREGORIAN
METHOD:PUBLISH
X-ORIGINAL-URL:https://nakano-dynamite.com/wall
X-WR-CALDESC:Livehouse Wall のイベント
REFRESH-INTERVAL;VALUE=DURATION:PT1H
X-Robots-Tag:noindex
X-PUBLISHED-TTL:PT1H
BEGIN:VTIMEZONE
TZID:Asia/Tokyo
BEGIN:STANDARD
TZOFFSETFROM:+0900
TZOFFSETTO:+0900
TZNAME:JST
DTSTART:20240101T000000
END:STANDARD
END:VTIMEZONE
BEGIN:VEVENT
DTSTART;TZID=Asia/Tokyo:20251211T183000
DTEND;TZID=Asia/Tokyo:20251211T220000
DTSTAMP:20260422T094510
CREATED:20251203T085957Z
LAST-MODIFIED:20251203T085957Z
UID:4385-1765477800-1765490400@nakano-dynamite.com
SUMMARY:小野ボーイ生誕祭 lev.38
DESCRIPTION:2025.12.11(thu)\nOPEN 18:30\n入場無料\n\n-BANDS-\n百鬼夜恍\nFRACTURE\n\n-DJ-\nサバス田中\n小野ボーイ\nセージーガガ\nササノ\nちぇじぇま \n\n\n小野チルドレン有志一同 pre.\n小野ボーイ生誕祭 lev.38\n@初台WALL
URL:https://nakano-dynamite.com/wall/event/2025-12-11/
LOCATION:初台WALL\, 西新宿　3-15-8-B1\, 新宿区\, 東京都\, 160-0023\, Japan
ATTACH;FMTTYPE=image/jpeg:https://nakano-dynamite.com/wall/wp-content/uploads/2025/12/20251211.jpg
END:VEVENT
BEGIN:VEVENT
DTSTART;TZID=Asia/Tokyo:20260212T190000
DTEND;TZID=Asia/Tokyo:20260212T220000
DTSTAMP:20260422T094510
CREATED:20260129T094921Z
LAST-MODIFIED:20260129T094921Z
UID:4581-1770922800-1770933600@nakano-dynamite.com
SUMMARY:Big Red Fire Truck JAPAN TOUR 2026
DESCRIPTION:2026.02.12(thu)\nOPEN 19:00\nSTART 19:30\nADV ¥2500\nDOOR ¥3000\n+1D\n\nBig Red Fire Truck\nOver The Hill\n穴虎69\n\n-DJs-\nサバス田中\n\n\n\nWALL pre.\nBig Red Fire Truck JAPAN TOUR 2026\n@初台WALL
URL:https://nakano-dynamite.com/wall/event/2026-02-12/
LOCATION:初台WALL\, 西新宿　3-15-8-B1\, 新宿区\, 東京都\, 160-0023\, Japan
ATTACH;FMTTYPE=image/jpeg:https://nakano-dynamite.com/wall/wp-content/uploads/2026/01/20260212.jpg
END:VEVENT
END:VCALENDAR