BEGIN:VCALENDAR
VERSION:2.0
PRODID:-//Livehouse Wall - ECPv6.15.20//NONSGML v1.0//EN
CALSCALE:GREGORIAN
METHOD:PUBLISH
X-WR-CALNAME:Livehouse Wall
X-ORIGINAL-URL:https://nakano-dynamite.com/wall
X-WR-CALDESC:Livehouse Wall のイベント
REFRESH-INTERVAL;VALUE=DURATION:PT1H
X-Robots-Tag:noindex
X-PUBLISHED-TTL:PT1H
BEGIN:VTIMEZONE
TZID:Asia/Tokyo
BEGIN:STANDARD
TZOFFSETFROM:+0900
TZOFFSETTO:+0900
TZNAME:JST
DTSTART:20220101T000000
END:STANDARD
END:VTIMEZONE
BEGIN:VEVENT
DTSTART;TZID=Asia/Tokyo:20230707T183000
DTEND;TZID=Asia/Tokyo:20230707T220000
DTSTAMP:20260420T154923
CREATED:20230617T054140Z
LAST-MODIFIED:20230617T054140Z
UID:1350-1688754600-1688767200@nakano-dynamite.com
SUMMARY:GOGO!  WALL!
DESCRIPTION:2023.07.07 (fri)\nOPEN 18:30  START 19:00\nADV ¥1900 DOOR ¥2400 +1D\n\nHOW\nMyベストテープ\nTEENAGE AFTER PARTY\nシャウト中村とこんにちわ\n\nDeejay\nダルマシンゴ鵺\n徳川雷蔵\n\n\nWALL pre\nGOGO! WALL!\n＠初台WALL
URL:https://nakano-dynamite.com/wall/event/2023-07-07/
LOCATION:初台WALL\, 西新宿　3-15-8-B1\, 新宿区\, 東京都\, 160-0023\, Japan
ATTACH;FMTTYPE=image/jpeg:https://nakano-dynamite.com/wall/wp-content/uploads/2023/06/20230707.jpg
END:VEVENT
END:VCALENDAR