BEGIN:VCALENDAR
VERSION:2.0
PRODID:-//Livehouse Wall - ECPv6.15.20//NONSGML v1.0//EN
CALSCALE:GREGORIAN
METHOD:PUBLISH
X-WR-CALNAME:Livehouse Wall
X-ORIGINAL-URL:https://nakano-dynamite.com/wall
X-WR-CALDESC:Livehouse Wall のイベント
REFRESH-INTERVAL;VALUE=DURATION:PT1H
X-Robots-Tag:noindex
X-PUBLISHED-TTL:PT1H
BEGIN:VTIMEZONE
TZID:Asia/Tokyo
BEGIN:STANDARD
TZOFFSETFROM:+0900
TZOFFSETTO:+0900
TZNAME:JST
DTSTART:20230101T000000
END:STANDARD
END:VTIMEZONE
BEGIN:VEVENT
DTSTART;TZID=Asia/Tokyo:20240726T183000
DTEND;TZID=Asia/Tokyo:20240726T220000
DTSTAMP:20260422T152612
CREATED:20240711T114725Z
LAST-MODIFIED:20240711T114725Z
UID:2766-1722018600-1722031200@nakano-dynamite.com
SUMMARY:PUNK DE BOMB
DESCRIPTION:2024.07.26(fri)\nOPEN 18:30\nSTART 19:00\nDOOR ¥2000\n+1D\n\n冨井祐輔&にょろにょろコーラス団\nジュリエットの海\n1000s of cats\nSHAPEEN!!\nいち\n\nWALL pre.\nPUNK DE BOMB\n@初台WALL
URL:https://nakano-dynamite.com/wall/event/2024-07-26/
LOCATION:初台WALL\, 西新宿　3-15-8-B1\, 新宿区\, 東京都\, 160-0023\, Japan
ATTACH;FMTTYPE=image/jpeg:https://nakano-dynamite.com/wall/wp-content/uploads/2024/07/20240726.jpg
END:VEVENT
BEGIN:VEVENT
DTSTART;TZID=Asia/Tokyo:20240603T183000
DTEND;TZID=Asia/Tokyo:20240603T220000
DTSTAMP:20260422T152612
CREATED:20240602T063303Z
LAST-MODIFIED:20240602T063303Z
UID:2540-1717439400-1717452000@nakano-dynamite.com
SUMMARY:戒めロックンロール
DESCRIPTION:2024.06.03(mon)\nOPEN 18:30\nSTART 19:00\nADV￥2000\nDOOR￥2500\n+1D\n\nサザンクロズ\nSHAPEEN!!\nジュリエットの海\nクーズーズ\n\n\n\nWALL pre.\n戒めロックンロール\n@初台WALL
URL:https://nakano-dynamite.com/wall/event/2024-06-03/
LOCATION:初台WALL\, 西新宿　3-15-8-B1\, 新宿区\, 東京都\, 160-0023\, Japan
ATTACH;FMTTYPE=image/jpeg:https://nakano-dynamite.com/wall/wp-content/uploads/2024/06/20240603.jpg
END:VEVENT
END:VCALENDAR