BEGIN:VCALENDAR
VERSION:2.0
PRODID:-//Livehouse Wall - ECPv6.15.20//NONSGML v1.0//EN
CALSCALE:GREGORIAN
METHOD:PUBLISH
X-ORIGINAL-URL:https://nakano-dynamite.com/wall
X-WR-CALDESC:Livehouse Wall のイベント
REFRESH-INTERVAL;VALUE=DURATION:PT1H
X-Robots-Tag:noindex
X-PUBLISHED-TTL:PT1H
BEGIN:VTIMEZONE
TZID:Asia/Tokyo
BEGIN:STANDARD
TZOFFSETFROM:+0900
TZOFFSETTO:+0900
TZNAME:JST
DTSTART:20250101T000000
END:STANDARD
END:VTIMEZONE
BEGIN:VEVENT
DTSTART;TZID=Asia/Tokyo:20260218T183000
DTEND;TZID=Asia/Tokyo:20260218T220000
DTSTAMP:20260422T123639
CREATED:20260108T105933Z
LAST-MODIFIED:20260108T105933Z
UID:4520-1771439400-1771452000@nakano-dynamite.com
SUMMARY:ヤーマン注意報
DESCRIPTION:2026.02.18(wed)\nOPEN 18:30\nSTART 19:00\nADV ¥1900\nDOOR ¥2400\n+1D\n\n達磨\nOn Your Cheek\nノイジーマイノリティー\nPAiNKiLLER ADDiCTiON\nDIET OF DEATH\nTHE OGIKIZ \n\n\n\nWALL pre.\nヤーマン注意報\n@初台WALL
URL:https://nakano-dynamite.com/wall/event/2026-02-18/
LOCATION:初台WALL\, 西新宿　3-15-8-B1\, 新宿区\, 東京都\, 160-0023\, Japan
ATTACH;FMTTYPE=image/jpeg:https://nakano-dynamite.com/wall/wp-content/uploads/2026/01/20260218.jpg
END:VEVENT
END:VCALENDAR