BEGIN:VCALENDAR
VERSION:2.0
PRODID:-//Livehouse Wall - ECPv6.15.20//NONSGML v1.0//EN
CALSCALE:GREGORIAN
METHOD:PUBLISH
X-WR-CALNAME:Livehouse Wall
X-ORIGINAL-URL:https://nakano-dynamite.com/wall
X-WR-CALDESC:Livehouse Wall のイベント
REFRESH-INTERVAL;VALUE=DURATION:PT1H
X-Robots-Tag:noindex
X-PUBLISHED-TTL:PT1H
BEGIN:VTIMEZONE
TZID:Asia/Tokyo
BEGIN:STANDARD
TZOFFSETFROM:+0900
TZOFFSETTO:+0900
TZNAME:JST
DTSTART:20220101T000000
END:STANDARD
END:VTIMEZONE
BEGIN:VEVENT
DTSTART;TZID=Asia/Tokyo:20240610T190000
DTEND;TZID=Asia/Tokyo:20240610T220000
DTSTAMP:20260422T152132
CREATED:20240602T112148Z
LAST-MODIFIED:20240602T112148Z
UID:2563-1718046000-1718056800@nakano-dynamite.com
SUMMARY:ZAP!-初台WALL25周年 新装開店マンデーフリーギグシリーズ-
DESCRIPTION:2024.06.10(mon)\nOPEN 19:00\nSTART 19:30\nDOOR￥0\n+2D\n\nANOYO DANCE CLUB\nピーナッズ\nVote for Pedro\nDANCE WITH ME\n\n\nモリシマ pre.\nZAP!-初台WALL25周年 新装開店マンデーフリーギグシリーズ-\n@初台WALL
URL:https://nakano-dynamite.com/wall/event/2024-06-10/
LOCATION:初台WALL\, 西新宿　3-15-8-B1\, 新宿区\, 東京都\, 160-0023\, Japan
ATTACH;FMTTYPE=image/jpeg:https://nakano-dynamite.com/wall/wp-content/uploads/2024/06/20240610.jpg
END:VEVENT
BEGIN:VEVENT
DTSTART;TZID=Asia/Tokyo:20230223T180000
DTEND;TZID=Asia/Tokyo:20230223T220000
DTSTAMP:20260422T152132
CREATED:20211231T150052Z
LAST-MODIFIED:20230217T151134Z
UID:591-1677175200-1677189600@nakano-dynamite.com
SUMMARY:初台共闘会議
DESCRIPTION:2023.02.23(thu)\nOPEN 18:00 START 18:30\nDOOR ￥2000+1D\n\nピーナッズ\npenisboys\nクーズーズ\nHOW \nDANCE WITH ME\n\nWALL presents\n初台共闘会議 \n@初台WALL
URL:https://nakano-dynamite.com/wall/event/2023-02-23/
LOCATION:初台WALL\, 西新宿　3-15-8-B1\, 新宿区\, 東京都\, 160-0023\, Japan
ATTACH;FMTTYPE=image/jpeg:https://nakano-dynamite.com/wall/wp-content/uploads/2022/01/20230223.jpg
END:VEVENT
END:VCALENDAR