BEGIN:VCALENDAR
VERSION:2.0
PRODID:-//Livehouse Wall - ECPv6.15.20//NONSGML v1.0//EN
CALSCALE:GREGORIAN
METHOD:PUBLISH
X-ORIGINAL-URL:https://nakano-dynamite.com/wall
X-WR-CALDESC:Livehouse Wall のイベント
REFRESH-INTERVAL;VALUE=DURATION:PT1H
X-Robots-Tag:noindex
X-PUBLISHED-TTL:PT1H
BEGIN:VTIMEZONE
TZID:Asia/Tokyo
BEGIN:STANDARD
TZOFFSETFROM:+0900
TZOFFSETTO:+0900
TZNAME:JST
DTSTART:20240101T000000
END:STANDARD
END:VTIMEZONE
BEGIN:VEVENT
DTSTART;TZID=Asia/Tokyo:20250815T183000
DTEND;TZID=Asia/Tokyo:20250815T220000
DTSTAMP:20260425T043815
CREATED:20250717T121706Z
LAST-MODIFIED:20250717T121706Z
UID:3990-1755282600-1755295200@nakano-dynamite.com
SUMMARY:スナック臓物
DESCRIPTION:2025.08.15(fri)\nOPEN 18:30\nSTART 18:30\nDOOR ¥1400\n+1D\n\n腰越ジョー\n野村秀直\nダルマシンゴ夜鵺\nスーパームチオ\nポコンチサイトー\nユウコ\n\n-DJ-\n西荻\nワッシー\n\n-スナック-\n臓物\n\n\n\nWALL pre.\nスナック臓物\n@初台WALL
URL:https://nakano-dynamite.com/wall/event/2025-08-15/
LOCATION:初台WALL\, 西新宿　3-15-8-B1\, 新宿区\, 東京都\, 160-0023\, Japan
ATTACH;FMTTYPE=image/jpeg:https://nakano-dynamite.com/wall/wp-content/uploads/2025/07/20250815.jpg
END:VEVENT
BEGIN:VEVENT
DTSTART;TZID=Asia/Tokyo:20251230T120000
DTEND;TZID=Asia/Tokyo:20251230T170000
DTSTAMP:20260425T043815
CREATED:20251203T122955Z
LAST-MODIFIED:20251203T123036Z
UID:4419-1767096000-1767114000@nakano-dynamite.com
SUMMARY:OVERALL~バビロンシティのゆく年くる年~
DESCRIPTION:2025.12.30(tue)\nOPEN 12:00\nSTART 12:30\nDOOR ¥1400\n+1D\n\nUNDONE\nSIDE IMPACT\nSPLIT SECOND SKATER\nSOBUT\nHOW\n\n-DJ-\nワッシー\nセージーガガ\n\n\n\nHOW pre.\nOVERALL\n@初台WALL
URL:https://nakano-dynamite.com/wall/event/2025-12-30/
LOCATION:初台WALL\, 西新宿　3-15-8-B1\, 新宿区\, 東京都\, 160-0023\, Japan
ATTACH;FMTTYPE=image/jpeg:https://nakano-dynamite.com/wall/wp-content/uploads/2025/12/20251230.jpg
END:VEVENT
END:VCALENDAR