BEGIN:VCALENDAR
VERSION:2.0
PRODID:-//Livehouse Wall - ECPv6.15.20//NONSGML v1.0//EN
CALSCALE:GREGORIAN
METHOD:PUBLISH
X-WR-CALNAME:Livehouse Wall
X-ORIGINAL-URL:https://nakano-dynamite.com/wall
X-WR-CALDESC:Livehouse Wall のイベント
REFRESH-INTERVAL;VALUE=DURATION:PT1H
X-Robots-Tag:noindex
X-PUBLISHED-TTL:PT1H
BEGIN:VTIMEZONE
TZID:Asia/Tokyo
BEGIN:STANDARD
TZOFFSETFROM:+0900
TZOFFSETTO:+0900
TZNAME:JST
DTSTART:20220101T000000
END:STANDARD
END:VTIMEZONE
BEGIN:VEVENT
DTSTART;TZID=Asia/Tokyo:20230721T183000
DTEND;TZID=Asia/Tokyo:20230721T220000
DTSTAMP:20260423T123559
CREATED:20230511T145755Z
LAST-MODIFIED:20230517T091432Z
UID:1284-1689964200-1689976800@nakano-dynamite.com
SUMMARY:ラ.リ.ル
DESCRIPTION:2023.07.21 (Fri)\nOPEN 18:30  START 19:00\nDOOR ￥2000+1D\n\nDIET OF DEATH　 \nLEGEND OF TRUTH　 \nFRACTURE\n中学生棺桶\n\nWALL pre\nラ.リ.ル\n@初台WALL
URL:https://nakano-dynamite.com/wall/event/2023-07-21/
LOCATION:初台WALL\, 西新宿　3-15-8-B1\, 新宿区\, 東京都\, 160-0023\, Japan
ATTACH;FMTTYPE=image/jpeg:https://nakano-dynamite.com/wall/wp-content/uploads/2023/05/20230721-1.jpg
END:VEVENT
END:VCALENDAR