BEGIN:VCALENDAR
VERSION:2.0
PRODID:-//Livehouse Wall - ECPv6.15.20//NONSGML v1.0//EN
CALSCALE:GREGORIAN
METHOD:PUBLISH
X-WR-CALNAME:Livehouse Wall
X-ORIGINAL-URL:https://nakano-dynamite.com/wall
X-WR-CALDESC:Livehouse Wall のイベント
REFRESH-INTERVAL;VALUE=DURATION:PT1H
X-Robots-Tag:noindex
X-PUBLISHED-TTL:PT1H
BEGIN:VTIMEZONE
TZID:Asia/Tokyo
BEGIN:STANDARD
TZOFFSETFROM:+0900
TZOFFSETTO:+0900
TZNAME:JST
DTSTART:20210101T000000
END:STANDARD
END:VTIMEZONE
BEGIN:VEVENT
DTSTART;TZID=Asia/Tokyo:20260114T183000
DTEND;TZID=Asia/Tokyo:20260114T220000
DTSTAMP:20260421T064416
CREATED:20251224T124851Z
LAST-MODIFIED:20251224T124851Z
UID:4466-1768415400-1768428000@nakano-dynamite.com
SUMMARY:DYNAMITE JUSTICE
DESCRIPTION:2026.01.14(wed)\nOPEN 18:30\n入場無料\n\n-ACT-\nみよし\n\n-DJ-\nササノ\n乗り鉄\nKxExMxEx\nちぇじぇま\nセージーガガ\n小野ボーイ\n豪腕ラリアット\n\n\n\nWALL pre.\nDYNAMITE JUSTICE\n@初台WALL
URL:https://nakano-dynamite.com/wall/event/2026-01-14/
LOCATION:初台WALL\, 西新宿　3-15-8-B1\, 新宿区\, 東京都\, 160-0023\, Japan
ATTACH;FMTTYPE=image/jpeg:https://nakano-dynamite.com/wall/wp-content/uploads/2025/12/20260114.jpg
END:VEVENT
BEGIN:VEVENT
DTSTART;TZID=Asia/Tokyo:20250515T183000
DTEND;TZID=Asia/Tokyo:20250515T220000
DTSTAMP:20260421T064416
CREATED:20250506T025817Z
LAST-MODIFIED:20250506T025817Z
UID:3716-1747333800-1747346400@nakano-dynamite.com
SUMMARY:SOMETHING ELSE -Acoustic & DJ Night-
DESCRIPTION:2025.05.15(thu)\nOPEN/START 18:30\nDOOR ¥2000\n+1D\n\n寅山(しゃぶりなベイビーズ/The All Night Longs)\n宮原タクマロ\nカジハラタカシ\n安野公祐(サヨナラボーイ)\nKEI (Voice Percussionist)\n\n-DJ-\nLEINA(SHOTGUN)\nせいか\n乗り鉄\nオカー・キルミスター\n\n\n\n乗り鉄 Pre.\nSOMETHING ELSE\n-Acoustic & DJ Night- \n@初台WALL
URL:https://nakano-dynamite.com/wall/event/2025-05-15/
LOCATION:初台WALL\, 西新宿　3-15-8-B1\, 新宿区\, 東京都\, 160-0023\, Japan
ATTACH;FMTTYPE=image/jpeg:https://nakano-dynamite.com/wall/wp-content/uploads/2025/05/20250515.jpg
END:VEVENT
BEGIN:VEVENT
DTSTART;TZID=Asia/Tokyo:20250130T190000
DTEND;TZID=Asia/Tokyo:20250130T220000
DTSTAMP:20260421T064416
CREATED:20250108T124345Z
LAST-MODIFIED:20250108T124345Z
UID:3301-1738263600-1738274400@nakano-dynamite.com
SUMMARY:
DESCRIPTION:2025.01.30(thu)\nOPEN 19:00\nSTART 19:20\nADV ¥1900\nDOOR ¥2400\n+1D\nMUDDY AND THE GRANDMASTERS\nSloopy\nbar counters\nサザンクロズ\n\n-DJ-\n乗り鉄\n\n\nWALL pre.\nNEO BRAIN\n@初台WALL
URL:https://nakano-dynamite.com/wall/event/3301/
LOCATION:初台WALL\, 西新宿　3-15-8-B1\, 新宿区\, 東京都\, 160-0023\, Japan
ATTACH;FMTTYPE=image/jpeg:https://nakano-dynamite.com/wall/wp-content/uploads/2025/01/20250130.jpg
END:VEVENT
BEGIN:VEVENT
DTSTART;TZID=Asia/Tokyo:20250116T190000
DTEND;TZID=Asia/Tokyo:20250116T220000
DTSTAMP:20260421T064416
CREATED:20241222T075401Z
LAST-MODIFIED:20241222T075401Z
UID:3252-1737054000-1737064800@nakano-dynamite.com
SUMMARY:SOMETHING ELSE
DESCRIPTION:2025.01.16(thu)\nOPEN 19:00\nSTART 19:30\nDOOR ¥2000\n+1D\nChanChanCo.\nTable\nまこスケ(The mammy rows)\n\n-DJ-\nオカー・キルミスター\n乗り鉄\n\n乗り鉄 pre.\nSOMETHING ELSE\n@初台WALL
URL:https://nakano-dynamite.com/wall/event/2025-01-16/
LOCATION:初台WALL\, 西新宿　3-15-8-B1\, 新宿区\, 東京都\, 160-0023\, Japan
ATTACH;FMTTYPE=image/jpeg:https://nakano-dynamite.com/wall/wp-content/uploads/2024/12/20250116.jpg
END:VEVENT
BEGIN:VEVENT
DTSTART;TZID=Asia/Tokyo:20241127T183000
DTEND;TZID=Asia/Tokyo:20241127T190000
DTSTAMP:20260421T064416
CREATED:20241113T184307Z
LAST-MODIFIED:20241113T184308Z
UID:3150-1732732200-1732734000@nakano-dynamite.com
SUMMARY:DYNAMITE JUSTICE
DESCRIPTION:2024.11.27(wed)\nOPEN 18:30\nSTART 19:00\nNO CHARGE\n+2D\n\n-DJ-\nダルマシンゴ鵺\nワッシー\n乗り鉄\nせいか\n杏仁豆腐\nYUKI \n\n\n\nWALL pre.\nDYNAMITE JUSTICE\n@初台WALL
URL:https://nakano-dynamite.com/wall/event/2024-11-27/
LOCATION:初台WALL\, 西新宿　3-15-8-B1\, 新宿区\, 東京都\, 160-0023\, Japan
ATTACH;FMTTYPE=image/jpeg:https://nakano-dynamite.com/wall/wp-content/uploads/2024/11/20241127.jpg
END:VEVENT
BEGIN:VEVENT
DTSTART;TZID=Asia/Tokyo:20240720T153000
DTEND;TZID=Asia/Tokyo:20240720T220000
DTSTAMP:20260421T064416
CREATED:20240711T111842Z
LAST-MODIFIED:20240711T111842Z
UID:2760-1721489400-1721512800@nakano-dynamite.com
SUMMARY:So much love ～お見舞いGIG～
DESCRIPTION:2024.07.20(sat)\nOPEN 15:30\nSTART 16:00\nDOOR ¥400+1D\nAND BELIEVE\n天龍-Ten Ru-\nIL BASTARDO\nGOOD DREAM\nHOW\nbarcounters\nケビン(銚子)\n\n-DJ-\n乗り鉄\nササノ\nDJ西荻\n\n-FOOD-\nスタッズひとみ\n\nKayo pre.\nSo much love\n～お見舞いGIG～\n@初台WALL
URL:https://nakano-dynamite.com/wall/event/2024-07-20/
LOCATION:初台WALL\, 西新宿　3-15-8-B1\, 新宿区\, 東京都\, 160-0023\, Japan
ATTACH;FMTTYPE=image/jpeg:https://nakano-dynamite.com/wall/wp-content/uploads/2024/07/20240720.jpg
END:VEVENT
BEGIN:VEVENT
DTSTART;TZID=Asia/Tokyo:20240621T180000
DTEND;TZID=Asia/Tokyo:20240621T220000
DTSTAMP:20260421T064416
CREATED:20240609T130437Z
LAST-MODIFIED:20240609T130632Z
UID:2594-1718992800-1719007200@nakano-dynamite.com
SUMMARY:出張！Too Hot！〜初台WALL25周年記念スペシャル〜
DESCRIPTION:2024.06.21(fri)\nOPEN 18:00\nSTART 18:30\nADV ¥2400\nDOOR ¥2900\n+1D\n\nTHRH\nMELT4\nTobie\n逃した魚\nGRIMY DAY\n\n-DJ-\n乗り鉄\nたかぎジェ(JasonAndrew)\n\n\nBuzzFront pre.\n出張！Too Hot！〜初台WALL25周年記念スペシャル〜\n@初台WALL
URL:https://nakano-dynamite.com/wall/event/2024-06-21/
LOCATION:初台WALL\, 西新宿　3-15-8-B1\, 新宿区\, 東京都\, 160-0023\, Japan
ATTACH;FMTTYPE=image/jpeg:https://nakano-dynamite.com/wall/wp-content/uploads/2024/06/20240621.jpg
END:VEVENT
BEGIN:VEVENT
DTSTART;TZID=Asia/Tokyo:20240619T200000
DTEND;TZID=Asia/Tokyo:20240619T220000
DTSTAMP:20260421T064416
CREATED:20240607T145440Z
LAST-MODIFIED:20240607T145440Z
UID:2586-1718827200-1718834400@nakano-dynamite.com
SUMMARY:much love to you 〜wallのお誕生日〜
DESCRIPTION:2024.06.19(wed)\nOPEN/START\n20:00\nDOOR￥400\n+1D\n\n-BAND-\nGOOD DREAM\nザ・バイキング\n今泉まな\n\n-DJ-\n乗り鉄\n\n-FOOD-\nZAKURO\n\nKAYO pre.\nmuch love to you 〜wallのお誕生日〜\n@初台WALL
URL:https://nakano-dynamite.com/wall/event/2024-06-19/
LOCATION:初台WALL\, 西新宿　3-15-8-B1\, 新宿区\, 東京都\, 160-0023\, Japan
ATTACH;FMTTYPE=image/jpeg:https://nakano-dynamite.com/wall/wp-content/uploads/2024/06/20240619.jpg
END:VEVENT
BEGIN:VEVENT
DTSTART;TZID=Asia/Tokyo:20231028T140000
DTEND;TZID=Asia/Tokyo:20231028T220000
DTSTAMP:20260421T064416
CREATED:20231009T064553Z
LAST-MODIFIED:20231009T064553Z
UID:1599-1698501600-1698530400@nakano-dynamite.com
SUMMARY:蜘蛛の巣
DESCRIPTION:2023.10.28 (sat)\nOPEN 14:00  START 14:15\nADV/DOOR￥2400＋1D\nUnder22age Free(ID Check)\n\nイェン・ツー・パオ\nBEKSIN DA CULT\nFLING THING\nKAiMMENTAi\n999999999\nモザイクス\n0.001DAY\nstench\nCAL\ni's \n\n-DJ-\n乗り鉄\nMitsuo Fukuda\n-FOOD-\nマザーアース\n\n\n\ni's pre\n蜘蛛の巣\n@初台WALL
URL:https://nakano-dynamite.com/wall/event/2023-10-28/
LOCATION:初台WALL\, 西新宿　3-15-8-B1\, 新宿区\, 東京都\, 160-0023\, Japan
ATTACH;FMTTYPE=image/jpeg:https://nakano-dynamite.com/wall/wp-content/uploads/2023/09/20231028.jpg
END:VEVENT
BEGIN:VEVENT
DTSTART;TZID=Asia/Tokyo:20231025T183000
DTEND;TZID=Asia/Tokyo:20231025T183000
DTSTAMP:20260421T064416
CREATED:20231010T043402Z
LAST-MODIFIED:20231010T043402Z
UID:1648-1698258600-1698258600@nakano-dynamite.com
SUMMARY:Dynamite Justice
DESCRIPTION:2023.10.25 (wed)\nOPEN/START 18:30\nNO CHARGE 2DRINK(￥1200)\n＜DJ＞\n乗り鉄\nREM\nオカー･キルミスター\nMIYOSHI\nmamizona\n♡RiCCHAN\nいとぅー\n \n\nWALL pre\nDynamite Justice\n＠初台WALL
URL:https://nakano-dynamite.com/wall/event/2023-10-25/
LOCATION:初台WALL\, 西新宿　3-15-8-B1\, 新宿区\, 東京都\, 160-0023\, Japan
ATTACH;FMTTYPE=image/jpeg:https://nakano-dynamite.com/wall/wp-content/uploads/2023/10/20231025.jpg
END:VEVENT
BEGIN:VEVENT
DTSTART;TZID=Asia/Tokyo:20221122T000000
DTEND;TZID=Asia/Tokyo:20221122T235959
DTSTAMP:20260421T064416
CREATED:20221122T021946Z
LAST-MODIFIED:20221129T091605Z
UID:14-1669075200-1669161599@nakano-dynamite.com
SUMMARY:スナック臓物
DESCRIPTION:2022.11.22(tues)\nOPEN/START: 19:00-\n¥1\,000 (2D付)\n〜演奏〜\nJ-Boyz\nNASTIE\n平成寅吉 \n〜DJ〜\n乗り鉄\nウルバリン\n占いの館　シンディ\n \nスナック臓物\n＠初台WALL
URL:https://nakano-dynamite.com/wall/event/2022-11-22/
LOCATION:東京都
CATEGORIES:BAR/SNACK NIGHT
ATTACH;FMTTYPE=image/jpeg:https://nakano-dynamite.com/wall/wp-content/uploads/2022/11/2022-11-22.jpeg
END:VEVENT
END:VCALENDAR