BEGIN:VCALENDAR
VERSION:2.0
PRODID:-//Livehouse Wall - ECPv6.15.20//NONSGML v1.0//EN
CALSCALE:GREGORIAN
METHOD:PUBLISH
X-WR-CALNAME:Livehouse Wall
X-ORIGINAL-URL:https://nakano-dynamite.com/wall
X-WR-CALDESC:Livehouse Wall のイベント
REFRESH-INTERVAL;VALUE=DURATION:PT1H
X-Robots-Tag:noindex
X-PUBLISHED-TTL:PT1H
BEGIN:VTIMEZONE
TZID:Asia/Tokyo
BEGIN:STANDARD
TZOFFSETFROM:+0900
TZOFFSETTO:+0900
TZNAME:JST
DTSTART:20230101T000000
END:STANDARD
END:VTIMEZONE
BEGIN:VEVENT
DTSTART;TZID=Asia/Tokyo:20250213T183000
DTEND;TZID=Asia/Tokyo:20250213T220000
DTSTAMP:20260425T112507
CREATED:20250122T114203Z
LAST-MODIFIED:20250122T114203Z
UID:3333-1739471400-1739484000@nakano-dynamite.com
SUMMARY:LIKE A FLASH
DESCRIPTION:2025.02.13(thu)\nOPEN 18:30\nSTART 19:00\nADV/DOOR ¥1400\n+1D\nMONE¥i$GOD\nUNRUCH\n九蓮宝燈\nおまえ\n\n\n\nおまえ pre.\nLIKE A FLASH\n@初台WALL
URL:https://nakano-dynamite.com/wall/event/2025-02-13/
LOCATION:初台WALL\, 西新宿　3-15-8-B1\, 新宿区\, 東京都\, 160-0023\, Japan
ATTACH;FMTTYPE=image/jpeg:https://nakano-dynamite.com/wall/wp-content/uploads/2025/01/20250213.jpg
END:VEVENT
BEGIN:VEVENT
DTSTART;TZID=Asia/Tokyo:20241109T170000
DTEND;TZID=Asia/Tokyo:20241109T220000
DTSTAMP:20260425T112507
CREATED:20241019T072550Z
LAST-MODIFIED:20241019T072550Z
UID:3070-1731171600-1731189600@nakano-dynamite.com
SUMMARY:第四回 寺子屋GIG
DESCRIPTION:2024.11.09(sat)\nOPEN 17:00\nSTART 17:30\nADV ¥2000\nDOOR ¥2500\n+1D\n\nノイジーマイノリティー\n達磨\nアシックス★ブーメランズ\n破滅ENGINE\nKill The Gossip\n九蓮宝燈\n\n\nノイジーマイノリティー pre.\n第四回 寺子屋GIG\n@初台WALL
URL:https://nakano-dynamite.com/wall/event/2024-11-09/
LOCATION:初台WALL\, 西新宿　3-15-8-B1\, 新宿区\, 東京都\, 160-0023\, Japan
ATTACH;FMTTYPE=image/jpeg:https://nakano-dynamite.com/wall/wp-content/uploads/2024/10/20241109.jpg
END:VEVENT
END:VCALENDAR