BEGIN:VCALENDAR
VERSION:2.0
PRODID:-//Livehouse Wall - ECPv6.15.20//NONSGML v1.0//EN
CALSCALE:GREGORIAN
METHOD:PUBLISH
X-ORIGINAL-URL:https://nakano-dynamite.com/wall
X-WR-CALDESC:Livehouse Wall のイベント
REFRESH-INTERVAL;VALUE=DURATION:PT1H
X-Robots-Tag:noindex
X-PUBLISHED-TTL:PT1H
BEGIN:VTIMEZONE
TZID:Asia/Tokyo
BEGIN:STANDARD
TZOFFSETFROM:+0900
TZOFFSETTO:+0900
TZNAME:JST
DTSTART:20220101T000000
END:STANDARD
END:VTIMEZONE
BEGIN:VEVENT
DTSTART;TZID=Asia/Tokyo:20251112T183000
DTEND;TZID=Asia/Tokyo:20251112T220000
DTSTAMP:20260423T100618
CREATED:20251022T091747Z
LAST-MODIFIED:20251022T091750Z
UID:4313-1762972200-1762984800@nakano-dynamite.com
SUMMARY:ACOUSTIC NIGHT
DESCRIPTION:2025.11.12(wed)\nOPEN 18:30\nSTART 19:00\nDOOR ¥1400\n+1D\n\nコバヤシコトリ\n鯵島あじこ\nOQV\n冨井祐輔\nTATSURO\nYASTAMAN\nスーパームチオ \n\n\nWALL pre.\nACOUSTIC NIGHT\n@初台WALL
URL:https://nakano-dynamite.com/wall/event/2025-11-12/
LOCATION:初台WALL\, 西新宿　3-15-8-B1\, 新宿区\, 東京都\, 160-0023\, Japan
ATTACH;FMTTYPE=image/jpeg:https://nakano-dynamite.com/wall/wp-content/uploads/2025/10/20251112.jpg
END:VEVENT
BEGIN:VEVENT
DTSTART;TZID=Asia/Tokyo:20240111T183000
DTEND;TZID=Asia/Tokyo:20240111T220000
DTSTAMP:20260423T100618
CREATED:20231224T074831Z
LAST-MODIFIED:20231224T074831Z
UID:2191-1704997800-1705010400@nakano-dynamite.com
SUMMARY:ACOUSTIC NIGHT
DESCRIPTION:2024.01.11　(thu)\nOPEN 18:30  START 19:00\nDOOR ￥2000＋1D\n\n冨井祐輔 \nダイナマイト \n白雲繭子 \nやまだだ \n平成虎吉 \nポコンチサイトー\n\n\nWALL pre\nACOUSTIC NIGHT\n＠初台WALL
URL:https://nakano-dynamite.com/wall/event/2024-01-11/
LOCATION:初台WALL\, 西新宿　3-15-8-B1\, 新宿区\, 東京都\, 160-0023\, Japan
ATTACH;FMTTYPE=image/jpeg:https://nakano-dynamite.com/wall/wp-content/uploads/2023/12/20240111.jpg
END:VEVENT
BEGIN:VEVENT
DTSTART;TZID=Asia/Tokyo:20231009T163000
DTEND;TZID=Asia/Tokyo:20231009T220000
DTSTAMP:20260423T100618
CREATED:20230917T115205Z
LAST-MODIFIED:20230917T115205Z
UID:1577-1696869000-1696888800@nakano-dynamite.com
SUMMARY:オールスター★ヤッチン大感謝祭
DESCRIPTION:2023.10.09 (mon)\nOPEN 16:30  START 17:00\nDOOR￥2000＋1D\n\n冨井祐輔\nTable\n井上エリナバンド\nドラゴン岩村\nアノダイズヘッド\nKusabana \nGUILLOTINE TERROR \nダルマシンゴ鵺 \nDJ Y2N\n\n\nダイナマイトpre\nオールスター★ヤッチン大感謝祭\n＠初台WALL
URL:https://nakano-dynamite.com/wall/event/2023-10-09/
LOCATION:初台WALL\, 西新宿　3-15-8-B1\, 新宿区\, 東京都\, 160-0023\, Japan
CATEGORIES:ヤッチン祭
ATTACH;FMTTYPE=image/jpeg:https://nakano-dynamite.com/wall/wp-content/uploads/2023/09/20231009.jpg
END:VEVENT
BEGIN:VEVENT
DTSTART;TZID=Asia/Tokyo:20230709T153000
DTEND;TZID=Asia/Tokyo:20230709T220000
DTSTAMP:20260423T100618
CREATED:20230506T052903Z
LAST-MODIFIED:20230506T052903Z
UID:1259-1688916600-1688940000@nakano-dynamite.com
SUMMARY:ラ.リ.ルソニック2023
DESCRIPTION:2023.07.09 (sun)\nOPEN 15:30  START 16:00\nDOOR ￥2000+1D\n\nくるぴの　 \nIMPARA　 \nABOS　 \nヱヰ十　 \nHOW　 \nドラゴン岩村　 \nアノダイズヘッド　 \n冨井祐輔\n\n\nWALL pre\nラ.リ.ルソニック2023\n＠初台WALL
URL:https://nakano-dynamite.com/wall/event/2023-07-09/
LOCATION:初台WALL\, 西新宿　3-15-8-B1\, 新宿区\, 東京都\, 160-0023\, Japan
ATTACH;FMTTYPE=image/jpeg:https://nakano-dynamite.com/wall/wp-content/uploads/2023/05/20230709.jpg
END:VEVENT
END:VCALENDAR