BEGIN:VCALENDAR
VERSION:2.0
PRODID:-//Livehouse Wall - ECPv6.15.20//NONSGML v1.0//EN
CALSCALE:GREGORIAN
METHOD:PUBLISH
X-WR-CALNAME:Livehouse Wall
X-ORIGINAL-URL:https://nakano-dynamite.com/wall
X-WR-CALDESC:Livehouse Wall のイベント
REFRESH-INTERVAL;VALUE=DURATION:PT1H
X-Robots-Tag:noindex
X-PUBLISHED-TTL:PT1H
BEGIN:VTIMEZONE
TZID:Asia/Tokyo
BEGIN:STANDARD
TZOFFSETFROM:+0900
TZOFFSETTO:+0900
TZNAME:JST
DTSTART:20230101T000000
END:STANDARD
END:VTIMEZONE
BEGIN:VEVENT
DTSTART;TZID=Asia/Tokyo:20240929T123000
DTEND;TZID=Asia/Tokyo:20240929T180000
DTSTAMP:20260421T224611
CREATED:20240905T101303Z
LAST-MODIFIED:20240905T101303Z
UID:2966-1727613000-1727632800@nakano-dynamite.com
SUMMARY:NO WAR YES WALL
DESCRIPTION:2024.09.29(sun)\nOPEN 12:30\nSTART 13:00\nADV ¥2500\nDOOR ¥3000\n+1D\n\nBad Attack\nAfter The NUKES\nはたらきバンド\n\n\nWALL pre.\nNO WAR YES WALL\n@初台WALL
URL:https://nakano-dynamite.com/wall/event/2024-09-29/
LOCATION:初台WALL\, 西新宿　3-15-8-B1\, 新宿区\, 東京都\, 160-0023\, Japan
ATTACH;FMTTYPE=image/jpeg:https://nakano-dynamite.com/wall/wp-content/uploads/2024/09/20240929.jpg
END:VEVENT
BEGIN:VEVENT
DTSTART;TZID=Asia/Tokyo:20240928T183000
DTEND;TZID=Asia/Tokyo:20240928T220000
DTSTAMP:20260421T224611
CREATED:20240905T100551Z
LAST-MODIFIED:20240905T100552Z
UID:2963-1727548200-1727560800@nakano-dynamite.com
SUMMARY:SIN CITY DOORS
DESCRIPTION:2024.09.28(sat)\nOPEN 18:30\nSTART 19:00\nADV ¥2500\nDOOR ¥3000\n+1D\n\nstraights\nJESSY\nTHRILL THAT KILLS\nCABARETS\n\n-DJ-\nFRAN\nJoe the P Killa(Grind Chaos)\n\n\nJESSY pre.\nSIN CITY DOORS\n@初台WALL
URL:https://nakano-dynamite.com/wall/event/2024-09-28/
LOCATION:初台WALL\, 西新宿　3-15-8-B1\, 新宿区\, 東京都\, 160-0023\, Japan
ATTACH;FMTTYPE=image/jpeg:https://nakano-dynamite.com/wall/wp-content/uploads/2024/09/20240928.jpg
END:VEVENT
BEGIN:VEVENT
DTSTART;TZID=Asia/Tokyo:20240927T190000
DTEND;TZID=Asia/Tokyo:20240927T220000
DTSTAMP:20260421T224611
CREATED:20240905T094914Z
LAST-MODIFIED:20240905T094914Z
UID:2960-1727463600-1727474400@nakano-dynamite.com
SUMMARY:HOSTEL
DESCRIPTION:2024.09.27(fri)\nOPEN TBA\nSTART TBA\nDOOR ¥1900\n+1D\n\nroom10.4\nixtab\nINDIGNATION\n\n\n\nroom10.4 pre.\nHOSTEL\n@初台WALL
URL:https://nakano-dynamite.com/wall/event/2024-09-27/
LOCATION:初台WALL\, 西新宿　3-15-8-B1\, 新宿区\, 東京都\, 160-0023\, Japan
ATTACH;FMTTYPE=image/jpeg:https://nakano-dynamite.com/wall/wp-content/uploads/2024/09/20240927.jpg
END:VEVENT
BEGIN:VEVENT
DTSTART;TZID=Asia/Tokyo:20240926T190000
DTEND;TZID=Asia/Tokyo:20240926T220000
DTSTAMP:20260421T224611
CREATED:20240905T093507Z
LAST-MODIFIED:20240905T093507Z
UID:2957-1727377200-1727388000@nakano-dynamite.com
SUMMARY:桃源郷
DESCRIPTION:2024.09.26(thu)\nOPEN 19:00\nSTART 19:30\nDOOR ¥2000+1D\nkill me Elk\nKILLERS MATE\nDEEPFREEZEMANIA\ngloptin\n\nWALL pre.\n桃源郷\n@初台WALL
URL:https://nakano-dynamite.com/wall/event/2024-09-26/
LOCATION:初台WALL\, 西新宿　3-15-8-B1\, 新宿区\, 東京都\, 160-0023\, Japan
ATTACH;FMTTYPE=image/jpeg:https://nakano-dynamite.com/wall/wp-content/uploads/2024/09/20240926.jpg
END:VEVENT
BEGIN:VEVENT
DTSTART;TZID=Asia/Tokyo:20240925T183000
DTEND;TZID=Asia/Tokyo:20240925T220000
DTSTAMP:20260421T224611
CREATED:20240905T092831Z
LAST-MODIFIED:20240905T092831Z
UID:2954-1727289000-1727301600@nakano-dynamite.com
SUMMARY:GET UP AND GO
DESCRIPTION:2024.09.25(wed)\nOPEN 18:30\nSTART 19:00\nDOOR ¥2000\n+1D\n\nGrimy Day\nPALEISLAND\nSHAPEEN!!\nJETヒロシ\nサザンクロズ \n\n\nWALL pre.\nGET UP AND GO\n@初台WALL
URL:https://nakano-dynamite.com/wall/event/2024-09-25/
LOCATION:初台WALL\, 西新宿　3-15-8-B1\, 新宿区\, 東京都\, 160-0023\, Japan
ATTACH;FMTTYPE=image/jpeg:https://nakano-dynamite.com/wall/wp-content/uploads/2024/09/20240925.jpg
END:VEVENT
BEGIN:VEVENT
DTSTART;TZID=Asia/Tokyo:20240923T130000
DTEND;TZID=Asia/Tokyo:20240923T220000
DTSTAMP:20260421T224611
CREATED:20240911T142935Z
LAST-MODIFIED:20240911T142935Z
UID:2978-1727096400-1727128800@nakano-dynamite.com
SUMMARY:ZAP!〜SUMMER END〜
DESCRIPTION:2024.09.23(mon)\nOPEN 13:00\nSTART 13:30\nADV/DOOR ¥2500\n+1D\n\nCHEMTRAIL(札幌)\nsheersücker(札幌)\n7th Jet Balloon(長野)\nVote for Pedro\nHoboken Surprise\nroom10.4\n光分解\nピーポーズ\nおまえ\n\n\nモリシマ pre.\nZAP!〜SUMMER END〜\n@初台WALL
URL:https://nakano-dynamite.com/wall/event/2024-09-23/
LOCATION:初台WALL\, 西新宿　3-15-8-B1\, 新宿区\, 東京都\, 160-0023\, Japan
ATTACH;FMTTYPE=image/jpeg:https://nakano-dynamite.com/wall/wp-content/uploads/2024/09/20240923.jpg
END:VEVENT
BEGIN:VEVENT
DTSTART;TZID=Asia/Tokyo:20240922T160000
DTEND;TZID=Asia/Tokyo:20240922T220000
DTSTAMP:20260421T224611
CREATED:20240829T124445Z
LAST-MODIFIED:20240829T124445Z
UID:2946-1727020800-1727042400@nakano-dynamite.com
SUMMARY:Farewell To The Heroes Vol 4.5
DESCRIPTION:2024.09.22(sun)\nOPEN 16:00\nSTART 16:30\nADV ¥2500\nDOOR ¥3000\n+1D\n\nAxe helvete(⁠広島)\nBlack Market(⁠岐阜)\nNepenthes\nScrap Tambourine\nBlood Prophecy\nDeathblast\n\n-DJ-\nロドリゲス\n\n\nゴブリン pre.\nFarewell To The Heroes Vol 4.5 \n@初台WALL
URL:https://nakano-dynamite.com/wall/event/2024-09-22/
LOCATION:初台WALL\, 西新宿　3-15-8-B1\, 新宿区\, 東京都\, 160-0023\, Japan
ATTACH;FMTTYPE=image/jpeg:https://nakano-dynamite.com/wall/wp-content/uploads/2024/08/20240922.jpg
END:VEVENT
BEGIN:VEVENT
DTSTART;TZID=Asia/Tokyo:20240921T180000
DTEND;TZID=Asia/Tokyo:20240921T220000
DTSTAMP:20260421T224611
CREATED:20240829T123120Z
LAST-MODIFIED:20240829T124513Z
UID:2943-1726941600-1726956000@nakano-dynamite.com
SUMMARY:CRAFT SUMMER×初台オープンマイクショー
DESCRIPTION:2024.09.21(sat)\nOPEN 18:00\nSTART 19:00\n￥1200(2D付)\n\n店長はたこじゃあらへん！！\nたこ焼き大会だーー！！！\n\n\nSHIMADA pre\nCRAFT SUMMER×初台オープンマイクショ\n@初台WALL
URL:https://nakano-dynamite.com/wall/event/2024-09-21/
LOCATION:初台WALL\, 西新宿　3-15-8-B1\, 新宿区\, 東京都\, 160-0023\, Japan
ATTACH;FMTTYPE=image/jpeg:https://nakano-dynamite.com/wall/wp-content/uploads/2024/08/20240921.jpg
END:VEVENT
BEGIN:VEVENT
DTSTART;TZID=Asia/Tokyo:20240920T190000
DTEND;TZID=Asia/Tokyo:20240920T220000
DTSTAMP:20260421T224611
CREATED:20240829T120442Z
LAST-MODIFIED:20240829T125643Z
UID:2940-1726858800-1726869600@nakano-dynamite.com
SUMMARY:PUNK de BOMB
DESCRIPTION:2024.0920(fri)\nOPEN 19:00\nSTART 19:30\nDOOR ¥2000\n+1D\n\nHEXO\nDANCE WITH ME\nBAKINGPOWDER\nunburnable\n\nWALL pre.\nPUNK de BOMB\n@初台WALL
URL:https://nakano-dynamite.com/wall/event/2024-09-20/
LOCATION:初台WALL\, 西新宿　3-15-8-B1\, 新宿区\, 東京都\, 160-0023\, Japan
ATTACH;FMTTYPE=image/jpeg:https://nakano-dynamite.com/wall/wp-content/uploads/2024/08/20240920.jpg
END:VEVENT
BEGIN:VEVENT
DTSTART;TZID=Asia/Tokyo:20240919T180000
DTEND;TZID=Asia/Tokyo:20240919T220000
DTSTAMP:20260421T224611
CREATED:20240829T115155Z
LAST-MODIFIED:20240829T130606Z
UID:2937-1726768800-1726783200@nakano-dynamite.com
SUMMARY:BLOODAXE TOUR  INCLINATION JAPAN TOUR 2024
DESCRIPTION:2024.09.19(thu)\nOPEN 18:00\nSTART 18:30\nADV ¥4500\nDOOR ¥5500\n+1D\n\nINCLINATION\nETERNAL B\nC-GATE\nTORTURE SMILE\nYENFOR\n\nBLOODAXE TOUR pre.\nINCLINATION JAPAN TOUR 2024\n@初台WALL
URL:https://nakano-dynamite.com/wall/event/2024-09-19/
LOCATION:初台WALL\, 西新宿　3-15-8-B1\, 新宿区\, 東京都\, 160-0023\, Japan
ATTACH;FMTTYPE=image/jpeg:https://nakano-dynamite.com/wall/wp-content/uploads/2024/08/20240919.jpg
END:VEVENT
BEGIN:VEVENT
DTSTART;TZID=Asia/Tokyo:20240916T140000
DTEND;TZID=Asia/Tokyo:20240916T220000
DTSTAMP:20260421T224611
CREATED:20240829T112646Z
LAST-MODIFIED:20240829T130624Z
UID:2934-1726495200-1726524000@nakano-dynamite.com
SUMMARY:OVERALL
DESCRIPTION:2024.09.16(mon)\nOPEN 14:00\nSTART 14:30\nADV ¥2400\nDOOR ¥2900\n+1D\n\nHOW\n有刺鉄戦\nDEAD STOCK\nDOINGLIFE\nクーズーズ\n前川エクスプロージョン(長野)\nTOMBOTORI\n\n-DJ-\nセージーガガ\n\n-FOOD-\nバングイバオベ\n\nHOW pre.\nOVERALL\n@初台WALL
URL:https://nakano-dynamite.com/wall/event/2024-09-16/
LOCATION:初台WALL\, 西新宿　3-15-8-B1\, 新宿区\, 東京都\, 160-0023\, Japan
ATTACH;FMTTYPE=image/jpeg:https://nakano-dynamite.com/wall/wp-content/uploads/2024/08/20240916.jpg
END:VEVENT
BEGIN:VEVENT
DTSTART;TZID=Asia/Tokyo:20240915T160000
DTEND;TZID=Asia/Tokyo:20240915T220000
DTSTAMP:20260421T224611
CREATED:20240829T110936Z
LAST-MODIFIED:20240829T130806Z
UID:2932-1726416000-1726437600@nakano-dynamite.com
SUMMARY:ピーポーズのパピプペポパペパピー
DESCRIPTION:2024.09.15(sun)\nOPEN 16:00\nSTART 16:15\nDOOR ¥2400\nU-23 ¥1400\nU-18 ¥400\n(+1d) \n\nテレビ大陸音頭\nどついたるねん\nピーポーズ\n煩悩バイブ\nやっほー\nゆっくり走れ\nhypermiri\nMANGA SHOCK\nPICNIC YOU\nyujiro ozaki\nハァンタジー(OA)\n\n-FOOD-\n食事処春菊\n\n\nピーポーズ pre.\nピーポーズのパピプペポパペパピー\n@初台WALL
URL:https://nakano-dynamite.com/wall/event/2024-09-15/
LOCATION:初台WALL\, 西新宿　3-15-8-B1\, 新宿区\, 東京都\, 160-0023\, Japan
ATTACH;FMTTYPE=image/jpeg:https://nakano-dynamite.com/wall/wp-content/uploads/2024/08/20240915.jpg
END:VEVENT
BEGIN:VEVENT
DTSTART;TZID=Asia/Tokyo:20240914T170000
DTEND;TZID=Asia/Tokyo:20240914T220000
DTSTAMP:20260421T224611
CREATED:20240810T130251Z
LAST-MODIFIED:20240810T130645Z
UID:2921-1726333200-1726351200@nakano-dynamite.com
SUMMARY:GOLERS JAPAN TOUR 2024
DESCRIPTION:2024.09.14(sat)\nOPEN 17:00\nSTART 17:30\nADV ¥2400\nDOOR ¥3000\n+1D\n\nGOLERS(Vancouver\,CANADA)\nFLIPOUT A.A\nMORENOISE FOR LIFE\nDxIxE\n六根\nROCCON\n0.001DAY\n心臓レコード\n\n\nWALL pre.\nGOLERS Japan Tour 2024\n@初台WALL
URL:https://nakano-dynamite.com/wall/event/2024-09-14/
LOCATION:初台WALL\, 西新宿　3-15-8-B1\, 新宿区\, 東京都\, 160-0023\, Japan
ATTACH;FMTTYPE=image/jpeg:https://nakano-dynamite.com/wall/wp-content/uploads/2024/08/20240914.jpg
END:VEVENT
BEGIN:VEVENT
DTSTART;TZID=Asia/Tokyo:20240913T183000
DTEND;TZID=Asia/Tokyo:20240913T220000
DTSTAMP:20260421T224611
CREATED:20240810T114128Z
LAST-MODIFIED:20240810T114128Z
UID:2918-1726252200-1726264800@nakano-dynamite.com
SUMMARY:一斉検挙-純情派-
DESCRIPTION:2024.09.13(fri)\nOPEN 18:30\nSTART 19:00\nDOOR ¥2000\n+1D\n\nHEXO\nノイジーマイノリティー\nCAECUM\nダルマシンゴ鵺\nMEA CULPA\n\nダルマシンゴ鵺 pre.\n一斉検挙-純情派-\n@初台WALL
URL:https://nakano-dynamite.com/wall/event/2024-09-13/
LOCATION:初台WALL\, 西新宿　3-15-8-B1\, 新宿区\, 東京都\, 160-0023\, Japan
ATTACH;FMTTYPE=image/jpeg:https://nakano-dynamite.com/wall/wp-content/uploads/2024/08/20240913.jpg
END:VEVENT
BEGIN:VEVENT
DTSTART;TZID=Asia/Tokyo:20240912T183000
DTEND;TZID=Asia/Tokyo:20240912T220000
DTSTAMP:20260421T224611
CREATED:20240810T110737Z
LAST-MODIFIED:20240810T110737Z
UID:2914-1726165800-1726178400@nakano-dynamite.com
SUMMARY:NEW BRAIN
DESCRIPTION:2024.09.12(thu)\nOPEN 18:30\nSTART 19:00\nDOOR ¥2000\n+1D\n\nChapa.didgeridoo\ncalque\nQHOQ\nSPEARMEN\n\n\nWALL pre.\nNEW BRAIN\n@初台WALL
URL:https://nakano-dynamite.com/wall/event/2024-09-12/
LOCATION:初台WALL\, 西新宿　3-15-8-B1\, 新宿区\, 東京都\, 160-0023\, Japan
ATTACH;FMTTYPE=image/jpeg:https://nakano-dynamite.com/wall/wp-content/uploads/2024/08/20240912.jpg
END:VEVENT
BEGIN:VEVENT
DTSTART;TZID=Asia/Tokyo:20240911T183000
DTEND;TZID=Asia/Tokyo:20240911T220000
DTSTAMP:20260421T224611
CREATED:20240810T110218Z
LAST-MODIFIED:20240810T110753Z
UID:2911-1726079400-1726092000@nakano-dynamite.com
SUMMARY:BIG BONUS
DESCRIPTION:2024.09.11(wed)\nOPEN 18:30\nSTART 19:00\nDOOR ¥2000\n+1D\n\nスーパームチオ\nタケヒサ(RYDEEN/FVK)\nダーハマ\n百鬼夜恍\nサザンクロズ\n宮原タクマロ \n\n\nWALL pre.\nBIG BONUS\n@初台WALL
URL:https://nakano-dynamite.com/wall/event/2024-09-11/
LOCATION:初台WALL\, 西新宿　3-15-8-B1\, 新宿区\, 東京都\, 160-0023\, Japan
ATTACH;FMTTYPE=image/jpeg:https://nakano-dynamite.com/wall/wp-content/uploads/2024/08/20240911.jpg
END:VEVENT
BEGIN:VEVENT
DTSTART;TZID=Asia/Tokyo:20240908T160000
DTEND;TZID=Asia/Tokyo:20240908T220000
DTSTAMP:20260421T224611
CREATED:20240810T104914Z
LAST-MODIFIED:20240810T104914Z
UID:2908-1725811200-1725832800@nakano-dynamite.com
SUMMARY:SUNDAY UN-FES
DESCRIPTION:2024.09.08(sun)\nOPEN 16:00\nSTART 16:30\nADV ¥2000\nDOOR ¥2500\n+1D\n\nUNDONE\nHOW\nAnother Step\nBAD LAD ROLL\nShining Moments\n達磨\ni's\n\n\nUNDONE pre.\nSUNDAY UN-FES\n@初台WALL
URL:https://nakano-dynamite.com/wall/event/2024-09-08/
LOCATION:初台WALL\, 西新宿　3-15-8-B1\, 新宿区\, 東京都\, 160-0023\, Japan
ATTACH;FMTTYPE=image/jpeg:https://nakano-dynamite.com/wall/wp-content/uploads/2024/08/20240908.jpg
END:VEVENT
BEGIN:VEVENT
DTSTART;TZID=Asia/Tokyo:20240907T190000
DTEND;TZID=Asia/Tokyo:20240907T220000
DTSTAMP:20260421T224611
CREATED:20240810T103706Z
LAST-MODIFIED:20240810T103706Z
UID:2904-1725735600-1725746400@nakano-dynamite.com
SUMMARY:UNDEATH “MORE INSANE” ASIAN TOUR 2024
DESCRIPTION:2024.09.07(sat)\nOPEN 19:00\nSTART 19:30\nADV ¥4500\nDOOR ¥5000\n+1D\n\nUNDEATH\nHETEROPSY\nCAASSIMOLAR\n\n\n\nCKS Productions pre.\nUNDEATH “MORE INSANE” ASIAN TOUR 2024\n@初台WALL
URL:https://nakano-dynamite.com/wall/event/2024-09-07/
LOCATION:初台WALL\, 西新宿　3-15-8-B1\, 新宿区\, 東京都\, 160-0023\, Japan
ATTACH;FMTTYPE=image/jpeg:https://nakano-dynamite.com/wall/wp-content/uploads/2024/08/20240907.jpg
END:VEVENT
BEGIN:VEVENT
DTSTART;TZID=Asia/Tokyo:20240906T180000
DTEND;TZID=Asia/Tokyo:20240906T220000
DTSTAMP:20260421T224611
CREATED:20240810T100846Z
LAST-MODIFIED:20240810T100846Z
UID:2901-1725645600-1725660000@nakano-dynamite.com
SUMMARY:MAGICAL VIBES
DESCRIPTION:2024.09.06(fri)\nOPEN 18:00\nSTART 18:20\nADV ¥2400\nDOOR ¥2900\n+1D\n\nTable\nのっぺら\nthe denisons\nTHEバイキング\nダンカンバカヤロー！\nANOYO DANCE CLUB\n\nWALL pre.\nMAGICAL VIBES\n@初台WALL
URL:https://nakano-dynamite.com/wall/event/2024-09-06/
LOCATION:初台WALL\, 西新宿　3-15-8-B1\, 新宿区\, 東京都\, 160-0023\, Japan
ATTACH;FMTTYPE=image/jpeg:https://nakano-dynamite.com/wall/wp-content/uploads/2024/08/20240906.jpg
END:VEVENT
BEGIN:VEVENT
DTSTART;TZID=Asia/Tokyo:20240905T183000
DTEND;TZID=Asia/Tokyo:20240905T220000
DTSTAMP:20260421T224611
CREATED:20240810T100230Z
LAST-MODIFIED:20240810T100230Z
UID:2898-1725561000-1725573600@nakano-dynamite.com
SUMMARY:ACOUSTIC NIGHT
DESCRIPTION:2024.09.05(thu)\nOPEN 18:30\nSTART 19:00\nDOOR ¥2000+1D\nAtsushi Little Fats\nYASTAMAN\nダルマシンゴ鵺\n今泉まな\n伊藤悦士\nカワタリョウスケ(the droogies)\n河合ユウマ(絆創攻)\n\nWALL pre.\nACOUSTIC NIGHT\n@初台WALL
URL:https://nakano-dynamite.com/wall/event/2024-09-05/
LOCATION:初台WALL\, 西新宿　3-15-8-B1\, 新宿区\, 東京都\, 160-0023\, Japan
ATTACH;FMTTYPE=image/jpeg:https://nakano-dynamite.com/wall/wp-content/uploads/2024/08/20240905.jpg
END:VEVENT
BEGIN:VEVENT
DTSTART;TZID=Asia/Tokyo:20240904T183000
DTEND;TZID=Asia/Tokyo:20240904T220000
DTSTAMP:20260421T224611
CREATED:20240802T122058Z
LAST-MODIFIED:20240802T122144Z
UID:2892-1725474600-1725487200@nakano-dynamite.com
SUMMARY:THE POOR JAPAN TOUR 2024
DESCRIPTION:2024.09.04(wed)\nOPEN 18:30\nSTART 19:00\nADV ¥2500\nDOOR ¥3000\n+1D\n\nTHE POOR(Australia)\n三日月爆音団\nPUNiK\n刑鉄\nFirst Brew\n\nWALL pre.\nTHE POOR JAPAN TOUR 2024\n@初台WALL
URL:https://nakano-dynamite.com/wall/event/2024-09-04/
LOCATION:初台WALL\, 西新宿　3-15-8-B1\, 新宿区\, 東京都\, 160-0023\, Japan
ATTACH;FMTTYPE=image/jpeg:https://nakano-dynamite.com/wall/wp-content/uploads/2024/08/20240904.jpg
END:VEVENT
BEGIN:VEVENT
DTSTART;TZID=Asia/Tokyo:20240831T153000
DTEND;TZID=Asia/Tokyo:20240831T220000
DTSTAMP:20260421T224611
CREATED:20240727T110049Z
LAST-MODIFIED:20240730T090614Z
UID:2848-1725118200-1725141600@nakano-dynamite.com
SUMMARY:BOBROBSON TOKYO TOUR'24 day 1
DESCRIPTION:2024.08.31(sat)\nOPEN 15:30\nSTART 16:00\nDOOR ¥1800\n+2D\n\nBOBROBSON(大阪)\nFIVE NO RISK(大阪)\nHOGPiTS\nCAECUM\nMEXICAN AGE\nNINJA BOYZ\nSUN CHILDREN SUN\nhowboring \n\n\n\nWALL pre.\nBOBROBSON TOKYO TOUR'24 day 1\n@初台WALL
URL:https://nakano-dynamite.com/wall/event/2024-08-31/
LOCATION:初台WALL\, 西新宿　3-15-8-B1\, 新宿区\, 東京都\, 160-0023\, Japan
ATTACH;FMTTYPE=image/jpeg:https://nakano-dynamite.com/wall/wp-content/uploads/2024/07/20240831.jpg
END:VEVENT
BEGIN:VEVENT
DTSTART;TZID=Asia/Tokyo:20240830T183000
DTEND;TZID=Asia/Tokyo:20240830T220000
DTSTAMP:20260421T224611
CREATED:20240802T083555Z
LAST-MODIFIED:20240802T083555Z
UID:2884-1725042600-1725055200@nakano-dynamite.com
SUMMARY:"百鬼夜行と盆踊りのまに"
DESCRIPTION:2024.08.30(fri)\nOPEN 18:30\nSTART 19:15\nDOOR ¥2000\n+1D\n\nポコンチ斎藤\n砂上の楼閣\nにゃんにゃんブーメラン\nおまえ\n\nおまえ pre.\n"百鬼夜行と盆踊りのまに"\n@初台WALL
URL:https://nakano-dynamite.com/wall/event/2024-08-30/
LOCATION:初台WALL\, 西新宿　3-15-8-B1\, 新宿区\, 東京都\, 160-0023\, Japan
ATTACH;FMTTYPE=image/jpeg:https://nakano-dynamite.com/wall/wp-content/uploads/2024/08/20240830.jpg
END:VEVENT
BEGIN:VEVENT
DTSTART;TZID=Asia/Tokyo:20240829T180000
DTEND;TZID=Asia/Tokyo:20240829T220000
DTSTAMP:20260421T224611
CREATED:20240802T120139Z
LAST-MODIFIED:20240802T121019Z
UID:2887-1724954400-1724968800@nakano-dynamite.com
SUMMARY:Dynamite Justice
DESCRIPTION:2024.08.29(thu)\nOPEN 18:00\nSTART 18:30\nNO CHARGE\n2D(¥1200)\nワッシー\nAZUSA\nそうし\nKxExMxE\n小野ボーイ\nAYA\n爆アゲPOW太郎\n\nWALL pre.\nDynamite Justice\n@初台WALL
URL:https://nakano-dynamite.com/wall/event/2024-08-29/
LOCATION:初台WALL\, 西新宿　3-15-8-B1\, 新宿区\, 東京都\, 160-0023\, Japan
ATTACH;FMTTYPE=image/jpeg:https://nakano-dynamite.com/wall/wp-content/uploads/2024/08/20240829.jpg
END:VEVENT
BEGIN:VEVENT
DTSTART;TZID=Asia/Tokyo:20240827T120000
DTEND;TZID=Asia/Tokyo:20240827T220000
DTSTAMP:20260421T224611
CREATED:20240727T123455Z
LAST-MODIFIED:20240730T081233Z
UID:2851-1724760000-1724796000@nakano-dynamite.com
SUMMARY:Full Mosh Fest
DESCRIPTION:2024.08.27(tue)\nOPEN 12:00\nSTART 12:30\nADV ¥1500\nDOOR ¥2000\n+1D\n\n【Special Guests】\nABLAZE IN VEINS\nInFix\n\n【Circle】\nKMC(くされエン)\nOVER ALL MUSIC\n重音楽部\nHEAVEN\n軽音ROCK\n\n\nKMC pre.\nFull Mosh Fest\n@初台WALL
URL:https://nakano-dynamite.com/wall/event/2024-08-27/
LOCATION:初台WALL\, 西新宿　3-15-8-B1\, 新宿区\, 東京都\, 160-0023\, Japan
ATTACH;FMTTYPE=image/jpeg:https://nakano-dynamite.com/wall/wp-content/uploads/2024/07/20240827-1.jpg
END:VEVENT
BEGIN:VEVENT
DTSTART;TZID=Asia/Tokyo:20240825T160000
DTEND;TZID=Asia/Tokyo:20240825T220000
DTSTAMP:20260421T224611
CREATED:20240727T104720Z
LAST-MODIFIED:20240730T081242Z
UID:2844-1724601600-1724623200@nakano-dynamite.com
SUMMARY:SOULFUL SOUP-魂汁-vol.3
DESCRIPTION:2024.08.25(sun)\nOPEN 16:00\nSTART 16:30\nADV ¥1900\nDOOR ¥2400\n+1D\n\nORAMA\nノイジーマイノリティー\n絆創攻\nDrawing Collapse\n爆裂ジャイロ\nIL BASTARDO\nDxIxE\n達磨\n\n-FOOD-\nササノのごはん\n\n\n\nダルマシンゴ鵺 pre.\nSOULFUL SOUP-魂汁-vol.3 \n@初台WALL
URL:https://nakano-dynamite.com/wall/event/2024-08-25/
LOCATION:初台WALL\, 西新宿　3-15-8-B1\, 新宿区\, 東京都\, 160-0023\, Japan
ATTACH;FMTTYPE=image/jpeg:https://nakano-dynamite.com/wall/wp-content/uploads/2024/07/20240825-1.jpg
END:VEVENT
BEGIN:VEVENT
DTSTART;TZID=Asia/Tokyo:20240824T170000
DTEND;TZID=Asia/Tokyo:20240824T220000
DTSTAMP:20260421T224611
CREATED:20240727T103205Z
LAST-MODIFIED:20240730T081300Z
UID:2841-1724518800-1724536800@nakano-dynamite.com
SUMMARY:RAT RACE vol.??
DESCRIPTION:2024.08.24(sat)\nOPEN 17:00\nSTART 17:30\nADV ¥2000\nDOOR ¥2500\n+1D\n\nArcadian Starship(京都)\nWAR/ZIT\nTHE SMOG(大阪)\nWETNAP\nBISING\npenisboys\n\n-DJ-\nbisco\n\n\n\nDEBAUCH MOOD pre.\nRAT RACE vol.?? \n@初台WALL
URL:https://nakano-dynamite.com/wall/event/2024-08-24/
LOCATION:初台WALL\, 西新宿　3-15-8-B1\, 新宿区\, 東京都\, 160-0023\, Japan
ATTACH;FMTTYPE=image/jpeg:https://nakano-dynamite.com/wall/wp-content/uploads/2024/07/20240824.jpg
END:VEVENT
BEGIN:VEVENT
DTSTART;TZID=Asia/Tokyo:20240823T183000
DTEND;TZID=Asia/Tokyo:20240823T220000
DTSTAMP:20260421T224611
CREATED:20240810T092537Z
LAST-MODIFIED:20240810T092537Z
UID:2895-1724437800-1724450400@nakano-dynamite.com
SUMMARY:ZAP!
DESCRIPTION:2024.08.23(fri)\nOPEN 18:30\nSTART 19:00\nDOOR ¥2000\n+1D\n\nPLONQUOS\nゆっくり走れ\nTROPICAL DEATH\nピーポーズ\n\nモリシマ pre.\nZAP!\n@初台WALL
URL:https://nakano-dynamite.com/wall/event/2024-08-23/
LOCATION:初台WALL\, 西新宿　3-15-8-B1\, 新宿区\, 東京都\, 160-0023\, Japan
ATTACH;FMTTYPE=image/jpeg:https://nakano-dynamite.com/wall/wp-content/uploads/2024/08/20240823.jpg
END:VEVENT
BEGIN:VEVENT
DTSTART;TZID=Asia/Tokyo:20240822T183000
DTEND;TZID=Asia/Tokyo:20240822T220000
DTSTAMP:20260421T224611
CREATED:20240727T102247Z
LAST-MODIFIED:20240730T081307Z
UID:2838-1724351400-1724364000@nakano-dynamite.com
SUMMARY:初台にほえろ-リターンズ-
DESCRIPTION:2024.08.22(thu)\nOPEN 18:30\nSTART 19:00\nDOOR ¥2000\n+1D\n井上エリナ\n古那屋錦五郎一座\nサザンクロズ\n劇団たんぽぽ\nAchin'\n\nWALL pre.\n初台にほえろ-リターンズ-\n@初台WALL
URL:https://nakano-dynamite.com/wall/event/2024-08-22/
LOCATION:初台WALL\, 西新宿　3-15-8-B1\, 新宿区\, 東京都\, 160-0023\, Japan
ATTACH;FMTTYPE=image/jpeg:https://nakano-dynamite.com/wall/wp-content/uploads/2024/07/20240822.jpg
END:VEVENT
BEGIN:VEVENT
DTSTART;TZID=Asia/Tokyo:20240818T160000
DTEND;TZID=Asia/Tokyo:20240818T220000
DTSTAMP:20260421T224611
CREATED:20240727T100856Z
LAST-MODIFIED:20240730T081314Z
UID:2835-1723996800-1724018400@nakano-dynamite.com
SUMMARY:NEVER ENDING STORY vol.2
DESCRIPTION:2024.08.18(sun)\nOPEN 16:00\nSTART 16:30\nADV ¥2400\nDOOR ¥3000\n+1D\n\nAHOU'S LIFE\nOJO ROJO\ntresflag(群馬)\nfieldstuck\nSMART ALECK\nMyベストテープ\nZENITH ANGLE\n\n\n\nRYUJI(SMART ALECK) pre.\nNEVER ENDING STORY vol.2\n@初台WALL
URL:https://nakano-dynamite.com/wall/event/2024-08-18/
LOCATION:初台WALL\, 西新宿　3-15-8-B1\, 新宿区\, 東京都\, 160-0023\, Japan
ATTACH;FMTTYPE=image/jpeg:https://nakano-dynamite.com/wall/wp-content/uploads/2024/07/20240818.jpg
END:VEVENT
END:VCALENDAR