BEGIN:VCALENDAR
VERSION:2.0
PRODID:-//Livehouse Wall - ECPv6.15.20//NONSGML v1.0//EN
CALSCALE:GREGORIAN
METHOD:PUBLISH
X-WR-CALNAME:Livehouse Wall
X-ORIGINAL-URL:https://nakano-dynamite.com/wall
X-WR-CALDESC:Livehouse Wall のイベント
REFRESH-INTERVAL;VALUE=DURATION:PT1H
X-Robots-Tag:noindex
X-PUBLISHED-TTL:PT1H
BEGIN:VTIMEZONE
TZID:Asia/Tokyo
BEGIN:STANDARD
TZOFFSETFROM:+0900
TZOFFSETTO:+0900
TZNAME:JST
DTSTART:20230101T000000
END:STANDARD
END:VTIMEZONE
BEGIN:VEVENT
DTSTART;TZID=Asia/Tokyo:20241103T163000
DTEND;TZID=Asia/Tokyo:20241103T220000
DTSTAMP:20260421T232651
CREATED:20241003T133428Z
LAST-MODIFIED:20241003T133428Z
UID:3051-1730651400-1730671200@nakano-dynamite.com
SUMMARY:"これより先日本国憲法通用せず"
DESCRIPTION:2024.11.03(sun)\nOPEN 16:30\nSTART 17:00\nADV ¥2000\nDOOR ¥2500\n+1D\n\nABOS\nピーポーズ\nNINJA BOYZ\nCAECUM\nらすけべ\n有刺鉄戦\nafterpilldren\n\n-DJ-\nsazablizry\n\n\nCAECUM pre.\n"これより先日本国憲法通用せず" \n@初台WALL
URL:https://nakano-dynamite.com/wall/event/2024-11-03/
LOCATION:初台WALL\, 西新宿　3-15-8-B1\, 新宿区\, 東京都\, 160-0023\, Japan
ATTACH;FMTTYPE=image/jpeg:https://nakano-dynamite.com/wall/wp-content/uploads/2024/10/20241103.jpg
END:VEVENT
BEGIN:VEVENT
DTSTART;TZID=Asia/Tokyo:20241102T180000
DTEND;TZID=Asia/Tokyo:20241102T220000
DTSTAMP:20260421T232651
CREATED:20241006T135902Z
LAST-MODIFIED:20241006T135902Z
UID:3061-1730570400-1730584800@nakano-dynamite.com
SUMMARY:CITY OF HEAVEN vol.3
DESCRIPTION:2024.11.02(sat)\nOPEN TBA\nSTART TBA\nDOOR ¥2000\n+1D\n\nKAiMMENTAi\nstench\ni's\nand more....\n\n\nKAiMMENTAi pre.\nCITY OF HEAVEN\n@初台WALL
URL:https://nakano-dynamite.com/wall/event/2024-11-02/
LOCATION:初台WALL\, 西新宿　3-15-8-B1\, 新宿区\, 東京都\, 160-0023\, Japan
ATTACH;FMTTYPE=image/jpeg:https://nakano-dynamite.com/wall/wp-content/uploads/2024/10/20241102.jpg
END:VEVENT
BEGIN:VEVENT
DTSTART;TZID=Asia/Tokyo:20241101T185000
DTEND;TZID=Asia/Tokyo:20241101T220000
DTSTAMP:20260421T232651
CREATED:20241006T070242Z
LAST-MODIFIED:20241019T071022Z
UID:3055-1730487000-1730498400@nakano-dynamite.com
SUMMARY:第6回トーシロの遠吠え ~ブッ放し編~
DESCRIPTION:2024.11.01(fri)\nOPEN 18:50\nSTART 19:20\nDOOR ¥2000\n+1D\n\nDOINGLIFE\nサザンクロズ\nGOOD DREAM\nクーズーズ \n\n\n\nクーズーズ pre.\n第6回トーシロの遠吠え\n~ブッ放し編~\n@初台WALL
URL:https://nakano-dynamite.com/wall/event/2024-11-01/
LOCATION:初台WALL\, 西新宿　3-15-8-B1\, 新宿区\, 東京都\, 160-0023\, Japan
ATTACH;FMTTYPE=image/jpeg:https://nakano-dynamite.com/wall/wp-content/uploads/2024/10/20241101.jpg
END:VEVENT
BEGIN:VEVENT
DTSTART;TZID=Asia/Tokyo:20241031T183000
DTEND;TZID=Asia/Tokyo:20241031T220000
DTSTAMP:20260421T232651
CREATED:20241003T132600Z
LAST-MODIFIED:20241003T132600Z
UID:3048-1730399400-1730412000@nakano-dynamite.com
SUMMARY:HAPPY HELLOWEEN 2024
DESCRIPTION:2024.10.31(thu)\nOPEN 18:30\nSTART 19:00\nDOOR ¥2000+1D\n※仮装割引1Dのみ入場可能\n\n3000万パワーズ\nはいから\nTHE バイキング\nスーパームチオ\n劇団たんぽぽ\nオッケーボーイ\nセージーガガ\nDJサマービューティ\n\n\n\nWALL pre.\nHAPPY HELLOWEEN 2024\n@初台WALL
URL:https://nakano-dynamite.com/wall/event/2024-10-31/
LOCATION:初台WALL\, 西新宿　3-15-8-B1\, 新宿区\, 東京都\, 160-0023\, Japan
ATTACH;FMTTYPE=image/jpeg:https://nakano-dynamite.com/wall/wp-content/uploads/2024/10/20241031.jpg
END:VEVENT
BEGIN:VEVENT
DTSTART;TZID=Asia/Tokyo:20241030T180000
DTEND;TZID=Asia/Tokyo:20241030T220000
DTSTAMP:20260421T232651
CREATED:20241003T130448Z
LAST-MODIFIED:20241003T130448Z
UID:3045-1730311200-1730325600@nakano-dynamite.com
SUMMARY:DEEPSLEEP
DESCRIPTION:2024.10.30(wed)\nOPEN 18:00\nSTART 18:30\nDOOR ¥1900\n+1D\n\nNALUCK\nbedgravity\nInjury tape\nmypws\nアナベル・リー\n\n-DJ-\nNGYL\n\nモリシマ pre.\nDEEPSLEEP\n@初台WALL
URL:https://nakano-dynamite.com/wall/event/2024-10-30/
LOCATION:初台WALL\, 西新宿　3-15-8-B1\, 新宿区\, 東京都\, 160-0023\, Japan
ATTACH;FMTTYPE=image/jpeg:https://nakano-dynamite.com/wall/wp-content/uploads/2024/10/20241030.jpg
END:VEVENT
BEGIN:VEVENT
DTSTART;TZID=Asia/Tokyo:20241027T153000
DTEND;TZID=Asia/Tokyo:20241027T220000
DTSTAMP:20260421T232651
CREATED:20241003T125743Z
LAST-MODIFIED:20241003T125743Z
UID:3041-1730043000-1730066400@nakano-dynamite.com
SUMMARY:A Ray of Hope vol.07
DESCRIPTION:2024.10.27(sun)\nOPEN 15:30\nSTART 16:00\nADV ¥3000\nDOOR ¥4000\nU22 ¥2400\n+1D\n\nFIGHT IT OUT\nIT'S ALL GOOD\nuniverse last a ward\nTive\nmindcrime\nLIBRO\nBBBBBBB\nsugar\n仙人掌\n\n\neri pre.\nA Ray of Hope vol.07\n@初台WALL
URL:https://nakano-dynamite.com/wall/event/2024-10-27/
LOCATION:初台WALL\, 西新宿　3-15-8-B1\, 新宿区\, 東京都\, 160-0023\, Japan
ATTACH;FMTTYPE=image/jpeg:https://nakano-dynamite.com/wall/wp-content/uploads/2024/10/20241027.jpg
END:VEVENT
BEGIN:VEVENT
DTSTART;TZID=Asia/Tokyo:20241026T170000
DTEND;TZID=Asia/Tokyo:20241026T220000
DTSTAMP:20260421T232651
CREATED:20241002T091023Z
LAST-MODIFIED:20241002T091023Z
UID:3030-1729962000-1729980000@nakano-dynamite.com
SUMMARY:CODE OF CONDUCT Japan Tour Final
DESCRIPTION:2024.10.26(sat)\nOPEN TBA\nSTART TBA\nADV ¥3400\nDOOR ¥4400\n+1D\n\nCODE OF CONDUCT (From Switzerland)\nDUCT(1st show)\nSEWER\nDos Quatro\nROCKCRIMAZ\n\nand more… \n\nWALL pre.\nCODE OF CONDUCT Japan Tour Final\n@初台WALL
URL:https://nakano-dynamite.com/wall/event/2024-10-26/
LOCATION:初台WALL\, 西新宿　3-15-8-B1\, 新宿区\, 東京都\, 160-0023\, Japan
ATTACH;FMTTYPE=image/jpeg:https://nakano-dynamite.com/wall/wp-content/uploads/2024/10/20241026.jpg
END:VEVENT
BEGIN:VEVENT
DTSTART;TZID=Asia/Tokyo:20241025T183000
DTEND;TZID=Asia/Tokyo:20241025T220000
DTSTAMP:20260421T232651
CREATED:20241003T124620Z
LAST-MODIFIED:20241003T124621Z
UID:3038-1729881000-1729893600@nakano-dynamite.com
SUMMARY:CUT-RATE DRUGGIST Japan Tour 2024
DESCRIPTION:2024.10.25(fri)\nOPEN 18:30\nSTART 19:00\nADV ¥2000\nDOOR ¥2400\n+1D\n\nCUT-RATE DRUGGIST (from Oakland\, CA)\nDYPSOMANIIA DYNAMITES\nTHE JUNGLES!!!\nDANCE WITH ME\nDOINGLIFE\n\n\n\nWALL pre.\nCUT-RATE DRUGGIST Japan Tour 2024\n@初台WALL
URL:https://nakano-dynamite.com/wall/event/2024-10-25/
LOCATION:初台WALL\, 西新宿　3-15-8-B1\, 新宿区\, 東京都\, 160-0023\, Japan
ATTACH;FMTTYPE=image/jpeg:https://nakano-dynamite.com/wall/wp-content/uploads/2024/10/20241025.jpg
END:VEVENT
BEGIN:VEVENT
DTSTART;TZID=Asia/Tokyo:20241024T190000
DTEND;TZID=Asia/Tokyo:20241024T220000
DTSTAMP:20260421T232651
CREATED:20241002T084740Z
LAST-MODIFIED:20241002T084740Z
UID:3027-1729796400-1729807200@nakano-dynamite.com
SUMMARY:PUNK DE BOMB
DESCRIPTION:2024.10.24(thu)\nOPEN 19:00\nSTART 19:30\nDOOR ¥2000+1D\n\nBad Attack\n爆裂ジャイロ\nジャンケンズ\nHEXO\n\nWALL pre.\nPUNK DE BOMB\n@初台WALL
URL:https://nakano-dynamite.com/wall/event/2024-10-24/
LOCATION:初台WALL\, 西新宿　3-15-8-B1\, 新宿区\, 東京都\, 160-0023\, Japan
ATTACH;FMTTYPE=image/jpeg:https://nakano-dynamite.com/wall/wp-content/uploads/2024/10/20241024.jpg
END:VEVENT
BEGIN:VEVENT
DTSTART;TZID=Asia/Tokyo:20241023T184500
DTEND;TZID=Asia/Tokyo:20241023T220000
DTSTAMP:20260421T232651
CREATED:20241003T123548Z
LAST-MODIFIED:20241003T123644Z
UID:3034-1729709100-1729720800@nakano-dynamite.com
SUMMARY:ZAP!
DESCRIPTION:2024.10.23(wed)\nOPEN 18:45\nSTART 19:15\nDOOR ¥1900\n+1D\n\nHOW\nStain hung over\ncarabina\nゆっくり走れ\n\nモリシマ pre.\nZAP!\n@初台WALL
URL:https://nakano-dynamite.com/wall/event/2024-10-23/
LOCATION:初台WALL\, 西新宿　3-15-8-B1\, 新宿区\, 東京都\, 160-0023\, Japan
ATTACH;FMTTYPE=image/jpeg:https://nakano-dynamite.com/wall/wp-content/uploads/2024/10/20241023.jpg
END:VEVENT
BEGIN:VEVENT
DTSTART;TZID=Asia/Tokyo:20241020T163000
DTEND;TZID=Asia/Tokyo:20241020T220000
DTSTAMP:20260421T232651
CREATED:20240927T113950Z
LAST-MODIFIED:20241003T134612Z
UID:3020-1729441800-1729461600@nakano-dynamite.com
SUMMARY:Tear The Fascists Down Vol.2
DESCRIPTION:2024.10.20(sun)\nOPEN 16:30\nSTART 17:00\nADV ¥2000\nDOOR ¥2500\n+1D\n\nマダムロス\nKing Kill\nSPKEZ\nKagami\nLeech\nNegative Sun\nMea Culpa\n\n\nMea Culpa pre.\nTear The Fascists Down Vol.2\n@初台WALL
URL:https://nakano-dynamite.com/wall/event/2024-10-20/
LOCATION:初台WALL\, 西新宿　3-15-8-B1\, 新宿区\, 東京都\, 160-0023\, Japan
ATTACH;FMTTYPE=image/jpeg:https://nakano-dynamite.com/wall/wp-content/uploads/2024/09/20241020.jpg
END:VEVENT
BEGIN:VEVENT
DTSTART;TZID=Asia/Tokyo:20241019T150000
DTEND;TZID=Asia/Tokyo:20241019T220000
DTSTAMP:20260421T232651
CREATED:20240927T110154Z
LAST-MODIFIED:20240927T110154Z
UID:3017-1729350000-1729375200@nakano-dynamite.com
SUMMARY:Dogrun 6
DESCRIPTION:2024.10.19(sat)\nOPEN 15:00\nSTART 15:30\nADV ¥2500\nDOOR ¥3000\n+1D\n\nFrisBeeDog\nSOMEOLD\n忘れてモーテルズ\nRelents\nJAM MONKEY\nMEXICAN AGE\n石丸さん(ザ・シンナーズ/exSNAILRAMP)\nPADOLEX\n\n-DJ-\nKxExMxEx\n\nFrisBeeDog pre.\nDogrun!6\n@初台WALL
URL:https://nakano-dynamite.com/wall/event/2024-10-19/
LOCATION:初台WALL\, 西新宿　3-15-8-B1\, 新宿区\, 東京都\, 160-0023\, Japan
ATTACH;FMTTYPE=image/jpeg:https://nakano-dynamite.com/wall/wp-content/uploads/2024/09/20241019.jpg
END:VEVENT
BEGIN:VEVENT
DTSTART;TZID=Asia/Tokyo:20241017T183000
DTEND;TZID=Asia/Tokyo:20241017T220000
DTSTAMP:20260421T232651
CREATED:20241002T084302Z
LAST-MODIFIED:20241002T084302Z
UID:3024-1729189800-1729202400@nakano-dynamite.com
SUMMARY:@極上ナイト@
DESCRIPTION:2024.10.17(thu)\nOPEN 18:30\nSTART 19:00\nDOOR ¥2000+1D\n\nポップコーン汗\nサザンクロズ\ngloptin\nAchin'\nおまえ\n\nWALL pre.\n@極上ナイト@\n@初台WALL
URL:https://nakano-dynamite.com/wall/event/2024-10-17/
LOCATION:初台WALL\, 西新宿　3-15-8-B1\, 新宿区\, 東京都\, 160-0023\, Japan
ATTACH;FMTTYPE=image/jpeg:https://nakano-dynamite.com/wall/wp-content/uploads/2024/10/20241017.jpg
END:VEVENT
BEGIN:VEVENT
DTSTART;TZID=Asia/Tokyo:20241014T170000
DTEND;TZID=Asia/Tokyo:20241014T220000
DTSTAMP:20260421T232651
CREATED:20240926T103325Z
LAST-MODIFIED:20240926T103325Z
UID:3010-1728925200-1728943200@nakano-dynamite.com
SUMMARY:DUB CONNECTION
DESCRIPTION:2024.10.14(mon)\nOPEN 17:00\nSTART 17:45\nDOOR ¥2000\n+1D\n\n天狗ロッカーズ\nBOBOBO LTD\nLos Tequira Cokes\nNinja wi Ninja\nOJO ROJO\n\n-DJ-\nMASA&MITTUU\n(Militant Ites)\n\n天狗ロッカーズ pre.\nDUB CONNECTION\n@初台WALL
URL:https://nakano-dynamite.com/wall/event/2024-10-14/
LOCATION:初台WALL\, 西新宿　3-15-8-B1\, 新宿区\, 東京都\, 160-0023\, Japan
ATTACH;FMTTYPE=image/jpeg:https://nakano-dynamite.com/wall/wp-content/uploads/2024/09/20241014.jpg
END:VEVENT
BEGIN:VEVENT
DTSTART;TZID=Asia/Tokyo:20241013T163000
DTEND;TZID=Asia/Tokyo:20241013T220000
DTSTAMP:20260421T232651
CREATED:20240926T101846Z
LAST-MODIFIED:20240926T101846Z
UID:3007-1728837000-1728856800@nakano-dynamite.com
SUMMARY:STALAG 13 JAPAN TOUR 2024
DESCRIPTION:2024.10.13(sun)\nOPEN 16:30\nSTART 17:00\nADV ¥3000\nDOOR ¥3500\n+1D\n\nSTALAG 13(Oxnard\,CA)\nHARD CORE DUDE(Osaka)\nTHE EREXIONALs\nNO ALL\nMEXICAN AGE\nBAUMKUCHEN\nHOW\n\n\nHOW pre.\nSTALAG 13 JAPAN TOUR 2024\n@初台WALL
URL:https://nakano-dynamite.com/wall/event/2024-10-13/
LOCATION:初台WALL\, 西新宿　3-15-8-B1\, 新宿区\, 東京都\, 160-0023\, Japan
ATTACH;FMTTYPE=image/jpeg:https://nakano-dynamite.com/wall/wp-content/uploads/2024/09/20241013.jpg
END:VEVENT
BEGIN:VEVENT
DTSTART;TZID=Asia/Tokyo:20241012T150000
DTEND;TZID=Asia/Tokyo:20241012T220000
DTSTAMP:20260421T232651
CREATED:20240926T100903Z
LAST-MODIFIED:20240926T100903Z
UID:3004-1728745200-1728770400@nakano-dynamite.com
SUMMARY:CURIOSITY
DESCRIPTION:2024.10.12(sat)\nOPEN 15:00\nSTART 15:30\nADV ¥2400\nDOOR ¥3000\n+1D\n\nBURGER MACHINE\n地獄の砦\nsaves\n達磨\nド真ん中ズン\nHEXO\nMyベストテープ\nガラクタラジオ\nスーパームチオ\n\n\nBURGER MACHINE pre.\nCURIOSITY\n@初台WALL
URL:https://nakano-dynamite.com/wall/event/2024-10-12/
LOCATION:初台WALL\, 西新宿　3-15-8-B1\, 新宿区\, 東京都\, 160-0023\, Japan
ATTACH;FMTTYPE=image/jpeg:https://nakano-dynamite.com/wall/wp-content/uploads/2024/09/20241012.jpg
END:VEVENT
BEGIN:VEVENT
DTSTART;TZID=Asia/Tokyo:20241011T183000
DTEND;TZID=Asia/Tokyo:20241011T220000
DTSTAMP:20260421T232651
CREATED:20240926T091644Z
LAST-MODIFIED:20240926T091644Z
UID:3001-1728671400-1728684000@nakano-dynamite.com
SUMMARY:初台にほえろ
DESCRIPTION:2024.10.11(fri)\nOPEN 18:30\nSTART 19:00\nDOOR ¥2000\n+1D\n\n千本ノック\n桑原耀平\nKILLERS MATE\nCAECUM\n劇団TANPOPO\n\n\n\nWALL pre.\n初台にほえろ\n@初台WALL
URL:https://nakano-dynamite.com/wall/event/2024-10-11/
LOCATION:初台WALL\, 西新宿　3-15-8-B1\, 新宿区\, 東京都\, 160-0023\, Japan
ATTACH;FMTTYPE=image/jpeg:https://nakano-dynamite.com/wall/wp-content/uploads/2024/09/20241011.jpg
END:VEVENT
BEGIN:VEVENT
DTSTART;TZID=Asia/Tokyo:20241009T183000
DTEND;TZID=Asia/Tokyo:20241009T220000
DTSTAMP:20260421T232651
CREATED:20240926T090618Z
LAST-MODIFIED:20240926T090618Z
UID:2993-1728498600-1728511200@nakano-dynamite.com
SUMMARY:I HOPE PEACE 2024
DESCRIPTION:2024.10.09(wed)\nOPEN 18:30\nSTART 19:00\nDOOR ¥2000\n+1D\n\nスラングブギー\nGOOD DREAM\nTUMA銃ゴロウ\nSHAPEEN!!\n一色厚\n\n-DJ-\nOQU\n垂れ流しDJカトー\n\nWALL pre.\nI HOPE PEACE 2024\n@初台WALL
URL:https://nakano-dynamite.com/wall/event/2024-10-09/
LOCATION:初台WALL\, 西新宿　3-15-8-B1\, 新宿区\, 東京都\, 160-0023\, Japan
ATTACH;FMTTYPE=image/jpeg:https://nakano-dynamite.com/wall/wp-content/uploads/2024/09/20241009.jpg
END:VEVENT
BEGIN:VEVENT
DTSTART;TZID=Asia/Tokyo:20241006T180000
DTEND;TZID=Asia/Tokyo:20241006T220000
DTSTAMP:20260421T232651
CREATED:20240925T133425Z
LAST-MODIFIED:20240925T133425Z
UID:2990-1728237600-1728252000@nakano-dynamite.com
SUMMARY:"RATTLE AND ROLL" THE DISASTER POINTS "Lonesome Road Lullabies" TOUR
DESCRIPTION:2024.10.06(sun)\nOPEN 18:00\nSTART 18:30\nADV ¥2400\nDOOR ¥2900\n+1D\n\nJERSEY DEVIL\nTHE DISASTER POINTS\nCRISPY NUTS\nAGE OF KID\n\n\nJERSEY DEVIL pre.\nRATTLE AND ROLL\nTHE DISASTER POINTS\n"Lonesome Road Lullabies" TOUR\n@初台WALL
URL:https://nakano-dynamite.com/wall/event/2024-10-06/
LOCATION:初台WALL\, 西新宿　3-15-8-B1\, 新宿区\, 東京都\, 160-0023\, Japan
ATTACH;FMTTYPE=image/jpeg:https://nakano-dynamite.com/wall/wp-content/uploads/2024/09/20241006.jpg
END:VEVENT
BEGIN:VEVENT
DTSTART;TZID=Asia/Tokyo:20241005T170000
DTEND;TZID=Asia/Tokyo:20241005T220000
DTSTAMP:20260421T232651
CREATED:20240906T142717Z
LAST-MODIFIED:20240906T142717Z
UID:2974-1728147600-1728165600@nakano-dynamite.com
SUMMARY:ENDLESS SWARM JAPAN TOUR 2024
DESCRIPTION:2024.10.05(sat)\nOPEN 17:00\nSTART 17:30\nADV ¥2500\nDOOR ¥3000\n+1D\n\nENDLESS SWARM(scotland)\nMEA CULPA\nILL JOE\nFINAL EXIT\nELMO\nDoomsday \n\n\nWALL pre.\nENDLESS SWARM JAPAN TOUR 2024\n@初台WALL
URL:https://nakano-dynamite.com/wall/event/2024-10-05/
LOCATION:初台WALL\, 西新宿　3-15-8-B1\, 新宿区\, 東京都\, 160-0023\, Japan
ATTACH;FMTTYPE=image/jpeg:https://nakano-dynamite.com/wall/wp-content/uploads/2024/09/20241005.jpg
END:VEVENT
BEGIN:VEVENT
DTSTART;TZID=Asia/Tokyo:20241004T190000
DTEND;TZID=Asia/Tokyo:20241004T220000
DTSTAMP:20260421T232651
CREATED:20240906T081742Z
LAST-MODIFIED:20240906T081742Z
UID:2969-1728068400-1728079200@nakano-dynamite.com
SUMMARY:脳が溶ける奇病
DESCRIPTION:2024.10.04(fri)\nOPEN 19:00\nSTART 19:30\nDOOR ¥2000\n+1D\n\nGravavgrav\nExfago\n内田静男(from kito-mizukumi rouber\, 長谷川静男 etc)\nvltar(ex.94th6)\n\n\n\n死体カセットpre.\n脳が溶ける奇病\n@初台WALL
URL:https://nakano-dynamite.com/wall/event/2024-10-04/
LOCATION:初台WALL\, 西新宿　3-15-8-B1\, 新宿区\, 東京都\, 160-0023\, Japan
ATTACH;FMTTYPE=image/jpeg:https://nakano-dynamite.com/wall/wp-content/uploads/2024/09/20241004-1.jpg
END:VEVENT
BEGIN:VEVENT
DTSTART;TZID=Asia/Tokyo:20241003T183000
DTEND;TZID=Asia/Tokyo:20241003T220000
DTSTAMP:20260421T232651
CREATED:20240925T131936Z
LAST-MODIFIED:20240925T131936Z
UID:2987-1727980200-1727992800@nakano-dynamite.com
SUMMARY:MAGICAL VIBES
DESCRIPTION:2024.10.03(thu)\nOPEN 18:30\nSTART 19:00\nADV ¥2000+1D\nDOOR ¥2500+1D\n王\n桑原耀平\nGinga Naka\nやっさん@Longneck\nロバートDEピーコ\n冨井祐輔&にょろにょろコーラス団\n\nWALL pre.\nMAGICAL VIBES\n@初台WALL
URL:https://nakano-dynamite.com/wall/event/2024-10-03/
LOCATION:初台WALL\, 西新宿　3-15-8-B1\, 新宿区\, 東京都\, 160-0023\, Japan
ATTACH;FMTTYPE=image/jpeg:https://nakano-dynamite.com/wall/wp-content/uploads/2024/09/20241003.jpg
END:VEVENT
BEGIN:VEVENT
DTSTART;TZID=Asia/Tokyo:20241002T183000
DTEND;TZID=Asia/Tokyo:20241002T220000
DTSTAMP:20260421T232651
CREATED:20240925T130439Z
LAST-MODIFIED:20240925T130440Z
UID:2985-1727893800-1727906400@nakano-dynamite.com
SUMMARY:GET UP AND GO
DESCRIPTION:2024.10.02(wed)\nOPEN 18:30\nSTART 19:00\nDOOR ¥2000\n+1D\n\nS.A.T.S\nデッドバンビーズ\nPUNiK\nポコンチ斎藤\n\n\nWALL pre.\nGET UP AND GO\n@初台WALL
URL:https://nakano-dynamite.com/wall/event/2024-10-02/
LOCATION:初台WALL\, 西新宿　3-15-8-B1\, 新宿区\, 東京都\, 160-0023\, Japan
ATTACH;FMTTYPE=image/jpeg:https://nakano-dynamite.com/wall/wp-content/uploads/2024/09/20241002.jpg
END:VEVENT
BEGIN:VEVENT
DTSTART;TZID=Asia/Tokyo:20240929T123000
DTEND;TZID=Asia/Tokyo:20240929T180000
DTSTAMP:20260421T232651
CREATED:20240905T101303Z
LAST-MODIFIED:20240905T101303Z
UID:2966-1727613000-1727632800@nakano-dynamite.com
SUMMARY:NO WAR YES WALL
DESCRIPTION:2024.09.29(sun)\nOPEN 12:30\nSTART 13:00\nADV ¥2500\nDOOR ¥3000\n+1D\n\nBad Attack\nAfter The NUKES\nはたらきバンド\n\n\nWALL pre.\nNO WAR YES WALL\n@初台WALL
URL:https://nakano-dynamite.com/wall/event/2024-09-29/
LOCATION:初台WALL\, 西新宿　3-15-8-B1\, 新宿区\, 東京都\, 160-0023\, Japan
ATTACH;FMTTYPE=image/jpeg:https://nakano-dynamite.com/wall/wp-content/uploads/2024/09/20240929.jpg
END:VEVENT
BEGIN:VEVENT
DTSTART;TZID=Asia/Tokyo:20240928T183000
DTEND;TZID=Asia/Tokyo:20240928T220000
DTSTAMP:20260421T232651
CREATED:20240905T100551Z
LAST-MODIFIED:20240905T100552Z
UID:2963-1727548200-1727560800@nakano-dynamite.com
SUMMARY:SIN CITY DOORS
DESCRIPTION:2024.09.28(sat)\nOPEN 18:30\nSTART 19:00\nADV ¥2500\nDOOR ¥3000\n+1D\n\nstraights\nJESSY\nTHRILL THAT KILLS\nCABARETS\n\n-DJ-\nFRAN\nJoe the P Killa(Grind Chaos)\n\n\nJESSY pre.\nSIN CITY DOORS\n@初台WALL
URL:https://nakano-dynamite.com/wall/event/2024-09-28/
LOCATION:初台WALL\, 西新宿　3-15-8-B1\, 新宿区\, 東京都\, 160-0023\, Japan
ATTACH;FMTTYPE=image/jpeg:https://nakano-dynamite.com/wall/wp-content/uploads/2024/09/20240928.jpg
END:VEVENT
BEGIN:VEVENT
DTSTART;TZID=Asia/Tokyo:20240927T190000
DTEND;TZID=Asia/Tokyo:20240927T220000
DTSTAMP:20260421T232651
CREATED:20240905T094914Z
LAST-MODIFIED:20240905T094914Z
UID:2960-1727463600-1727474400@nakano-dynamite.com
SUMMARY:HOSTEL
DESCRIPTION:2024.09.27(fri)\nOPEN TBA\nSTART TBA\nDOOR ¥1900\n+1D\n\nroom10.4\nixtab\nINDIGNATION\n\n\n\nroom10.4 pre.\nHOSTEL\n@初台WALL
URL:https://nakano-dynamite.com/wall/event/2024-09-27/
LOCATION:初台WALL\, 西新宿　3-15-8-B1\, 新宿区\, 東京都\, 160-0023\, Japan
ATTACH;FMTTYPE=image/jpeg:https://nakano-dynamite.com/wall/wp-content/uploads/2024/09/20240927.jpg
END:VEVENT
BEGIN:VEVENT
DTSTART;TZID=Asia/Tokyo:20240926T190000
DTEND;TZID=Asia/Tokyo:20240926T220000
DTSTAMP:20260421T232651
CREATED:20240905T093507Z
LAST-MODIFIED:20240905T093507Z
UID:2957-1727377200-1727388000@nakano-dynamite.com
SUMMARY:桃源郷
DESCRIPTION:2024.09.26(thu)\nOPEN 19:00\nSTART 19:30\nDOOR ¥2000+1D\nkill me Elk\nKILLERS MATE\nDEEPFREEZEMANIA\ngloptin\n\nWALL pre.\n桃源郷\n@初台WALL
URL:https://nakano-dynamite.com/wall/event/2024-09-26/
LOCATION:初台WALL\, 西新宿　3-15-8-B1\, 新宿区\, 東京都\, 160-0023\, Japan
ATTACH;FMTTYPE=image/jpeg:https://nakano-dynamite.com/wall/wp-content/uploads/2024/09/20240926.jpg
END:VEVENT
BEGIN:VEVENT
DTSTART;TZID=Asia/Tokyo:20240925T183000
DTEND;TZID=Asia/Tokyo:20240925T220000
DTSTAMP:20260421T232651
CREATED:20240905T092831Z
LAST-MODIFIED:20240905T092831Z
UID:2954-1727289000-1727301600@nakano-dynamite.com
SUMMARY:GET UP AND GO
DESCRIPTION:2024.09.25(wed)\nOPEN 18:30\nSTART 19:00\nDOOR ¥2000\n+1D\n\nGrimy Day\nPALEISLAND\nSHAPEEN!!\nJETヒロシ\nサザンクロズ \n\n\nWALL pre.\nGET UP AND GO\n@初台WALL
URL:https://nakano-dynamite.com/wall/event/2024-09-25/
LOCATION:初台WALL\, 西新宿　3-15-8-B1\, 新宿区\, 東京都\, 160-0023\, Japan
ATTACH;FMTTYPE=image/jpeg:https://nakano-dynamite.com/wall/wp-content/uploads/2024/09/20240925.jpg
END:VEVENT
BEGIN:VEVENT
DTSTART;TZID=Asia/Tokyo:20240923T130000
DTEND;TZID=Asia/Tokyo:20240923T220000
DTSTAMP:20260421T232651
CREATED:20240911T142935Z
LAST-MODIFIED:20240911T142935Z
UID:2978-1727096400-1727128800@nakano-dynamite.com
SUMMARY:ZAP!〜SUMMER END〜
DESCRIPTION:2024.09.23(mon)\nOPEN 13:00\nSTART 13:30\nADV/DOOR ¥2500\n+1D\n\nCHEMTRAIL(札幌)\nsheersücker(札幌)\n7th Jet Balloon(長野)\nVote for Pedro\nHoboken Surprise\nroom10.4\n光分解\nピーポーズ\nおまえ\n\n\nモリシマ pre.\nZAP!〜SUMMER END〜\n@初台WALL
URL:https://nakano-dynamite.com/wall/event/2024-09-23/
LOCATION:初台WALL\, 西新宿　3-15-8-B1\, 新宿区\, 東京都\, 160-0023\, Japan
ATTACH;FMTTYPE=image/jpeg:https://nakano-dynamite.com/wall/wp-content/uploads/2024/09/20240923.jpg
END:VEVENT
BEGIN:VEVENT
DTSTART;TZID=Asia/Tokyo:20240922T160000
DTEND;TZID=Asia/Tokyo:20240922T220000
DTSTAMP:20260421T232651
CREATED:20240829T124445Z
LAST-MODIFIED:20240829T124445Z
UID:2946-1727020800-1727042400@nakano-dynamite.com
SUMMARY:Farewell To The Heroes Vol 4.5
DESCRIPTION:2024.09.22(sun)\nOPEN 16:00\nSTART 16:30\nADV ¥2500\nDOOR ¥3000\n+1D\n\nAxe helvete(⁠広島)\nBlack Market(⁠岐阜)\nNepenthes\nScrap Tambourine\nBlood Prophecy\nDeathblast\n\n-DJ-\nロドリゲス\n\n\nゴブリン pre.\nFarewell To The Heroes Vol 4.5 \n@初台WALL
URL:https://nakano-dynamite.com/wall/event/2024-09-22/
LOCATION:初台WALL\, 西新宿　3-15-8-B1\, 新宿区\, 東京都\, 160-0023\, Japan
ATTACH;FMTTYPE=image/jpeg:https://nakano-dynamite.com/wall/wp-content/uploads/2024/08/20240922.jpg
END:VEVENT
END:VCALENDAR