BEGIN:VCALENDAR
VERSION:2.0
PRODID:-//Livehouse Wall - ECPv6.15.20//NONSGML v1.0//EN
CALSCALE:GREGORIAN
METHOD:PUBLISH
X-WR-CALNAME:Livehouse Wall
X-ORIGINAL-URL:https://nakano-dynamite.com/wall
X-WR-CALDESC:Livehouse Wall のイベント
REFRESH-INTERVAL;VALUE=DURATION:PT1H
X-Robots-Tag:noindex
X-PUBLISHED-TTL:PT1H
BEGIN:VTIMEZONE
TZID:Asia/Tokyo
BEGIN:STANDARD
TZOFFSETFROM:+0900
TZOFFSETTO:+0900
TZNAME:JST
DTSTART:20240101T000000
END:STANDARD
END:VTIMEZONE
BEGIN:VEVENT
DTSTART;TZID=Asia/Tokyo:20250503T173000
DTEND;TZID=Asia/Tokyo:20250503T220000
DTSTAMP:20260421T151045
CREATED:20250410T085311Z
LAST-MODIFIED:20250410T085311Z
UID:3627-1746293400-1746309600@nakano-dynamite.com
SUMMARY:"OVERDOZE vol.1" DOZEONE 1st album release bash!!
DESCRIPTION:2025.05.03(sat)\nOPEN 17:30\nSTART 18:00\nADV ¥2400\nDOOR ¥3000\n+1D\n\nBEHIND THE 8 BALL\nETERNAL B\nDOMINATE\nSLUGGER\nDOZEONE\n\n\n\nDOZEONE pre.\n"OVERDOZE vol.1" DOZEONE 1st album release bash!!\n@初台WALL
URL:https://nakano-dynamite.com/wall/event/2025-05-03/
LOCATION:初台WALL\, 西新宿　3-15-8-B1\, 新宿区\, 東京都\, 160-0023\, Japan
ATTACH;FMTTYPE=image/jpeg:https://nakano-dynamite.com/wall/wp-content/uploads/2025/04/20250503.jpg
END:VEVENT
BEGIN:VEVENT
DTSTART;TZID=Asia/Tokyo:20250502T182000
DTEND;TZID=Asia/Tokyo:20250502T220000
DTSTAMP:20260421T151045
CREATED:20250410T084412Z
LAST-MODIFIED:20250419T140823Z
UID:3624-1746210000-1746223200@nakano-dynamite.com
SUMMARY:PUNK ROCK ELITE
DESCRIPTION:2025.05.02(fri)\nOPEN 18:20\nSTART 18:50\nADV ¥1900\nDOOR ¥2400\n+1D\nDOINGLIFE\nTHE DiSCLAPTiES\nMUDDY AND THE GRANDMASTERS\nBLASTER KID\nトイプードルズ\n\n\n\nWALL pre.\nPUNK ROCK ELITE\n@初台WALL
URL:https://nakano-dynamite.com/wall/event/2025-05-02/
LOCATION:初台WALL\, 西新宿　3-15-8-B1\, 新宿区\, 東京都\, 160-0023\, Japan
ATTACH;FMTTYPE=image/jpeg:https://nakano-dynamite.com/wall/wp-content/uploads/2025/04/20250502.jpg
END:VEVENT
BEGIN:VEVENT
DTSTART;TZID=Asia/Tokyo:20250501T185000
DTEND;TZID=Asia/Tokyo:20250501T220000
DTSTAMP:20260421T151045
CREATED:20250410T083914Z
LAST-MODIFIED:20250410T083914Z
UID:3621-1746125400-1746136800@nakano-dynamite.com
SUMMARY:2 STEPS BEHIND
DESCRIPTION:2025.05.01(thu)\nOPEN 18:50\nSTART 19:20\nADV ¥1900\nDOOR ¥2400\n+1D\n\n斉藤めい(バンド)\nneonrocks\nジュリエットの海\nthe denisons\n\n\n\nWALL pre.\n2 STEPS BEHIND\n@初台WALL
URL:https://nakano-dynamite.com/wall/event/2025-05-01/
LOCATION:初台WALL\, 西新宿　3-15-8-B1\, 新宿区\, 東京都\, 160-0023\, Japan
ATTACH;FMTTYPE=image/jpeg:https://nakano-dynamite.com/wall/wp-content/uploads/2025/04/20250501.jpg
END:VEVENT
BEGIN:VEVENT
DTSTART;TZID=Asia/Tokyo:20250430T180000
DTEND;TZID=Asia/Tokyo:20250430T220000
DTSTAMP:20260421T151045
CREATED:20250410T083142Z
LAST-MODIFIED:20250410T083143Z
UID:3618-1746036000-1746050400@nakano-dynamite.com
SUMMARY:TANKTOP
DESCRIPTION:2025.04.30(wed)\nOPEN 18:00\nSTART 18:30\nDOOR ¥2400\nU23 ¥1400\n+1D\n\nSOCCER.\nFIRE BOYS\nゆっくり走れ\nサヨナラボーイ\n煩悩バイブ\nペガサス団\n兄兄\n朽\n\n\nWALL pre.\nTANKTOP\n@初台WALL
URL:https://nakano-dynamite.com/wall/event/2025-04-30/
LOCATION:初台WALL\, 西新宿　3-15-8-B1\, 新宿区\, 東京都\, 160-0023\, Japan
ATTACH;FMTTYPE=image/jpeg:https://nakano-dynamite.com/wall/wp-content/uploads/2025/04/20250430.jpg
END:VEVENT
BEGIN:VEVENT
DTSTART;TZID=Asia/Tokyo:20250429T163000
DTEND;TZID=Asia/Tokyo:20250429T220000
DTSTAMP:20260421T151045
CREATED:20250320T104053Z
LAST-MODIFIED:20250320T104053Z
UID:3585-1745944200-1745964000@nakano-dynamite.com
SUMMARY:OVERALL
DESCRIPTION:2025.04.29(tue)\nOPEN 16:30\nSTART 17:00\nADV ¥2400\nDOOR ¥2900\n+1D\n\nHOW\nNAKED YEGGS(仙台)\nEIEFITS\nGOOD DREAM\nギョ・ビリーズ！\nRYDEEN\nHi-Gi\n\n\nHOW pre.\nOVERALL\n@初台WALL
URL:https://nakano-dynamite.com/wall/event/2025-04-29/
LOCATION:初台WALL\, 西新宿　3-15-8-B1\, 新宿区\, 東京都\, 160-0023\, Japan
ATTACH;FMTTYPE=image/jpeg:https://nakano-dynamite.com/wall/wp-content/uploads/2025/03/20250429.jpg
END:VEVENT
BEGIN:VEVENT
DTSTART;TZID=Asia/Tokyo:20250428T190000
DTEND;TZID=Asia/Tokyo:20250428T220000
DTSTAMP:20260421T151045
CREATED:20250404T094839Z
LAST-MODIFIED:20250404T094839Z
UID:3607-1745866800-1745877600@nakano-dynamite.com
SUMMARY:WALLA WALLA
DESCRIPTION:2025.04.28(mon)\nOPEN 19:00\nSTART 19:30\nADV ¥1400\nDOOR ¥1900\n+1D\nTHE YELLOW LADYBUG\nアナル＊パーラーズ\nFRENZAL CHAMB\n\n-DJ-\n西荻\nmamizo\nウルバリン\n\n\n\nWALL pre.\nWALLA WALLA\n@初台WALL
URL:https://nakano-dynamite.com/wall/event/2025-04-28/
LOCATION:初台WALL\, 西新宿　3-15-8-B1\, 新宿区\, 東京都\, 160-0023\, Japan
ATTACH;FMTTYPE=image/jpeg:https://nakano-dynamite.com/wall/wp-content/uploads/2025/04/20250428.jpg
END:VEVENT
BEGIN:VEVENT
DTSTART;TZID=Asia/Tokyo:20250427T170000
DTEND;TZID=Asia/Tokyo:20250427T220000
DTSTAMP:20260421T151045
CREATED:20250321T084313Z
LAST-MODIFIED:20250321T084313Z
UID:3588-1745773200-1745791200@nakano-dynamite.com
SUMMARY:DUB CONNECTION
DESCRIPTION:2025.04.27(sun)\nOPEN 17:00\nSTART 17:45\nDOOR ¥2000\n+1D\n\nCHAPPARANKS\nNinja wi Ninja\n天狗ROCKERS\nLos Tequila Cokes\nThe Rolling Papers\n\n-DJ-\nMASA&MITTUU (Militant Ites)\nYujin Curtis\n\n\n\n天狗ROCKERS pre.\nDUB CONNECTION\n@初台WALL
URL:https://nakano-dynamite.com/wall/event/2025-04-27/
LOCATION:初台WALL\, 西新宿　3-15-8-B1\, 新宿区\, 東京都\, 160-0023\, Japan
ATTACH;FMTTYPE=image/jpeg:https://nakano-dynamite.com/wall/wp-content/uploads/2025/03/20250427.jpg
END:VEVENT
BEGIN:VEVENT
DTSTART;TZID=Asia/Tokyo:20250426T183000
DTEND;TZID=Asia/Tokyo:20250426T220000
DTSTAMP:20260421T151045
CREATED:20250320T103207Z
LAST-MODIFIED:20250320T103207Z
UID:3582-1745692200-1745704800@nakano-dynamite.com
SUMMARY:SIN CITY DOORS
DESCRIPTION:2025.04.26(sat)\nOPEN 18:30\nSTART 19:00\nADV ¥2500\nDOOR ¥3000\n+1D\nJESSY\nTHRILL THAT KILLS\nBOLLOCKS FRANKEN\nD.N.K \n\n-DJ-\nFRAN\nJoe the P Killa (Grind Chaos) \n\n\n\nJESSY pre.\nSIN CITY DOORS\n@初台WALL
URL:https://nakano-dynamite.com/wall/event/2025-04-26/
LOCATION:初台WALL\, 西新宿　3-15-8-B1\, 新宿区\, 東京都\, 160-0023\, Japan
ATTACH;FMTTYPE=image/jpeg:https://nakano-dynamite.com/wall/wp-content/uploads/2025/03/20250426.jpg
END:VEVENT
BEGIN:VEVENT
DTSTART;TZID=Asia/Tokyo:20250424T180000
DTEND;TZID=Asia/Tokyo:20250424T220000
DTSTAMP:20260421T151045
CREATED:20250320T102533Z
LAST-MODIFIED:20250320T102533Z
UID:3579-1745517600-1745532000@nakano-dynamite.com
SUMMARY:春はあけぼの ~鵺の花道 2ステージGIG~
DESCRIPTION:2025.04.24(thu)\nOPEN 18:00\nSTART 18:30\nDOOR ¥1900\n+1D\n\n達磨\n0.001DAY\nHExSO\n茄子亭\nSloopy\nAnotherstep\nノイジーマイノリティー \n\n \n\nWALL pre.\n春はあけぼの\n@初台WALL
URL:https://nakano-dynamite.com/wall/event/2025-04-24/
LOCATION:初台WALL\, 西新宿　3-15-8-B1\, 新宿区\, 東京都\, 160-0023\, Japan
ATTACH;FMTTYPE=image/jpeg:https://nakano-dynamite.com/wall/wp-content/uploads/2025/03/20250424.jpg
END:VEVENT
BEGIN:VEVENT
DTSTART;TZID=Asia/Tokyo:20250423T183000
DTEND;TZID=Asia/Tokyo:20250423T220000
DTSTAMP:20260421T151045
CREATED:20250320T101918Z
LAST-MODIFIED:20250320T101918Z
UID:3576-1745433000-1745445600@nakano-dynamite.com
SUMMARY:2 STAGE DAY!!!!
DESCRIPTION:2025.04.23(wed)\nOPEN 18:30\nSTART 19:00\nadv ¥1900\nDOOR ¥2400\nU22 ¥1000\n+1D\n\nヤングおじいちゃん\nトイプードルズ\nyujiro ozaki\n光分解\nHonninman\n死球\nFUCKER\n\n\nHaruna pre.\n2 STAGE DAY!!!!\n@初台WALL
URL:https://nakano-dynamite.com/wall/event/2025-04-23/
LOCATION:初台WALL\, 西新宿　3-15-8-B1\, 新宿区\, 東京都\, 160-0023\, Japan
ATTACH;FMTTYPE=image/jpeg:https://nakano-dynamite.com/wall/wp-content/uploads/2025/03/20250423.jpg
END:VEVENT
BEGIN:VEVENT
DTSTART;TZID=Asia/Tokyo:20250420T153000
DTEND;TZID=Asia/Tokyo:20250420T220000
DTSTAMP:20260421T151045
CREATED:20250321T085648Z
LAST-MODIFIED:20250321T085648Z
UID:3591-1745163000-1745186400@nakano-dynamite.com
SUMMARY:REVEL BALL Vol.2
DESCRIPTION:2025.04.20(sun)\nOPEN 15:30\nSTART 16:20\nDOOR ¥2400\n+1D\n\nTRES\nSPANAM\nIMPARA\nI Love You…OK？\nFAMILY MAN\n\n-DJ-\nITA⚡️SUN\n垂れ流しカトー\n\n\n\nTRES pre.\nREVEL BALL Vol.2\n@初台WALL
URL:https://nakano-dynamite.com/wall/event/2025-04-20/
LOCATION:初台WALL\, 西新宿　3-15-8-B1\, 新宿区\, 東京都\, 160-0023\, Japan
ATTACH;FMTTYPE=image/jpeg:https://nakano-dynamite.com/wall/wp-content/uploads/2025/03/20250420.jpg
END:VEVENT
BEGIN:VEVENT
DTSTART;TZID=Asia/Tokyo:20250419T150000
DTEND;TZID=Asia/Tokyo:20250419T220000
DTSTAMP:20260421T151045
CREATED:20250320T094420Z
LAST-MODIFIED:20250320T094420Z
UID:3573-1745074800-1745100000@nakano-dynamite.com
SUMMARY:SOUND SLAVE
DESCRIPTION:2025.04.19(sat)\nOPEN 15:00\nSTART 15:30\nADV ¥3000\nDOOR ¥3400\n+1D\nQuetzalcoatl\nUNDONE\n9991\nBROKEN LIFE\nBUMPED HIS HEAD\nAND BELIEVE\nTHE BREATH\nNK6\nnastie\n\n-DJ-\nDJ 13Jr.(2+8+3)\nOKBOY\n\n\n\nSHIMADA pre.\nSOUND SLAVE\n@初台WALL
URL:https://nakano-dynamite.com/wall/event/2025-04-19/
LOCATION:初台WALL\, 西新宿　3-15-8-B1\, 新宿区\, 東京都\, 160-0023\, Japan
ATTACH;FMTTYPE=image/jpeg:https://nakano-dynamite.com/wall/wp-content/uploads/2025/03/20250419.jpg
END:VEVENT
BEGIN:VEVENT
DTSTART;TZID=Asia/Tokyo:20250418T190000
DTEND;TZID=Asia/Tokyo:20250418T220000
DTSTAMP:20260421T151045
CREATED:20250320T093527Z
LAST-MODIFIED:20250320T093527Z
UID:3570-1745002800-1745013600@nakano-dynamite.com
SUMMARY:USELESS BOX
DESCRIPTION:2025.04.18(fri)\nOPEN 19:00\nSTART 19:30\nADV ¥3000\nDOOR ¥3500\n+1D\nBaby smoker\n-ONEMAN LIVE-\n\n\n\nBaby smoker pre.\nUSELESS BOX\n@初台WALL
URL:https://nakano-dynamite.com/wall/event/2025-04-18/
LOCATION:初台WALL\, 西新宿　3-15-8-B1\, 新宿区\, 東京都\, 160-0023\, Japan
ATTACH;FMTTYPE=image/jpeg:https://nakano-dynamite.com/wall/wp-content/uploads/2025/03/20250418.jpg
END:VEVENT
BEGIN:VEVENT
DTSTART;TZID=Asia/Tokyo:20250416T200000
DTEND;TZID=Asia/Tokyo:20250416T220000
DTSTAMP:20260421T151045
CREATED:20250404T094322Z
LAST-MODIFIED:20250404T094322Z
UID:3604-1744833600-1744840800@nakano-dynamite.com
SUMMARY:HEARTHCLIFF JAPAN TOUR 2025
DESCRIPTION:2025.04.16(wed)\nOPEN 20:00\nSTART 20:30\nDOOR ¥2000\n+1D\n\nHEATHCLIFF\n\n\nRNR TOURS pre.\nHEARTHCLIFF JAPAN TOUR 2025\n@初台WALL
URL:https://nakano-dynamite.com/wall/event/2025-04-16/
LOCATION:初台WALL\, 西新宿　3-15-8-B1\, 新宿区\, 東京都\, 160-0023\, Japan
ATTACH;FMTTYPE=image/jpeg:https://nakano-dynamite.com/wall/wp-content/uploads/2025/04/20250416.jpg
END:VEVENT
BEGIN:VEVENT
DTSTART;TZID=Asia/Tokyo:20250413T150000
DTEND;TZID=Asia/Tokyo:20250413T220000
DTSTAMP:20260421T151045
CREATED:20250320T063701Z
LAST-MODIFIED:20250320T063701Z
UID:3554-1744556400-1744581600@nakano-dynamite.com
SUMMARY:雨天決行vol.22
DESCRIPTION:2025.04.13(sun)\nOPEN 15:00\nSTART 15:30\nADV ¥3500\nDOOR ¥4500\n+1D\n\nLeft\nANCHOR\nDown the Rabbit-Hole\nSKA FREAKS\nank\nCrazy Chameleon\nWith A Splash \n\n\n\nLeft pre.\n雨天決行vol.22\n@初台WALL
URL:https://nakano-dynamite.com/wall/event/2025-04-13/
LOCATION:初台WALL\, 西新宿　3-15-8-B1\, 新宿区\, 東京都\, 160-0023\, Japan
ATTACH;FMTTYPE=image/jpeg:https://nakano-dynamite.com/wall/wp-content/uploads/2025/03/20250413.jpg
END:VEVENT
BEGIN:VEVENT
DTSTART;TZID=Asia/Tokyo:20250412T170000
DTEND;TZID=Asia/Tokyo:20250412T220000
DTSTAMP:20260421T151045
CREATED:20250320T070135Z
LAST-MODIFIED:20250320T070136Z
UID:3559-1744477200-1744495200@nakano-dynamite.com
SUMMARY:雨天決行vol.21
DESCRIPTION:2025.04.12(sat)\nOPEN 17:00\nSTART 18:00\nADV ¥3500\nDOOR ¥4500\n+1D\nLeft\n-ONEMAN LIVE-\n\n\n\nLeft pre.\n雨天決行vol.21\n@初台WALL
URL:https://nakano-dynamite.com/wall/event/2025-04-12/
LOCATION:初台WALL\, 西新宿　3-15-8-B1\, 新宿区\, 東京都\, 160-0023\, Japan
ATTACH;FMTTYPE=image/jpeg:https://nakano-dynamite.com/wall/wp-content/uploads/2025/03/20250413.jpg
END:VEVENT
BEGIN:VEVENT
DTSTART;TZID=Asia/Tokyo:20250410T183000
DTEND;TZID=Asia/Tokyo:20250410T220000
DTSTAMP:20260421T151045
CREATED:20250320T071255Z
LAST-MODIFIED:20250320T071255Z
UID:3564-1744309800-1744322400@nakano-dynamite.com
SUMMARY:MAGICAL VIBES
DESCRIPTION:2025.04.10(thu)\nOPEN 18:30\nSTART 19:00\nDOOR ¥1900\n+1D\n\nChapa.didgeridoo\nねたのよい\nロバートDEピーコ\nエンヤコーラーズ\n\n\n\nWALL pre.\nMAGICAL VIBES\n@初台WALL
URL:https://nakano-dynamite.com/wall/event/2025-04-10/
LOCATION:初台WALL\, 西新宿　3-15-8-B1\, 新宿区\, 東京都\, 160-0023\, Japan
ATTACH;FMTTYPE=image/jpeg:https://nakano-dynamite.com/wall/wp-content/uploads/2025/03/20250410.jpg
END:VEVENT
BEGIN:VEVENT
DTSTART;TZID=Asia/Tokyo:20250409T183000
DTEND;TZID=Asia/Tokyo:20250409T220000
DTSTAMP:20260421T151045
CREATED:20250320T070752Z
LAST-MODIFIED:20250320T070752Z
UID:3561-1744223400-1744236000@nakano-dynamite.com
SUMMARY:レッド・ムチオックス
DESCRIPTION:2025.04.09(wed)\nOPEN 18:30\nSTART 19:00\nDOOR ¥1900\n+1D\n\nHEXO\n爆裂ジャイロ\nスーパームチオ\nデッドバンビーズ\nBRAIN STUPID\nTHE VIKING \n\n\nWALL pre.\nレッド・ムチオックス\n@初台WALL
URL:https://nakano-dynamite.com/wall/event/2025-04-09/
LOCATION:初台WALL\, 西新宿　3-15-8-B1\, 新宿区\, 東京都\, 160-0023\, Japan
ATTACH;FMTTYPE=image/jpeg:https://nakano-dynamite.com/wall/wp-content/uploads/2025/03/20250409.jpg
END:VEVENT
BEGIN:VEVENT
DTSTART;TZID=Asia/Tokyo:20250406T180000
DTEND;TZID=Asia/Tokyo:20250406T220000
DTSTAMP:20260421T151045
CREATED:20250320T063036Z
LAST-MODIFIED:20250320T063036Z
UID:3551-1743962400-1743976800@nakano-dynamite.com
SUMMARY:｢つまり｣の原因となりますツアー Day1.
DESCRIPTION:2025.04.06(sun)\nOPEN 18:00\nSTART 18:30\nADV ¥2400\nDOOR ¥2900\n+1D\n\n破壊光線\nマヴォ\nTable\nSHOTGUN PLAYBOYZ\nCAECUM\n\n\n\n破壊光線 pre.\n｢つまり｣の原因となりますツアー Day1. \n@初台WALL
URL:https://nakano-dynamite.com/wall/event/2025-04-06/
LOCATION:初台WALL\, 西新宿　3-15-8-B1\, 新宿区\, 東京都\, 160-0023\, Japan
ATTACH;FMTTYPE=image/jpeg:https://nakano-dynamite.com/wall/wp-content/uploads/2025/03/20250406.jpg
END:VEVENT
BEGIN:VEVENT
DTSTART;TZID=Asia/Tokyo:20250405T173000
DTEND;TZID=Asia/Tokyo:20250405T220000
DTSTAMP:20260421T151045
CREATED:20250312T085014Z
LAST-MODIFIED:20250312T085014Z
UID:3537-1743874200-1743890400@nakano-dynamite.com
SUMMARY:AVALANCHE & ANA Japan Tour ～日豪ロイヤルランブル～
DESCRIPTION:2025.04.05(sat)\nOPEN 17:30\nSTART 18:00\nADV ¥2900\nDOOR ¥3400\n+1D\nAVALANCHE (from AUS) \nANA (from AUS)\nRAZOOLI\nTHE JUNGLES!!!\n刑⚡鉄\n\n\n\nWALL pre.\nAVALANCHE & ANA Japan Tour ～日豪ロイヤルランブル～\n@初台WALL
URL:https://nakano-dynamite.com/wall/event/2025-04-05/
LOCATION:初台WALL\, 西新宿　3-15-8-B1\, 新宿区\, 東京都\, 160-0023\, Japan
ATTACH;FMTTYPE=image/jpeg:https://nakano-dynamite.com/wall/wp-content/uploads/2025/03/20250405.jpg
END:VEVENT
BEGIN:VEVENT
DTSTART;TZID=Asia/Tokyo:20250404T190000
DTEND;TZID=Asia/Tokyo:20250404T220000
DTSTAMP:20260421T151045
CREATED:20250312T084021Z
LAST-MODIFIED:20250312T084021Z
UID:3534-1743793200-1743804000@nakano-dynamite.com
SUMMARY:In the BABYLON CITY
DESCRIPTION:2025.04.04(fri)\nOPEN 19:00\nSTART 19:30\nDOOR ¥1900\n+1D\nスラングブギー\nSOBUT\nFVK\nONE YAH ONE\n\n-DJ-\n垂れ流しDJカトー\nMINORU(PUNK ROCK LOCAL蕨)\n\n \nWALL pre.\nIn the BABYLON CTY\n@初台WALL
URL:https://nakano-dynamite.com/wall/event/2025-04-04/
LOCATION:初台WALL\, 西新宿　3-15-8-B1\, 新宿区\, 東京都\, 160-0023\, Japan
ATTACH;FMTTYPE=image/jpeg:https://nakano-dynamite.com/wall/wp-content/uploads/2025/03/20250404.jpg
END:VEVENT
BEGIN:VEVENT
DTSTART;TZID=Asia/Tokyo:20250403T183000
DTEND;TZID=Asia/Tokyo:20250403T220000
DTSTAMP:20260421T151045
CREATED:20250312T083446Z
LAST-MODIFIED:20250312T083446Z
UID:3531-1743705000-1743717600@nakano-dynamite.com
SUMMARY:西新宿狂想曲
DESCRIPTION:2025.04.03(thu)\nOPEN 18:30\nSTART 19:00\nDOOR ¥1900\n+1D\n\ntetote\nBlueVision\nコバヤシコトリ\nはしもとり\nCatchy \nダルマシンゴ夜鵺 \n\n\n\nWALL pre.\n西新宿狂想曲\n@初台WALL
URL:https://nakano-dynamite.com/wall/event/2025-04-03/
LOCATION:初台WALL\, 西新宿　3-15-8-B1\, 新宿区\, 東京都\, 160-0023\, Japan
ATTACH;FMTTYPE=image/jpeg:https://nakano-dynamite.com/wall/wp-content/uploads/2025/03/20250403.jpg
END:VEVENT
BEGIN:VEVENT
DTSTART;TZID=Asia/Tokyo:20250330T153000
DTEND;TZID=Asia/Tokyo:20250330T220000
DTSTAMP:20260421T151045
CREATED:20250222T065803Z
LAST-MODIFIED:20250222T065803Z
UID:3497-1743348600-1743372000@nakano-dynamite.com
SUMMARY:WITHOUT SYSTEM & WALL pre.
DESCRIPTION:2025.03.30(sun)\nOPEN 15:30\nSTART 16:00\nDOOR ¥1000\n+1D\n\nWITHOUT SYSTEM\nFALLING DOWN\n133ANDSPEX\nFLiPOUT A.A\nKISSSSAKI\n遊撃\nDE-CULTURES\n\n\n\nWITHOUT SYSTEM & WALL pre.\n@初台WALL
URL:https://nakano-dynamite.com/wall/event/2025-03-30/
LOCATION:初台WALL\, 西新宿　3-15-8-B1\, 新宿区\, 東京都\, 160-0023\, Japan
ATTACH;FMTTYPE=image/jpeg:https://nakano-dynamite.com/wall/wp-content/uploads/2025/02/20250330.jpg
END:VEVENT
BEGIN:VEVENT
DTSTART;TZID=Asia/Tokyo:20250329T170000
DTEND;TZID=Asia/Tokyo:20250329T220000
DTSTAMP:20260421T151045
CREATED:20250222T065017Z
LAST-MODIFIED:20250222T065017Z
UID:3494-1743267600-1743285600@nakano-dynamite.com
SUMMARY:ピーポーズのパピプペポパペパピー3
DESCRIPTION:2025.03.29(sat)\nOPEN 17:30\nSTART 17:45\nDOOR ¥1900\nU-23 ¥400\n+1D\nABOS\nbaduerykah\nFIRE BOYS\nmisaki!!\n黄倉未来\nでぶコーネリアスEX\nピーポーズ\n\n\n\nピーポーズ pre.\nピーポーズのパピプペポパペパピー3\n@初台WALL
URL:https://nakano-dynamite.com/wall/event/2025-03-29/
LOCATION:初台WALL\, 西新宿　3-15-8-B1\, 新宿区\, 東京都\, 160-0023\, Japan
ATTACH;FMTTYPE=image/jpeg:https://nakano-dynamite.com/wall/wp-content/uploads/2025/02/20250329.jpg
END:VEVENT
BEGIN:VEVENT
DTSTART;TZID=Asia/Tokyo:20250328T190000
DTEND;TZID=Asia/Tokyo:20250328T220000
DTSTAMP:20260421T151045
CREATED:20250222T064414Z
LAST-MODIFIED:20250222T064414Z
UID:3491-1743188400-1743199200@nakano-dynamite.com
SUMMARY:PURTENANCE (FIN)  Live in Japan 2025
DESCRIPTION:2025.03.28(fri)\nOPEN 19:00\nSTART 19:45\nADV ¥4900\nDOOR ¥5900\n+1D\nPURTENANCE (FIN)\nANATOMIA\n  \nCKS PRODUCTIONS pre.\nPURTENANCE (FIN) Live in Japan 2025\n@初台WALL
URL:https://nakano-dynamite.com/wall/event/2025-03-28/
LOCATION:初台WALL\, 西新宿　3-15-8-B1\, 新宿区\, 東京都\, 160-0023\, Japan
ATTACH;FMTTYPE=image/jpeg:https://nakano-dynamite.com/wall/wp-content/uploads/2025/02/20250328.jpg
END:VEVENT
BEGIN:VEVENT
DTSTART;TZID=Asia/Tokyo:20250327T183000
DTEND;TZID=Asia/Tokyo:20250327T220000
DTSTAMP:20260421T151045
CREATED:20250228T130137Z
LAST-MODIFIED:20250228T130137Z
UID:3511-1743100200-1743112800@nakano-dynamite.com
SUMMARY:CHERRY MOTHER FUCKER
DESCRIPTION:2025.03.27(thu)\nOPEN 18:30\nSTART 18:50\nADV ¥1400\nDOOR ¥1900\n+1D\n\nSloopy\nCAECUM\nおまえ\nトイプードルズ\n爆裂ジャイロ\n\n\n\nWALL pre.\nCHERRY MOTHER FUCKER\n@初台WALL
URL:https://nakano-dynamite.com/wall/event/2025-03-27/
LOCATION:初台WALL\, 西新宿　3-15-8-B1\, 新宿区\, 東京都\, 160-0023\, Japan
ATTACH;FMTTYPE=image/jpeg:https://nakano-dynamite.com/wall/wp-content/uploads/2025/02/20250327.jpg
END:VEVENT
BEGIN:VEVENT
DTSTART;TZID=Asia/Tokyo:20250323T163000
DTEND;TZID=Asia/Tokyo:20250323T220000
DTSTAMP:20260421T151045
CREATED:20250228T125629Z
LAST-MODIFIED:20250228T125629Z
UID:3508-1742747400-1742767200@nakano-dynamite.com
SUMMARY:酒不足解消GIG
DESCRIPTION:2025.03.23(sun)\nOPEN 16:30\nSTART 17:00\nDOOR ¥2000\n+1D\n\nYOUNG FOREVER\na sox\nえんだぶあ\nMea Culpa\nFEVER WEEDER\n\n\n\nWALL pre.\n酒不足解消GIG\n@初台WALL
URL:https://nakano-dynamite.com/wall/event/2025-03-23/
LOCATION:初台WALL\, 西新宿　3-15-8-B1\, 新宿区\, 東京都\, 160-0023\, Japan
ATTACH;FMTTYPE=image/jpeg:https://nakano-dynamite.com/wall/wp-content/uploads/2025/02/20250323.jpg
END:VEVENT
BEGIN:VEVENT
DTSTART;TZID=Asia/Tokyo:20250321T183000
DTEND;TZID=Asia/Tokyo:20250321T220000
DTSTAMP:20260421T151045
CREATED:20250222T063022Z
LAST-MODIFIED:20250222T063022Z
UID:3486-1742581800-1742594400@nakano-dynamite.com
SUMMARY:ZAP!
DESCRIPTION:2025.03.21(fri)\nOPEN 18:30\nSTART 19:00\nADV ¥2500\nDOOR ¥3000\n+1D\nTattletale(札幌)\nVote for Pedro\n神々のゴライコーズ\nゆっくり走れ\n\n\n\nモリシマ pre.\nZAP!\n@初台WALL
URL:https://nakano-dynamite.com/wall/event/2025-03-21/
LOCATION:初台WALL\, 西新宿　3-15-8-B1\, 新宿区\, 東京都\, 160-0023\, Japan
ATTACH;FMTTYPE=image/jpeg:https://nakano-dynamite.com/wall/wp-content/uploads/2025/02/20250321.jpg
END:VEVENT
BEGIN:VEVENT
DTSTART;TZID=Asia/Tokyo:20250320T163000
DTEND;TZID=Asia/Tokyo:20250320T220000
DTSTAMP:20260421T151045
CREATED:20250228T124719Z
LAST-MODIFIED:20250228T124719Z
UID:3505-1742488200-1742508000@nakano-dynamite.com
SUMMARY:MAKING FRIENDS 10
DESCRIPTION:2025.03.20(thu)\nOPEN 16:30\nSTART 17:00\nADV ¥2400\nDOOR ¥2900\n+1D\n\nHOW\nHi-Gi\nPUNiK\nDaDa(甲府)\nサザンクロズ\nLOCAL HEROES\nBAKINGPOWDER\n\n\n\nYasui & Morishima pre.\nMAKING FRIENDS 10\n@初台WALL
URL:https://nakano-dynamite.com/wall/event/2025-03-20/
LOCATION:初台WALL\, 西新宿　3-15-8-B1\, 新宿区\, 東京都\, 160-0023\, Japan
ATTACH;FMTTYPE=image/jpeg:https://nakano-dynamite.com/wall/wp-content/uploads/2025/02/20250320.jpg
END:VEVENT
BEGIN:VEVENT
DTSTART;TZID=Asia/Tokyo:20250319T183000
DTEND;TZID=Asia/Tokyo:20250319T220000
DTSTAMP:20260421T151045
CREATED:20250222T062138Z
LAST-MODIFIED:20250222T062138Z
UID:3483-1742409000-1742421600@nakano-dynamite.com
SUMMARY:ACOUSTIC NIGHT
DESCRIPTION:2025.03.19(wed)\nOPEN 18:30\nSTART 19:00\nDOOR ¥1000\n+1D\n\n宮原タクマロ\nダルマシンゴ夜鵺\nダーハマ\n腰越ジョー\nTUMA銃ゴロウ\nタケヒサ(RYDEEN/FVK)\nand more...\n\n\n\nWALL pre.\nACOUSTIC NIGHT\n@初台WALL
URL:https://nakano-dynamite.com/wall/event/2025-03-19/
LOCATION:初台WALL\, 西新宿　3-15-8-B1\, 新宿区\, 東京都\, 160-0023\, Japan
ATTACH;FMTTYPE=image/jpeg:https://nakano-dynamite.com/wall/wp-content/uploads/2025/02/20250319.jpg
END:VEVENT
END:VCALENDAR