BEGIN:VCALENDAR
VERSION:2.0
PRODID:-//Livehouse Wall - ECPv6.15.20//NONSGML v1.0//EN
CALSCALE:GREGORIAN
METHOD:PUBLISH
X-WR-CALNAME:Livehouse Wall
X-ORIGINAL-URL:https://nakano-dynamite.com/wall
X-WR-CALDESC:Livehouse Wall のイベント
REFRESH-INTERVAL;VALUE=DURATION:PT1H
X-Robots-Tag:noindex
X-PUBLISHED-TTL:PT1H
BEGIN:VTIMEZONE
TZID:Asia/Tokyo
BEGIN:STANDARD
TZOFFSETFROM:+0900
TZOFFSETTO:+0900
TZNAME:JST
DTSTART:20240101T000000
END:STANDARD
END:VTIMEZONE
BEGIN:VEVENT
DTSTART;TZID=Asia/Tokyo:20250807T183000
DTEND;TZID=Asia/Tokyo:20250807T220000
DTSTAMP:20260420T222928
CREATED:20250717T112002Z
LAST-MODIFIED:20250717T112002Z
UID:3974-1754591400-1754604000@nakano-dynamite.com
SUMMARY:砕けねぇ壁なんかねぇ vol.4
DESCRIPTION:2025.08.07(thu)\nOPEN 18:30\nSTART 18:30\nADV ¥2000\nDOOR ¥2500\n+1D\n\nTIPPS\n月凍\nダーハマ\nFLOWLINK\nジュリエットの海\nkill me Elk\nTATSURO\n\n\nダーハマ&WALL pre.\n砕けねぇ壁なんかねぇ vol.4\n@初台WALL
URL:https://nakano-dynamite.com/wall/event/2025-08-07/
LOCATION:初台WALL\, 西新宿　3-15-8-B1\, 新宿区\, 東京都\, 160-0023\, Japan
ATTACH;FMTTYPE=image/jpeg:https://nakano-dynamite.com/wall/wp-content/uploads/2025/07/20250807.jpg
END:VEVENT
BEGIN:VEVENT
DTSTART;TZID=Asia/Tokyo:20250806T190000
DTEND;TZID=Asia/Tokyo:20250806T220000
DTSTAMP:20260420T222928
CREATED:20250709T124450Z
LAST-MODIFIED:20250709T124624Z
UID:3953-1754506800-1754517600@nakano-dynamite.com
SUMMARY:WALLA WALLA
DESCRIPTION:2025.08.06(wed)\nOPEN 19:00\nSTART 19:30\nDOOR ¥1900\n+1D\n\nKILLERS MATE\nLEGEND OF TRUTH\nQHOQ\nドラゴン岩村\n\n-DJ-\nMilleSixx\n\n\nWALL pre.\nWALLA WALLA\n@初台WALL
URL:https://nakano-dynamite.com/wall/event/2025-08-06/
LOCATION:初台WALL\, 西新宿　3-15-8-B1\, 新宿区\, 東京都\, 160-0023\, Japan
ATTACH;FMTTYPE=image/jpeg:https://nakano-dynamite.com/wall/wp-content/uploads/2025/07/20250806.jpg
END:VEVENT
BEGIN:VEVENT
DTSTART;TZID=Asia/Tokyo:20250803T114500
DTEND;TZID=Asia/Tokyo:20250803T170000
DTSTAMP:20260420T222928
CREATED:20250709T123933Z
LAST-MODIFIED:20250709T123949Z
UID:3950-1754221500-1754240400@nakano-dynamite.com
SUMMARY:メテオランチ(仮)
DESCRIPTION:2025.08.03(sun)\nOPEN 11:45\nSTART 12:15\nDOOR ¥2400\n+1D\n※2025.8/3"小メテオ②"チケット持参\nと介助者/利用者 ¥1000引き\nALP$BOYS\nはたらきバンド\nViva La Thrash\nsocial porks\nファストコアMCバトル \n\n\nWALL pre.\nMETEO LUNCH\n@初台WAL
URL:https://nakano-dynamite.com/wall/event/2025-08-03/
LOCATION:初台WALL\, 西新宿　3-15-8-B1\, 新宿区\, 東京都\, 160-0023\, Japan
ATTACH;FMTTYPE=image/jpeg:https://nakano-dynamite.com/wall/wp-content/uploads/2025/07/20250803.jpg
END:VEVENT
BEGIN:VEVENT
DTSTART;TZID=Asia/Tokyo:20250802T173000
DTEND;TZID=Asia/Tokyo:20250802T220000
DTSTAMP:20260420T222928
CREATED:20250709T122822Z
LAST-MODIFIED:20250709T122926Z
UID:3944-1754155800-1754172000@nakano-dynamite.com
SUMMARY:アナトラとミヤマとお前ら Vo.02
DESCRIPTION:2025.08.02(sat)\nOPEN 17:30\nSTART 18:00\nADV ¥2700\nDOOR ¥3200\n+1D\n前売特典：穴虎ミヤマ米\nハッピーアワー：オープンから1時間\nミヤマGt.\nBYE BYE NEGATIVES\nsqid\nBUZZIN'\nMilitary Shadow\n穴虎69\n\n\n穴虎69&ミヤマGt.　pre.\nアナトラとミヤマとお前ら Vo.02\n@初台WALL
URL:https://nakano-dynamite.com/wall/event/2025-08-02/
LOCATION:初台WALL\, 西新宿　3-15-8-B1\, 新宿区\, 東京都\, 160-0023\, Japan
ATTACH;FMTTYPE=image/jpeg:https://nakano-dynamite.com/wall/wp-content/uploads/2025/07/20250802.jpg
END:VEVENT
BEGIN:VEVENT
DTSTART;TZID=Asia/Tokyo:20250801T183000
DTEND;TZID=Asia/Tokyo:20250801T220000
DTSTAMP:20260420T222928
CREATED:20250717T111202Z
LAST-MODIFIED:20250717T111202Z
UID:3971-1754073000-1754085600@nakano-dynamite.com
SUMMARY:JUST SAY NO lev.39 -SEINO & YMD BIRTHDAY BASH-
DESCRIPTION:2025.08.01(fri)\nOPEN 18:30\nSTART 18:30\nADV ¥1400\nDOOR ¥1900\n+1D\n\nGAGA-STANDARD\n0.001DAY\n344 (HYPER DISORDER)\n\n-DJ-\nYMD(TOP ME UP!)\nネル\nKxExMxEx\nセージーガガ\n小野ボーイ\nSHIRO(TBTB!)\n\n\n\nTOMOKI&WALL pre.\nJUST SAY NO lev.39\n@初台WALL
URL:https://nakano-dynamite.com/wall/event/2025-08-01/
LOCATION:初台WALL\, 西新宿　3-15-8-B1\, 新宿区\, 東京都\, 160-0023\, Japan
ATTACH;FMTTYPE=image/jpeg:https://nakano-dynamite.com/wall/wp-content/uploads/2025/07/20250801.jpg
END:VEVENT
BEGIN:VEVENT
DTSTART;TZID=Asia/Tokyo:20250727T183000
DTEND;TZID=Asia/Tokyo:20250727T220000
DTSTAMP:20260420T222928
CREATED:20250709T115215Z
LAST-MODIFIED:20250709T132420Z
UID:3939-1753641000-1753653600@nakano-dynamite.com
SUMMARY:Koenji BAR 杢 pre. ONE
DESCRIPTION:2025.07.27(sun)\nOPEN/START 18:30\nDOOR ONLY ¥2400\n+1D\n\n【LIVE】\nEVERYTHING SUXX\nbar counters\n\n【MC】\nODE Gain\n\n【DJ】\nKo Shibata\nKiM\nshunsuke\n\n【SHOP】\no8七\n\n【FOOD】\n晴れ風\n\n【Special Guest】\n39MentoS\n\n\nKoenji BAR 杢 pre.\nONE\n@初台WALL
URL:https://nakano-dynamite.com/wall/event/2025-07-27/
LOCATION:初台WALL\, 西新宿　3-15-8-B1\, 新宿区\, 東京都\, 160-0023\, Japan
ATTACH;FMTTYPE=image/jpeg:https://nakano-dynamite.com/wall/wp-content/uploads/2025/07/20250727.jpg
END:VEVENT
BEGIN:VEVENT
DTSTART;TZID=Asia/Tokyo:20250726T163000
DTEND;TZID=Asia/Tokyo:20250726T220000
DTSTAMP:20260420T222928
CREATED:20250619T150433Z
LAST-MODIFIED:20250619T150433Z
UID:3900-1753547400-1753567200@nakano-dynamite.com
SUMMARY:SOMETHING FROM ABYSS Vol.1
DESCRIPTION:2025.07.26(sat)\nOPEN 16:30\nSTART 17:00\nADV ¥2000\nDOOR ¥2500\n+1D\n\nBITCHEATER\nCOFFINS\nDISTURD(神戸)\nFILTHY HATE\nHETEROPSY\nYUPPIE GORE FILTH(大阪)\n\n\nFILTHY HATE pre.\nSOMETHING FROM ABYSS Vol.1 \n@初台WALL
URL:https://nakano-dynamite.com/wall/event/2025-07-26/
LOCATION:初台WALL\, 西新宿　3-15-8-B1\, 新宿区\, 東京都\, 160-0023\, Japan
ATTACH;FMTTYPE=image/jpeg:https://nakano-dynamite.com/wall/wp-content/uploads/2025/06/20250726.jpg
END:VEVENT
BEGIN:VEVENT
DTSTART;TZID=Asia/Tokyo:20250724T183000
DTEND;TZID=Asia/Tokyo:20250724T220000
DTSTAMP:20260420T222928
CREATED:20250709T113449Z
LAST-MODIFIED:20250709T113450Z
UID:3936-1753381800-1753394400@nakano-dynamite.com
SUMMARY:Summer Angel
DESCRIPTION:2025.07.24(thu)\nOPEN 18:30\nSTART 19:00\nDOOR ¥1000\n+1D\n\nLook Of Dub\nFRACTURE\nAnodizeHead\nzo-ki\n\n\nWALL pre.\nSummer Angel\n@初台WALL
URL:https://nakano-dynamite.com/wall/event/2025-07-24/
LOCATION:初台WALL\, 西新宿　3-15-8-B1\, 新宿区\, 東京都\, 160-0023\, Japan
ATTACH;FMTTYPE=image/jpeg:https://nakano-dynamite.com/wall/wp-content/uploads/2025/07/20250724.jpg
END:VEVENT
BEGIN:VEVENT
DTSTART;TZID=Asia/Tokyo:20250721T170000
DTEND;TZID=Asia/Tokyo:20250721T220000
DTSTAMP:20260420T222928
CREATED:20250625T150832Z
LAST-MODIFIED:20250625T150832Z
UID:3913-1753117200-1753135200@nakano-dynamite.com
SUMMARY:Ulthar & Jarhead Fertilizer Japan tour 2025
DESCRIPTION:2025.07.21(mon)\nOPEN 17:00\nSTART 17:45\nADV ¥5400\n+1D\n\nUlthar\nJarhead Fertilizer\nKruelty\nHeth\n\n\n\nCKS PRODUCTIONS pre.\nUlthar & Jarhead Fertilizer\nJapan tour 2025\n@初台WALL
URL:https://nakano-dynamite.com/wall/event/2025-07-21/
LOCATION:初台WALL\, 西新宿　3-15-8-B1\, 新宿区\, 東京都\, 160-0023\, Japan
ATTACH;FMTTYPE=image/jpeg:https://nakano-dynamite.com/wall/wp-content/uploads/2025/06/20250721.jpg
END:VEVENT
BEGIN:VEVENT
DTSTART;TZID=Asia/Tokyo:20250720T160000
DTEND;TZID=Asia/Tokyo:20250720T220000
DTSTAMP:20260420T222928
CREATED:20250625T145730Z
LAST-MODIFIED:20250625T145730Z
UID:3910-1753027200-1753048800@nakano-dynamite.com
SUMMARY:Much love to you 〜今夜はbaby止まれないよtonight〜
DESCRIPTION:2025.07.20(sun)\nOPEN 16:00\nSTART 16:30\nDOOR ¥400\n+1D\n\nジャンケンズ\nroom10.4\n犬彦【ジョン(犬)+HIKO】\nFRACTURE\nViolent Chemical\nSWD\n\n-DJ-\nKUN\nセージーガガ\n\n-FOOD-\nZAKURO\n\n-Face time message-\nEric Goodman\n\n\nKayo pre.\nMuch love to you\n〜今夜はbaby止まれないよtonight〜\n@初台WALL
URL:https://nakano-dynamite.com/wall/event/2025-07-20/
LOCATION:初台WALL\, 西新宿　3-15-8-B1\, 新宿区\, 東京都\, 160-0023\, Japan
ATTACH;FMTTYPE=image/jpeg:https://nakano-dynamite.com/wall/wp-content/uploads/2025/06/20250720.jpg
END:VEVENT
BEGIN:VEVENT
DTSTART;TZID=Asia/Tokyo:20250719T160000
DTEND;TZID=Asia/Tokyo:20250719T220000
DTSTAMP:20260420T222928
CREATED:20250619T105022Z
LAST-MODIFIED:20250619T105022Z
UID:3897-1752940800-1752962400@nakano-dynamite.com
SUMMARY:The ERA
DESCRIPTION:2025.07.19(sat)\nOPEN 16:00\nSTART 16:30\nDOOR ¥2400\n+1D\n\nILBASTARDO\nDOWNWARD\nBETICO ROUGE\nHOW\nDEVD FRE$H\nAND BELEIVE\nSHARAKU\n\n-DJ-\nMUM\nY2NO\n一旦木綿\nOK BOY\n\n-FOOD-\nDINING ザクロ\n\n\nDAICHI&283 pre.\nThe ERA\n@初台WALL
URL:https://nakano-dynamite.com/wall/event/2025-07-19/
LOCATION:初台WALL\, 西新宿　3-15-8-B1\, 新宿区\, 東京都\, 160-0023\, Japan
ATTACH;FMTTYPE=image/jpeg:https://nakano-dynamite.com/wall/wp-content/uploads/2025/06/20250719.jpg
END:VEVENT
BEGIN:VEVENT
DTSTART;TZID=Asia/Tokyo:20250718T184500
DTEND;TZID=Asia/Tokyo:20250718T220000
DTSTAMP:20260420T222928
CREATED:20250625T145135Z
LAST-MODIFIED:20250625T145135Z
UID:3906-1752864300-1752876000@nakano-dynamite.com
SUMMARY:CC SUMMER
DESCRIPTION:2025.07.18(fri)\nOPEN 18:45\nSTART 19:15\nDOOR ¥1900\n+1D\n\nfrench toast\nオフィスカジュアルズ\nのりもの\n岩井慎吾鈴木京介\nアースバンド袴田\n\n\n\nWALL pre.\nCC SUMMER\n@初台WALL
URL:https://nakano-dynamite.com/wall/event/2025-07-18/
LOCATION:初台WALL\, 西新宿　3-15-8-B1\, 新宿区\, 東京都\, 160-0023\, Japan
ATTACH;FMTTYPE=image/jpeg:https://nakano-dynamite.com/wall/wp-content/uploads/2025/06/20250718.jpg
END:VEVENT
BEGIN:VEVENT
DTSTART;TZID=Asia/Tokyo:20250717T190000
DTEND;TZID=Asia/Tokyo:20250717T220000
DTSTAMP:20260420T222928
CREATED:20250709T112720Z
LAST-MODIFIED:20250709T112720Z
UID:3933-1752778800-1752789600@nakano-dynamite.com
SUMMARY:WALLA WALLA
DESCRIPTION:2025.07.17(thu)\nOPEN 19:00\nSTART 19:30\nDOOR ¥1900\n+1D\n\n裏ドラギャングスタ\nはいから\nbarcounters\nサザンクロズ \n\n-DJ-\n匠CREW\n\nWALL pre.\nWALLA WALLA\n@初台WALL
URL:https://nakano-dynamite.com/wall/event/2025-07-17/
LOCATION:初台WALL\, 西新宿　3-15-8-B1\, 新宿区\, 東京都\, 160-0023\, Japan
ATTACH;FMTTYPE=image/jpeg:https://nakano-dynamite.com/wall/wp-content/uploads/2025/07/20250717.jpg
END:VEVENT
BEGIN:VEVENT
DTSTART;TZID=Asia/Tokyo:20250714T183000
DTEND;TZID=Asia/Tokyo:20250714T220000
DTSTAMP:20260420T222928
CREATED:20250619T103254Z
LAST-MODIFIED:20250619T103254Z
UID:3893-1752517800-1752530400@nakano-dynamite.com
SUMMARY:GIL CERRONE / KERATIN Japan Tour 2025 Hatsudai Tokyo
DESCRIPTION:2025.07.14(mon)\nOPEN 18:30\nSTART 19:00\nADV ¥4000\nDOOR ¥5000\nSTUDENT ¥1000\n+1D\n\nGIL CERRONE\nKERATIN\nWORST PARTY EVER\nFUYAJOH\n\n\n\nungulates pre.\nGIL CERRONE / KERATIN Japan Tour 2025 Hatsudai Tokyo\n@初台WALL
URL:https://nakano-dynamite.com/wall/event/2025-07-14/
LOCATION:初台WALL\, 西新宿　3-15-8-B1\, 新宿区\, 東京都\, 160-0023\, Japan
ATTACH;FMTTYPE=image/jpeg:https://nakano-dynamite.com/wall/wp-content/uploads/2025/06/20250714.jpg
END:VEVENT
BEGIN:VEVENT
DTSTART;TZID=Asia/Tokyo:20250713T150000
DTEND;TZID=Asia/Tokyo:20250713T220000
DTSTAMP:20260420T222928
CREATED:20250625T144338Z
LAST-MODIFIED:20250625T144338Z
UID:3903-1752418800-1752444000@nakano-dynamite.com
SUMMARY:OVERALL ~ケメさんおたおめ~
DESCRIPTION:2025.07.13(sun)\nOPEN 15:00\nSTART 15:30\nADV ¥1900\nDOOR ¥2400\n+1D\n\nTARAIRACCA\nHOW\nMound Crash\nCatch and row(from 敦賀)\nPADOLEX\nupstairs\nTake out bright\n\n-DJ-\nKxExMxEx\nセージーガガ\n\n\nWALL pre.\nOVERALL\n~ケメさんおたおめ~\n@初台WALL
URL:https://nakano-dynamite.com/wall/event/2025-07-13/
LOCATION:初台WALL\, 西新宿　3-15-8-B1\, 新宿区\, 東京都\, 160-0023\, Japan
ATTACH;FMTTYPE=image/jpeg:https://nakano-dynamite.com/wall/wp-content/uploads/2025/06/20250713.jpg
END:VEVENT
BEGIN:VEVENT
DTSTART;TZID=Asia/Tokyo:20250712T173000
DTEND;TZID=Asia/Tokyo:20250712T220000
DTSTAMP:20260420T222928
CREATED:20250619T101115Z
LAST-MODIFIED:20250619T101115Z
UID:3890-1752341400-1752357600@nakano-dynamite.com
SUMMARY:明日なき暴走
DESCRIPTION:2025.07.12(sat)\nOPEN 17:30\nSTART 18:00\nADV ¥2500\nDOOR ¥3000\n+1D\n\n308pond\n佐藤凌駕と大日本帝国ズ\nのっぺら\n九蓮宝燈\nコンビニ人間\n\n\nコンビニ人間 pre.\n明日なき暴走\n@初台WALL
URL:https://nakano-dynamite.com/wall/event/2025-07-12/
LOCATION:初台WALL\, 西新宿　3-15-8-B1\, 新宿区\, 東京都\, 160-0023\, Japan
ATTACH;FMTTYPE=image/jpeg:https://nakano-dynamite.com/wall/wp-content/uploads/2025/06/20250712.jpg
END:VEVENT
BEGIN:VEVENT
DTSTART;TZID=Asia/Tokyo:20250711T190000
DTEND;TZID=Asia/Tokyo:20250711T220000
DTSTAMP:20260420T222928
CREATED:20250619T094414Z
LAST-MODIFIED:20250619T094414Z
UID:3887-1752260400-1752271200@nakano-dynamite.com
SUMMARY:脳が溶ける奇病
DESCRIPTION:2025.07.11(fri)\nOPEN 19:00\nSTART 19:30\nDOOR ¥2000\n+1D\n\n死球\nbiliardo\nMO*TE\nvltar\n\n\n\nWALL pre.\n脳が溶ける奇病\n@初台WALL
URL:https://nakano-dynamite.com/wall/event/2025-07-11/
LOCATION:初台WALL\, 西新宿　3-15-8-B1\, 新宿区\, 東京都\, 160-0023\, Japan
ATTACH;FMTTYPE=image/jpeg:https://nakano-dynamite.com/wall/wp-content/uploads/2025/06/20250711.jpg
END:VEVENT
BEGIN:VEVENT
DTSTART;TZID=Asia/Tokyo:20250710T183000
DTEND;TZID=Asia/Tokyo:20250710T220000
DTSTAMP:20260420T222928
CREATED:20250619T093402Z
LAST-MODIFIED:20250619T093402Z
UID:3884-1752172200-1752184800@nakano-dynamite.com
SUMMARY:転Vol.53
DESCRIPTION:2025.07.10(thu)\nOPEN 18:30\nSTART 19:00\nDOOR ¥2000\n+1D\n\nだくろぷかん\nやまぐちももえーず\nHOW\n腰越ジョー(AND BELIEVE)\n\n-DJ-\nヨツノ\n\n\n転Vol.53\n@初台WALL
URL:https://nakano-dynamite.com/wall/event/2025-07-10/
LOCATION:初台WALL\, 西新宿　3-15-8-B1\, 新宿区\, 東京都\, 160-0023\, Japan
ATTACH;FMTTYPE=image/jpeg:https://nakano-dynamite.com/wall/wp-content/uploads/2025/06/20250710.jpg
END:VEVENT
BEGIN:VEVENT
DTSTART;TZID=Asia/Tokyo:20250706T153000
DTEND;TZID=Asia/Tokyo:20250706T220000
DTSTAMP:20260420T222928
CREATED:20250616T083337Z
LAST-MODIFIED:20250616T083337Z
UID:3881-1751815800-1751839200@nakano-dynamite.com
SUMMARY:WATERFALL 『似ていない人/うつくしきもの』 Release Party
DESCRIPTION:2025.07.06(sun)\nOPEN 15:30\nSTART 16:00\nADV ¥2400\nDOOR ¥2900\n+1D\n\nWATERFALL(弘前)\nCalla(弘前)\nFIRST TO FIGHT(福山)\nホワイトルーザー\nashcan school\nthe denisons\nトイプードルズ\n\n\nWALL pre.\nWATERFALL『似ていない人/うつくしきもの』\nRelease Party \n@初台WALL
URL:https://nakano-dynamite.com/wall/event/2025-07-06/
LOCATION:初台WALL\, 西新宿　3-15-8-B1\, 新宿区\, 東京都\, 160-0023\, Japan
ATTACH;FMTTYPE=image/jpeg:https://nakano-dynamite.com/wall/wp-content/uploads/2025/06/20250706.jpg
END:VEVENT
BEGIN:VEVENT
DTSTART;TZID=Asia/Tokyo:20250705T170000
DTEND;TZID=Asia/Tokyo:20250705T220000
DTSTAMP:20260420T222928
CREATED:20250616T081954Z
LAST-MODIFIED:20250616T081954Z
UID:3874-1751734800-1751752800@nakano-dynamite.com
SUMMARY:Nothing comes of Nothing
DESCRIPTION:2025.07.05(sat)\nOPEN 17:00\nSTART 17:30\nADV ¥2400\nDOOR ¥2900\n+1D\n\nCiG\nROCKY & The SWEDEN\nB SIDE APPROACH\nREALITY CRISIS\nEF\n\n\nCiG&Sha-show pre.\nNothing comes of Nothing\n@初台WALL
URL:https://nakano-dynamite.com/wall/event/2025-07-05/
LOCATION:初台WALL\, 西新宿　3-15-8-B1\, 新宿区\, 東京都\, 160-0023\, Japan
ATTACH;FMTTYPE=image/jpeg:https://nakano-dynamite.com/wall/wp-content/uploads/2025/06/20250705-1.jpg
END:VEVENT
BEGIN:VEVENT
DTSTART;TZID=Asia/Tokyo:20250704T183000
DTEND;TZID=Asia/Tokyo:20250704T220000
DTSTAMP:20260420T222928
CREATED:20250616T080345Z
LAST-MODIFIED:20250616T080345Z
UID:3871-1751653800-1751666400@nakano-dynamite.com
SUMMARY:MANBA BITES -マンババイツ&ナウフレイジジャパンツアー
DESCRIPTION:2025.07.04(fri)\nOPEN 18:30\nSTART 19:00\nDOOR ¥2400\n+1D\n\nMAMBA BITES(switzerland)\nNAUFRAGE(switzerland)\nCRADLE TO GRAVE\nSHINING MOMENTS\n\n\n\nWALL pre.\nMANBA BITES -マンババイツ&ナウフレイジジャパンツアー\n@初台WALL
URL:https://nakano-dynamite.com/wall/event/2025-07-04/
LOCATION:初台WALL\, 西新宿　3-15-8-B1\, 新宿区\, 東京都\, 160-0023\, Japan
ATTACH;FMTTYPE=image/jpeg:https://nakano-dynamite.com/wall/wp-content/uploads/2025/06/20250704.jpg
END:VEVENT
BEGIN:VEVENT
DTSTART;TZID=Asia/Tokyo:20250703T191000
DTEND;TZID=Asia/Tokyo:20250703T220000
DTSTAMP:20260420T222928
CREATED:20250616T075616Z
LAST-MODIFIED:20250616T075616Z
UID:3868-1751569800-1751580000@nakano-dynamite.com
SUMMARY:WALLA WALLA
DESCRIPTION:2025.07.03(thu)\nOPEN 19:10\nSTART 19:40\nDOOR ¥1900\n+1D\n\nOQV\nHExSO\nDIET OF DEATH\nノイジーマイノリティー\n\nWALL pre.\nWALLA WALLA\n@初台WALL
URL:https://nakano-dynamite.com/wall/event/2025-07-03/
LOCATION:初台WALL\, 西新宿　3-15-8-B1\, 新宿区\, 東京都\, 160-0023\, Japan
ATTACH;FMTTYPE=image/jpeg:https://nakano-dynamite.com/wall/wp-content/uploads/2025/06/20250703.jpg
END:VEVENT
BEGIN:VEVENT
DTSTART;TZID=Asia/Tokyo:20250629T160000
DTEND;TZID=Asia/Tokyo:20250629T220000
DTSTAMP:20260420T222928
CREATED:20250515T132650Z
LAST-MODIFIED:20250515T132650Z
UID:3770-1751212800-1751234400@nakano-dynamite.com
SUMMARY:OVERALL
DESCRIPTION:2025.06.29(sun)\nOPEN 16:00\nSTART 16:30\nADV ¥2400\nDOOR ¥2900\n+1D\n\nHOW\nDaDa(甲府)\nBad Attack\nTHE VERTIGOS\nFIVE NO RISK(大阪)\nREDNECKS\nLiFE \n\n\nHOW pre.\nOVERALL\n@初台WALL
URL:https://nakano-dynamite.com/wall/event/2025-06-29/
LOCATION:初台WALL\, 西新宿　3-15-8-B1\, 新宿区\, 東京都\, 160-0023\, Japan
ATTACH;FMTTYPE=image/jpeg:https://nakano-dynamite.com/wall/wp-content/uploads/2025/05/20250629.jpg
END:VEVENT
BEGIN:VEVENT
DTSTART;TZID=Asia/Tokyo:20250628T160000
DTEND;TZID=Asia/Tokyo:20250628T220000
DTSTAMP:20260420T222928
CREATED:20250515T130932Z
LAST-MODIFIED:20250515T130932Z
UID:3767-1751126400-1751148000@nakano-dynamite.com
SUMMARY:Lunatic Alcohol  Club Japan Special  L.A.C Vol.10
DESCRIPTION:2025.06.28(sat)\nOPEN 16:00\nSTART 16:00\nADV ¥2400\nDOOR ¥2900\n+1D\n\nTHE DEAD PAN SPEAKERS\nPEST\nジャンケンズ\nNASTIE\nKISSSSAKI\n9991\nFLiPOUT A.A\n\n-DJ-\nOK BOY\nセージーガガ\n\n-FOOD-\nZAKURO\n\n\nLunatic Alcohol Club Japan Special L.A.C Vol.10\n@初台WALL
URL:https://nakano-dynamite.com/wall/event/2025-06-28/
LOCATION:初台WALL\, 西新宿　3-15-8-B1\, 新宿区\, 東京都\, 160-0023\, Japan
ATTACH;FMTTYPE=image/jpeg:https://nakano-dynamite.com/wall/wp-content/uploads/2025/05/20250628.jpg
END:VEVENT
BEGIN:VEVENT
DTSTART;TZID=Asia/Tokyo:20250627T180000
DTEND;TZID=Asia/Tokyo:20250627T220000
DTSTAMP:20260420T222928
CREATED:20250611T094037Z
LAST-MODIFIED:20250611T094037Z
UID:3852-1751047200-1751061600@nakano-dynamite.com
SUMMARY:D.M.S VOL.6
DESCRIPTION:2025.06.27(fri)\nOPEN TBA\nSTART TBA\nDOOR ¥2400\n+1D\n\n2STRIKE3BALL\nIL BASTARDO\nSHINING MOMENTS\nザ　ニンクス \n\n\n\n2STRIKE3BALL pre.\nD.N.S VOL.6\n@初台WALL
URL:https://nakano-dynamite.com/wall/event/2025-06-27/
LOCATION:初台WALL\, 西新宿　3-15-8-B1\, 新宿区\, 東京都\, 160-0023\, Japan
ATTACH;FMTTYPE=image/jpeg:https://nakano-dynamite.com/wall/wp-content/uploads/2025/06/20250627.jpg
END:VEVENT
BEGIN:VEVENT
DTSTART;TZID=Asia/Tokyo:20250625T190000
DTEND;TZID=Asia/Tokyo:20250625T220000
DTSTAMP:20260420T222928
CREATED:20250616T075110Z
LAST-MODIFIED:20250616T075640Z
UID:3865-1750878000-1750888800@nakano-dynamite.com
SUMMARY:もりしまキャンプ
DESCRIPTION:2025.06.25(wed)\nOPEN 19:00\n入場無料\n\n野村秀直(Bad Attack)\n坂本ケンタ\n徳川雷蔵\nまどぅー(爆裂ジャイロ)\nとんぺい軒\nand more..\n\n\nモリシマ pre.\nもりしまキャンプ\n@初台WALL
URL:https://nakano-dynamite.com/wall/event/2025-06-25/
LOCATION:初台WALL\, 西新宿　3-15-8-B1\, 新宿区\, 東京都\, 160-0023\, Japan
ATTACH;FMTTYPE=image/jpeg:https://nakano-dynamite.com/wall/wp-content/uploads/2025/06/20250625.jpg
END:VEVENT
BEGIN:VEVENT
DTSTART;TZID=Asia/Tokyo:20250622T173000
DTEND;TZID=Asia/Tokyo:20250622T220000
DTSTAMP:20260420T222928
CREATED:20250515T123811Z
LAST-MODIFIED:20250515T123811Z
UID:3764-1750613400-1750629600@nakano-dynamite.com
SUMMARY:" NEW OLD CHAPTER " -HATSUDAI WALL 26th ANNIVERSARY-
DESCRIPTION:2025.06.22(sun)\nOPEN TBA\nSTART TBA\nADV ¥2400\nDOOR ¥3000\n+1D\n\nTake out bright\ntact\nSTRIKE AGAIN\nsmoothy\nROMEOROCKS\nSTARVINGMAN \n\n\n\nTake out bright pre.\n" NEW OLD CHAPTER "\n-HATSUDAI WALL 26th ANNIVERSARY- \n@初台WALL
URL:https://nakano-dynamite.com/wall/event/2025-06-22/
LOCATION:初台WALL\, 西新宿　3-15-8-B1\, 新宿区\, 東京都\, 160-0023\, Japan
ATTACH;FMTTYPE=image/jpeg:https://nakano-dynamite.com/wall/wp-content/uploads/2025/05/20250622-2.jpg
END:VEVENT
BEGIN:VEVENT
DTSTART;TZID=Asia/Tokyo:20250622T113000
DTEND;TZID=Asia/Tokyo:20250622T153000
DTSTAMP:20260420T222928
CREATED:20250515T121557Z
LAST-MODIFIED:20250515T121557Z
UID:3761-1750591800-1750606200@nakano-dynamite.com
SUMMARY:Wall of Apes
DESCRIPTION:2025.06.22(sun)\nOPEN 11:30\nSTART 12:00\nDOOR ¥2000\n+1D\n\n1/8計画\ncorner of kanto\nカルト3\nHanao\n\n\n\n1/8計画 pre.\nWall of Apes\n@初台WALL
URL:https://nakano-dynamite.com/wall/event/2025-06-22-1/
LOCATION:初台WALL\, 西新宿　3-15-8-B1\, 新宿区\, 東京都\, 160-0023\, Japan
ATTACH;FMTTYPE=image/jpeg:https://nakano-dynamite.com/wall/wp-content/uploads/2025/05/20250622.jpg
END:VEVENT
BEGIN:VEVENT
DTSTART;TZID=Asia/Tokyo:20250619T190000
DTEND;TZID=Asia/Tokyo:20250619T220000
DTSTAMP:20260420T222928
CREATED:20250515T120735Z
LAST-MODIFIED:20250515T120736Z
UID:3757-1750359600-1750370400@nakano-dynamite.com
SUMMARY:Much love to you ~WALLのお誕生日~
DESCRIPTION:2025.06.19(thu)\nOPEN 19:00\nSTART 19:30\nDOOR ¥400\n+1D\n\nおまえ\nザ・バイキング\nGOOD DREAM\n\n-DJ-\nViolent Chemical\nNGYL\n\n-FOOD-\nスタッズひとみ\n\nKayo pre.\nMUch love to you\n~WALLのお誕生日~\n@初台WALL
URL:https://nakano-dynamite.com/wall/event/2025-06-19/
LOCATION:初台WALL\, 西新宿　3-15-8-B1\, 新宿区\, 東京都\, 160-0023\, Japan
ATTACH;FMTTYPE=image/jpeg:https://nakano-dynamite.com/wall/wp-content/uploads/2025/05/20250619.jpg
END:VEVENT
BEGIN:VEVENT
DTSTART;TZID=Asia/Tokyo:20250618T190000
DTEND;TZID=Asia/Tokyo:20250618T220000
DTSTAMP:20260420T222928
CREATED:20250530T141252Z
LAST-MODIFIED:20250530T141252Z
UID:3802-1750273200-1750284000@nakano-dynamite.com
SUMMARY:Hatsudai WALL 26th Anniversary Pre-Event Celebration
DESCRIPTION:2025.06.18(wed)\nOPEN 19:00\nSTART 19:30\nADV ¥1400\nDOOR ¥1900\n+1D\n\nAND BELIEVE\nSECONDARMS\nHOW\nMEXICAN AGE\n\n\nWALL pre.\nHatsudai WALL\n26th Anniversary\nPre-Event Celebration\n@初台WALL
URL:https://nakano-dynamite.com/wall/event/2025-06-18/
LOCATION:初台WALL\, 西新宿　3-15-8-B1\, 新宿区\, 東京都\, 160-0023\, Japan
ATTACH;FMTTYPE=image/jpeg:https://nakano-dynamite.com/wall/wp-content/uploads/2025/05/20250618.jpg
END:VEVENT
END:VCALENDAR