BEGIN:VCALENDAR
VERSION:2.0
PRODID:-//Livehouse Wall - ECPv6.15.20//NONSGML v1.0//EN
CALSCALE:GREGORIAN
METHOD:PUBLISH
X-WR-CALNAME:Livehouse Wall
X-ORIGINAL-URL:https://nakano-dynamite.com/wall
X-WR-CALDESC:Livehouse Wall のイベント
REFRESH-INTERVAL;VALUE=DURATION:PT1H
X-Robots-Tag:noindex
X-PUBLISHED-TTL:PT1H
BEGIN:VTIMEZONE
TZID:Asia/Tokyo
BEGIN:STANDARD
TZOFFSETFROM:+0900
TZOFFSETTO:+0900
TZNAME:JST
DTSTART:20220101T000000
END:STANDARD
END:VTIMEZONE
BEGIN:VEVENT
DTSTART;TZID=Asia/Tokyo:20240627T183000
DTEND;TZID=Asia/Tokyo:20240627T190000
DTSTAMP:20260424T234728
CREATED:20240613T134642Z
LAST-MODIFIED:20240613T134642Z
UID:2609-1719513000-1719514800@nakano-dynamite.com
SUMMARY:一斉検挙
DESCRIPTION:2024.06.27(thu)\nOPEN 18:30\nSTART 19:00\nCHARGE￥0\n+2D\n\n達磨\n母親文化村\n劇団TANPOPO\nGOOD DREAM\n\nダルマシンゴ鵺 pre.\n一斉検挙\n@初台WALL
URL:https://nakano-dynamite.com/wall/event/2024-06-27/
LOCATION:初台WALL\, 西新宿　3-15-8-B1\, 新宿区\, 東京都\, 160-0023\, Japan
ATTACH;FMTTYPE=image/jpeg:https://nakano-dynamite.com/wall/wp-content/uploads/2024/06/20240627.jpg
END:VEVENT
BEGIN:VEVENT
DTSTART;TZID=Asia/Tokyo:20230825T180000
DTEND;TZID=Asia/Tokyo:20230825T220000
DTSTAMP:20260424T234728
CREATED:20230723T060826Z
LAST-MODIFIED:20230723T060826Z
UID:1459-1692986400-1693000800@nakano-dynamite.com
SUMMARY:ヤッチン祭
DESCRIPTION:2023.08.25 (fri)\nOPEN 18:00  START 18:30\nDOOR ￥2500(1D込)\n\n魔ゼルな規犬　 \nドラゴン岩村　 \nやまだだ\n桑原耀平\n劇団TANPOPO\n\n\nダイナマイトpre\nヤッチン祭\n@初台WALL
URL:https://nakano-dynamite.com/wall/event/202308-25/
LOCATION:初台WALL\, 西新宿　3-15-8-B1\, 新宿区\, 東京都\, 160-0023\, Japan
ATTACH;FMTTYPE=image/jpeg:https://nakano-dynamite.com/wall/wp-content/uploads/2023/07/20230825.jpg
END:VEVENT
END:VCALENDAR