BEGIN:VCALENDAR
VERSION:2.0
PRODID:-//Livehouse Wall - ECPv6.15.20//NONSGML v1.0//EN
CALSCALE:GREGORIAN
METHOD:PUBLISH
X-WR-CALNAME:Livehouse Wall
X-ORIGINAL-URL:https://nakano-dynamite.com/wall
X-WR-CALDESC:Livehouse Wall のイベント
REFRESH-INTERVAL;VALUE=DURATION:PT1H
X-Robots-Tag:noindex
X-PUBLISHED-TTL:PT1H
BEGIN:VTIMEZONE
TZID:Asia/Tokyo
BEGIN:STANDARD
TZOFFSETFROM:+0900
TZOFFSETTO:+0900
TZNAME:JST
DTSTART:20230101T000000
END:STANDARD
END:VTIMEZONE
BEGIN:VEVENT
DTSTART;TZID=Asia/Tokyo:20241221T173000
DTEND;TZID=Asia/Tokyo:20241221T220000
DTSTAMP:20260422T030805
CREATED:20241120T120651Z
LAST-MODIFIED:20241120T120651Z
UID:3183-1734802200-1734818400@nakano-dynamite.com
SUMMARY:「明日なき暴走」
DESCRIPTION:2024.12.21(sat)\nOPEN 17:30\nSTART 18:00\nADV ¥2500\nDOOR ¥3000\n+1D\n\n自爆\nhotspring\n衝子にメアリーズ\n千年ポプラ\nコンビニ人間\n\n\nコンビニ人間 pre.\n「明日なき暴走」 \n@初台WALL
URL:https://nakano-dynamite.com/wall/event/2024-12-21/
LOCATION:初台WALL\, 西新宿　3-15-8-B1\, 新宿区\, 東京都\, 160-0023\, Japan
ATTACH;FMTTYPE=image/jpeg:https://nakano-dynamite.com/wall/wp-content/uploads/2024/11/20241221.jpg
END:VEVENT
BEGIN:VEVENT
DTSTART;TZID=Asia/Tokyo:20240629T183000
DTEND;TZID=Asia/Tokyo:20240629T220000
DTSTAMP:20260422T030805
CREATED:20240613T142437Z
LAST-MODIFIED:20240613T142437Z
UID:2618-1719685800-1719698400@nakano-dynamite.com
SUMMARY:パキ抜けて逝春
DESCRIPTION:2024.06.29(sat)\nOPEN 18:30\nSTART 19:00\nDOOR ¥2500\n+1D\n\n千年ポプラ\nSonoSheet\ntotemぽぉる\nザ　ニンクス\n\n千年ポプラ pre.\nDr.パキ川ショー悟 脱退メモリアル公演\nパキ抜けて逝春\n@初台WALL
URL:https://nakano-dynamite.com/wall/event/2024-06-29-2/
LOCATION:初台WALL\, 西新宿　3-15-8-B1\, 新宿区\, 東京都\, 160-0023\, Japan
ATTACH;FMTTYPE=image/jpeg:https://nakano-dynamite.com/wall/wp-content/uploads/2024/06/20240629n.jpg
END:VEVENT
BEGIN:VEVENT
DTSTART;TZID=Asia/Tokyo:20240622T180000
DTEND;TZID=Asia/Tokyo:20240622T220000
DTSTAMP:20260422T030805
CREATED:20240613T090812Z
LAST-MODIFIED:20240613T090812Z
UID:2600-1719079200-1719093600@nakano-dynamite.com
SUMMARY:BLUE WIRE vol.2
DESCRIPTION:2024.06.22(sat)\nOPEN 18:00\nSTART 18:30\nADV ¥2000\nDOOR ¥2500\n+1D\n\n有刺鉄戦\n50/50's(大阪)\n9991\n千年ポプラ\n\n-DJ-\nイーグル・タカ\n\n\n有刺鉄戦 pre.\nBLUE WIRE vol.2\n@初台WALL
URL:https://nakano-dynamite.com/wall/event/2024-06-22/
LOCATION:初台WALL\, 西新宿　3-15-8-B1\, 新宿区\, 東京都\, 160-0023\, Japan
ATTACH;FMTTYPE=image/jpeg:https://nakano-dynamite.com/wall/wp-content/uploads/2024/06/20240622.jpg
END:VEVENT
END:VCALENDAR