BEGIN:VCALENDAR
VERSION:2.0
PRODID:-//Livehouse Wall - ECPv6.15.20//NONSGML v1.0//EN
CALSCALE:GREGORIAN
METHOD:PUBLISH
X-WR-CALNAME:Livehouse Wall
X-ORIGINAL-URL:https://nakano-dynamite.com/wall
X-WR-CALDESC:Livehouse Wall のイベント
REFRESH-INTERVAL;VALUE=DURATION:PT1H
X-Robots-Tag:noindex
X-PUBLISHED-TTL:PT1H
BEGIN:VTIMEZONE
TZID:Asia/Tokyo
BEGIN:STANDARD
TZOFFSETFROM:+0900
TZOFFSETTO:+0900
TZNAME:JST
DTSTART:20210101T000000
END:STANDARD
END:VTIMEZONE
BEGIN:VEVENT
DTSTART;TZID=Asia/Tokyo:20240829T180000
DTEND;TZID=Asia/Tokyo:20240829T220000
DTSTAMP:20260424T134424
CREATED:20240802T120139Z
LAST-MODIFIED:20240802T121019Z
UID:2887-1724954400-1724968800@nakano-dynamite.com
SUMMARY:Dynamite Justice
DESCRIPTION:2024.08.29(thu)\nOPEN 18:00\nSTART 18:30\nNO CHARGE\n2D(¥1200)\nワッシー\nAZUSA\nそうし\nKxExMxE\n小野ボーイ\nAYA\n爆アゲPOW太郎\n\nWALL pre.\nDynamite Justice\n@初台WALL
URL:https://nakano-dynamite.com/wall/event/2024-08-29/
LOCATION:初台WALL\, 西新宿　3-15-8-B1\, 新宿区\, 東京都\, 160-0023\, Japan
ATTACH;FMTTYPE=image/jpeg:https://nakano-dynamite.com/wall/wp-content/uploads/2024/08/20240829.jpg
END:VEVENT
BEGIN:VEVENT
DTSTART;TZID=Asia/Tokyo:20240717T180000
DTEND;TZID=Asia/Tokyo:20240717T220000
DTSTAMP:20260424T134424
CREATED:20240711T104457Z
LAST-MODIFIED:20240711T104457Z
UID:2751-1721239200-1721253600@nakano-dynamite.com
SUMMARY:Dynamite Justice
DESCRIPTION:2024.07.17(wed)\nOPEN 18:00\nSTART 18:30\nNO CHARGE\n2D(¥1200)\n\nAZUSA\nFUMI\nKIKURIN\nそうし\n小野ボーイ\nバブルマン\nAYA\n\nWALL pre.\nDynamite Justice\n@初台WALL
URL:https://nakano-dynamite.com/wall/event/2024-07-17/
LOCATION:初台WALL\, 西新宿　3-15-8-B1\, 新宿区\, 東京都\, 160-0023\, Japan
CATEGORIES:Dynamite Justice
ATTACH;FMTTYPE=image/jpeg:https://nakano-dynamite.com/wall/wp-content/uploads/2024/07/20240717.jpg
END:VEVENT
BEGIN:VEVENT
DTSTART;TZID=Asia/Tokyo:20221123T170000
DTEND;TZID=Asia/Tokyo:20221123T220000
DTSTAMP:20260424T134424
CREATED:20221121T024217Z
LAST-MODIFIED:20221129T091524Z
UID:28-1669222800-1669240800@nakano-dynamite.com
SUMMARY:小野ボーイpre: YOU GIVE ME ALL I NEED vol.18
DESCRIPTION:2022.11.23(WED祝)\nOPEN 17:00 / START 17:30\nADV ¥2000+1D\nDOOR ¥2300+1D\nHOW\nSxGxS\naudinaries\nwombscape\nバイニャンズ\nstench\n六根\n \n小野ボーイpre「YOU GIVE ME ALL I NEED vol.18」\n@初台WALL
URL:https://nakano-dynamite.com/wall/event/2022-11-23/
LOCATION:初台WALL\, 西新宿　3-15-8-B1\, 新宿区\, 東京都\, 160-0023\, Japan
ATTACH;FMTTYPE=image/jpeg:https://nakano-dynamite.com/wall/wp-content/uploads/2022/11/2022-11-23.jpg
END:VEVENT
END:VCALENDAR