BEGIN:VCALENDAR
VERSION:2.0
PRODID:-//Livehouse Wall - ECPv6.15.20//NONSGML v1.0//EN
CALSCALE:GREGORIAN
METHOD:PUBLISH
X-WR-CALNAME:Livehouse Wall
X-ORIGINAL-URL:https://nakano-dynamite.com/wall
X-WR-CALDESC:Livehouse Wall のイベント
REFRESH-INTERVAL;VALUE=DURATION:PT1H
X-Robots-Tag:noindex
X-PUBLISHED-TTL:PT1H
BEGIN:VTIMEZONE
TZID:Asia/Tokyo
BEGIN:STANDARD
TZOFFSETFROM:+0900
TZOFFSETTO:+0900
TZNAME:JST
DTSTART:20220101T000000
END:STANDARD
END:VTIMEZONE
BEGIN:VEVENT
DTSTART;TZID=Asia/Tokyo:20250921T170000
DTEND;TZID=Asia/Tokyo:20250921T220000
DTSTAMP:20260425T223956
CREATED:20250906T052714Z
LAST-MODIFIED:20250906T052714Z
UID:4181-1758474000-1758492000@nakano-dynamite.com
SUMMARY:整然たる我々を苦しめるるは幼稚なサディズムに他ならない vol.2
DESCRIPTION:2025.09.21(sun)\nOPEN 17:00\nSTART 17:30\nDOOR ¥2000\n+1D\n施餓鬼\nafterdismantling\nFilthy Hate\nabiuro\nhellIll\nSOCIAL EXCLUSION\n\n\n施餓鬼 pre.\n整然たる我々を苦しめるるは幼稚なサディズムに他ならない vol.2\n@初台WALL
URL:https://nakano-dynamite.com/wall/event/2025-09-21/
LOCATION:初台WALL\, 西新宿　3-15-8-B1\, 新宿区\, 東京都\, 160-0023\, Japan
ATTACH;FMTTYPE=image/jpeg:https://nakano-dynamite.com/wall/wp-content/uploads/2025/09/20250921.jpg
END:VEVENT
BEGIN:VEVENT
DTSTART;TZID=Asia/Tokyo:20231119T155000
DTEND;TZID=Asia/Tokyo:20231119T220000
DTSTAMP:20260425T223956
CREATED:20231018T115558Z
LAST-MODIFIED:20231018T115558Z
UID:1668-1700409000-1700431200@nakano-dynamite.com
SUMMARY:CONVINIUM vol.8
DESCRIPTION:2023.11.19 (sun)\nOPEN 15:50  START 16:20\nADV ￥2400 DOOR￥2900＋1D\n\nAbiuro\nBISING\nClient/server\nDoomsday\nDrastik Adhesive Force\nSkin Job\nNOIZEGOAT\n施餓鬼\n\n\nAbiuro pre\nCONVINIUM vol.8\n＠初台WALL
URL:https://nakano-dynamite.com/wall/event/2023-11-19/
LOCATION:初台WALL\, 西新宿　3-15-8-B1\, 新宿区\, 東京都\, 160-0023\, Japan
ATTACH;FMTTYPE=image/jpeg:https://nakano-dynamite.com/wall/wp-content/uploads/2023/10/20231119.jpg
END:VEVENT
END:VCALENDAR