BEGIN:VCALENDAR
VERSION:2.0
PRODID:-//Livehouse Wall - ECPv6.15.20//NONSGML v1.0//EN
CALSCALE:GREGORIAN
METHOD:PUBLISH
X-ORIGINAL-URL:https://nakano-dynamite.com/wall
X-WR-CALDESC:Livehouse Wall のイベント
REFRESH-INTERVAL;VALUE=DURATION:PT1H
X-Robots-Tag:noindex
X-PUBLISHED-TTL:PT1H
BEGIN:VTIMEZONE
TZID:Asia/Tokyo
BEGIN:STANDARD
TZOFFSETFROM:+0900
TZOFFSETTO:+0900
TZNAME:JST
DTSTART:20230101T000000
END:STANDARD
END:VTIMEZONE
BEGIN:VEVENT
DTSTART;TZID=Asia/Tokyo:20240712T183000
DTEND;TZID=Asia/Tokyo:20240712T220000
DTSTAMP:20260423T103451
CREATED:20240627T124404Z
LAST-MODIFIED:20240627T124404Z
UID:2643-1720809000-1720821600@nakano-dynamite.com
SUMMARY:ワイワイワールド
DESCRIPTION:2024.07.12(fri)\nOPEN 18:30\nSTART 19:00\nADV ¥2000\nDOOR ¥2500\n+1D\n\nクーズーズ\nやっさん@Longneck\n有刺鉄戦\nANOYO DANCE CLUB\n\nWALL pre.\nワイワイワールド\n@初台WALL
URL:https://nakano-dynamite.com/wall/event/2024-07-12/
LOCATION:初台WALL\, 西新宿　3-15-8-B1\, 新宿区\, 東京都\, 160-0023\, Japan
ATTACH;FMTTYPE=image/jpeg:https://nakano-dynamite.com/wall/wp-content/uploads/2024/06/20240712.jpg
END:VEVENT
BEGIN:VEVENT
DTSTART;TZID=Asia/Tokyo:20240816T183000
DTEND;TZID=Asia/Tokyo:20240816T220000
DTSTAMP:20260423T103451
CREATED:20240727T094420Z
LAST-MODIFIED:20240730T081327Z
UID:2829-1723833000-1723845600@nakano-dynamite.com
SUMMARY:NEW BRAIN
DESCRIPTION:2024.08.16(fri)\nOPEN 18:30\nSTART 19:00\nDOOR ¥2000\n+1D\n\nGOOD DREAM\nRIRIRI\n有刺鉄戦\nSILENCE HOLDER\n平成虎吉\n\nWALL pre.\nNEW BRAIN\n@初台WALL
URL:https://nakano-dynamite.com/wall/event/2024-08-16/
LOCATION:初台WALL\, 西新宿　3-15-8-B1\, 新宿区\, 東京都\, 160-0023\, Japan
ATTACH;FMTTYPE=image/jpeg:https://nakano-dynamite.com/wall/wp-content/uploads/2024/07/20240816.jpg
END:VEVENT
BEGIN:VEVENT
DTSTART;TZID=Asia/Tokyo:20240916T140000
DTEND;TZID=Asia/Tokyo:20240916T220000
DTSTAMP:20260423T103451
CREATED:20240829T112646Z
LAST-MODIFIED:20240829T130624Z
UID:2934-1726495200-1726524000@nakano-dynamite.com
SUMMARY:OVERALL
DESCRIPTION:2024.09.16(mon)\nOPEN 14:00\nSTART 14:30\nADV ¥2400\nDOOR ¥2900\n+1D\n\nHOW\n有刺鉄戦\nDEAD STOCK\nDOINGLIFE\nクーズーズ\n前川エクスプロージョン(長野)\nTOMBOTORI\n\n-DJ-\nセージーガガ\n\n-FOOD-\nバングイバオベ\n\nHOW pre.\nOVERALL\n@初台WALL
URL:https://nakano-dynamite.com/wall/event/2024-09-16/
LOCATION:初台WALL\, 西新宿　3-15-8-B1\, 新宿区\, 東京都\, 160-0023\, Japan
ATTACH;FMTTYPE=image/jpeg:https://nakano-dynamite.com/wall/wp-content/uploads/2024/08/20240916.jpg
END:VEVENT
BEGIN:VEVENT
DTSTART;TZID=Asia/Tokyo:20241103T163000
DTEND;TZID=Asia/Tokyo:20241103T220000
DTSTAMP:20260423T103451
CREATED:20241003T133428Z
LAST-MODIFIED:20241003T133428Z
UID:3051-1730651400-1730671200@nakano-dynamite.com
SUMMARY:"これより先日本国憲法通用せず"
DESCRIPTION:2024.11.03(sun)\nOPEN 16:30\nSTART 17:00\nADV ¥2000\nDOOR ¥2500\n+1D\n\nABOS\nピーポーズ\nNINJA BOYZ\nCAECUM\nらすけべ\n有刺鉄戦\nafterpilldren\n\n-DJ-\nsazablizry\n\n\nCAECUM pre.\n"これより先日本国憲法通用せず" \n@初台WALL
URL:https://nakano-dynamite.com/wall/event/2024-11-03/
LOCATION:初台WALL\, 西新宿　3-15-8-B1\, 新宿区\, 東京都\, 160-0023\, Japan
ATTACH;FMTTYPE=image/jpeg:https://nakano-dynamite.com/wall/wp-content/uploads/2024/10/20241103.jpg
END:VEVENT
BEGIN:VEVENT
DTSTART;TZID=Asia/Tokyo:20250201T174500
DTEND;TZID=Asia/Tokyo:20250201T220000
DTSTAMP:20260423T103451
CREATED:20250122T101147Z
LAST-MODIFIED:20250122T101223Z
UID:3311-1738431900-1738447200@nakano-dynamite.com
SUMMARY:BLUE WIRE vol.4 〜有刺鉄戦1st Album"BARBED WIRE" & HEAVEN'S GATE "FLYGHT HI PSYCHO" W RELEASE GIG〜
DESCRIPTION:2025.02.01(sat)\nOPEN 17:45\nSTART 18:15\nADV ¥2000\nDOOR ¥2500\n+1D\n\n有刺鉄戦\nHEAVEN'S GATE(Hiroshima)\nTHE PUNKEES(Hiroshima)\nTHE GUAYS\n\n\n\n有刺鉄戦 pre.\nBLUE WIRE vol.4\n〜有刺鉄戦1st Album"BARBED WIRE" & HEAVEN'S GATE "FLYGHT HI PSYCHO" W RELEASE GIG〜\n@初台WALL
URL:https://nakano-dynamite.com/wall/event/2025-02-01-2/
LOCATION:初台WALL\, 西新宿　3-15-8-B1\, 新宿区\, 東京都\, 160-0023\, Japan
ATTACH;FMTTYPE=image/jpeg:https://nakano-dynamite.com/wall/wp-content/uploads/2025/01/20250201-2.jpg
END:VEVENT
END:VCALENDAR