BEGIN:VCALENDAR
VERSION:2.0
PRODID:-//Livehouse Wall - ECPv6.15.20//NONSGML v1.0//EN
CALSCALE:GREGORIAN
METHOD:PUBLISH
X-WR-CALNAME:Livehouse Wall
X-ORIGINAL-URL:https://nakano-dynamite.com/wall
X-WR-CALDESC:Livehouse Wall のイベント
REFRESH-INTERVAL;VALUE=DURATION:PT1H
X-Robots-Tag:noindex
X-PUBLISHED-TTL:PT1H
BEGIN:VTIMEZONE
TZID:Asia/Tokyo
BEGIN:STANDARD
TZOFFSETFROM:+0900
TZOFFSETTO:+0900
TZNAME:JST
DTSTART:20240101T000000
END:STANDARD
END:VTIMEZONE
BEGIN:VEVENT
DTSTART;TZID=Asia/Tokyo:20251226T180000
DTEND;TZID=Asia/Tokyo:20251226T220000
DTSTAMP:20260422T123346
CREATED:20251203T120347Z
LAST-MODIFIED:20251203T120347Z
UID:4404-1766772000-1766786400@nakano-dynamite.com
SUMMARY:澤田慎太郎危機一髪 ~SWD生誕35周年記念 BIRTHDAY NIGHT~
DESCRIPTION:2025.12.26(fri)\nOPEN TBA\nSTART TBA\nDOOR ¥1400\n+1D\n\n■約半年で40kg減量した男のケトジェニック講座\n■アレンジレンジ\n■帰ってきた口ラッパ師匠\n■この星に生まれて~銀河の果てからの手紙~\n■サワダグラフティ2025\n■ガーリックマスター\n■卒業の豚山寝男\n■トレーニングデイ\n■論理的思考を紐解こう\n■夢にみた場所\n■真キャベツ太郎 \n\n\n澤田慎太郎危機一髪\n~SWD生誕35周年記念 BIRTHDAY NIGHT~\n@初台WALL
URL:https://nakano-dynamite.com/wall/event/2025-12-26/
LOCATION:初台WALL\, 西新宿　3-15-8-B1\, 新宿区\, 東京都\, 160-0023\, Japan
ATTACH;FMTTYPE=image/jpeg:https://nakano-dynamite.com/wall/wp-content/uploads/2025/12/20251226.jpg
END:VEVENT
END:VCALENDAR