BEGIN:VCALENDAR
VERSION:2.0
PRODID:-//Livehouse Wall - ECPv6.15.20//NONSGML v1.0//EN
CALSCALE:GREGORIAN
METHOD:PUBLISH
X-WR-CALNAME:Livehouse Wall
X-ORIGINAL-URL:https://nakano-dynamite.com/wall
X-WR-CALDESC:Livehouse Wall のイベント
REFRESH-INTERVAL;VALUE=DURATION:PT1H
X-Robots-Tag:noindex
X-PUBLISHED-TTL:PT1H
BEGIN:VTIMEZONE
TZID:Asia/Tokyo
BEGIN:STANDARD
TZOFFSETFROM:+0900
TZOFFSETTO:+0900
TZNAME:JST
DTSTART:20220101T000000
END:STANDARD
END:VTIMEZONE
BEGIN:VEVENT
DTSTART;TZID=Asia/Tokyo:20250123T183000
DTEND;TZID=Asia/Tokyo:20250123T220000
DTSTAMP:20260422T092315
CREATED:20241222T100655Z
LAST-MODIFIED:20241222T100655Z
UID:3270-1737657000-1737669600@nakano-dynamite.com
SUMMARY:Mr.まいと
DESCRIPTION:2025.01.23(thu)\nOPEN 18:30\nSTART 19:00\nADV/DOOR ¥1000\n+1D\nまきお(おまえ)\n白雲繭子\n今泉まな\nポコンチサイトー(クーズーズ)\n野村秀直(Bad Attack)\n安野公祐(サヨナラボーイ)\n\n\n\nダイナマイト&ヤスイ pre.\nMr.まいと\n@初台WALL
URL:https://nakano-dynamite.com/wall/event/2025-01-23/
LOCATION:初台WALL\, 西新宿　3-15-8-B1\, 新宿区\, 東京都\, 160-0023\, Japan
ATTACH;FMTTYPE=image/jpeg:https://nakano-dynamite.com/wall/wp-content/uploads/2024/12/20250123.jpg
END:VEVENT
BEGIN:VEVENT
DTSTART;TZID=Asia/Tokyo:20240111T183000
DTEND;TZID=Asia/Tokyo:20240111T220000
DTSTAMP:20260422T092315
CREATED:20231224T074831Z
LAST-MODIFIED:20231224T074831Z
UID:2191-1704997800-1705010400@nakano-dynamite.com
SUMMARY:ACOUSTIC NIGHT
DESCRIPTION:2024.01.11　(thu)\nOPEN 18:30  START 19:00\nDOOR ￥2000＋1D\n\n冨井祐輔 \nダイナマイト \n白雲繭子 \nやまだだ \n平成虎吉 \nポコンチサイトー\n\n\nWALL pre\nACOUSTIC NIGHT\n＠初台WALL
URL:https://nakano-dynamite.com/wall/event/2024-01-11/
LOCATION:初台WALL\, 西新宿　3-15-8-B1\, 新宿区\, 東京都\, 160-0023\, Japan
ATTACH;FMTTYPE=image/jpeg:https://nakano-dynamite.com/wall/wp-content/uploads/2023/12/20240111.jpg
END:VEVENT
BEGIN:VEVENT
DTSTART;TZID=Asia/Tokyo:20231101T190000
DTEND;TZID=Asia/Tokyo:20231101T220000
DTSTAMP:20260422T092315
CREATED:20231006T104758Z
LAST-MODIFIED:20231006T104758Z
UID:1622-1698865200-1698876000@nakano-dynamite.com
SUMMARY:Acoustic Night
DESCRIPTION:2023.11.01 (wed)\nOPEN 19:00  START 19:25\nDOOR￥2000＋1D\n\n舘野nagets毅彦(chickennagets)\nダイナマイト(ABOS)\n宮原タクマロ(TEENAGE AFTERPARTY/GURU)\n平成虎吉(クーズーズ/ギョビリーズ)\n野村秀直(Bad Attack/クーズーズ)\n白雲繭子\n\n\n\nWALL pre\nAcoustic Night\n@初台WALL
URL:https://nakano-dynamite.com/wall/event/2023-11-01/
LOCATION:初台WALL\, 西新宿　3-15-8-B1\, 新宿区\, 東京都\, 160-0023\, Japan
ATTACH;FMTTYPE=image/jpeg:https://nakano-dynamite.com/wall/wp-content/uploads/2023/10/20231101.jpg
END:VEVENT
BEGIN:VEVENT
DTSTART;TZID=Asia/Tokyo:20230630T180000
DTEND;TZID=Asia/Tokyo:20230630T220000
DTSTAMP:20260422T092315
CREATED:20230603T054920Z
LAST-MODIFIED:20230603T054920Z
UID:1329-1688148000-1688162400@nakano-dynamite.com
SUMMARY:ヤッチン祭
DESCRIPTION:2023.06.30 (sat)\nOPEN 18:00 START 18:30\nDOOR ￥2500(1D込)\n\n白雲繭子 \nV.A.D \nSHINIHNG MOMENT　 \nGUILLOTINE TERROR　 \nいち\n\nダイナマイトpre\nヤッチン祭\n＠初台WALL
URL:https://nakano-dynamite.com/wall/event/2023-06-30/
LOCATION:初台WALL\, 西新宿　3-15-8-B1\, 新宿区\, 東京都\, 160-0023\, Japan
ATTACH;FMTTYPE=image/jpeg:https://nakano-dynamite.com/wall/wp-content/uploads/2023/06/20230630.jpg
END:VEVENT
END:VCALENDAR