BEGIN:VCALENDAR
VERSION:2.0
PRODID:-//Livehouse Wall - ECPv6.15.20//NONSGML v1.0//EN
CALSCALE:GREGORIAN
METHOD:PUBLISH
X-WR-CALNAME:Livehouse Wall
X-ORIGINAL-URL:https://nakano-dynamite.com/wall
X-WR-CALDESC:Livehouse Wall のイベント
REFRESH-INTERVAL;VALUE=DURATION:PT1H
X-Robots-Tag:noindex
X-PUBLISHED-TTL:PT1H
BEGIN:VTIMEZONE
TZID:Asia/Tokyo
BEGIN:STANDARD
TZOFFSETFROM:+0900
TZOFFSETTO:+0900
TZNAME:JST
DTSTART:20220101T000000
END:STANDARD
END:VTIMEZONE
BEGIN:VEVENT
DTSTART;TZID=Asia/Tokyo:20240319T183000
DTEND;TZID=Asia/Tokyo:20240319T220000
DTSTAMP:20260422T072549
CREATED:20240221T113224Z
LAST-MODIFIED:20240221T140555Z
UID:2382-1710873000-1710885600@nakano-dynamite.com
SUMMARY:一斉検挙
DESCRIPTION:2024.03.19(tue)\nOPEN 18:30\nSTART 19:00\nDOOR￥2000\n+1D\n\n爆裂ジャイロ\n達磨\nサザンクロズ\nノイジーマイノリティー\n\n\n\n\nダルマシンゴ鵺　pre\n一斉検挙\n@初台WALL
URL:https://nakano-dynamite.com/wall/event/2024-03-19/
LOCATION:初台WALL\, 西新宿　3-15-8-B1\, 新宿区\, 東京都\, 160-0023\, Japan
ATTACH;FMTTYPE=image/jpeg:https://nakano-dynamite.com/wall/wp-content/uploads/2024/02/20240319.jpg
END:VEVENT
BEGIN:VEVENT
DTSTART;TZID=Asia/Tokyo:20240212T160000
DTEND;TZID=Asia/Tokyo:20240212T220000
DTSTAMP:20260422T072549
CREATED:20240208T130349Z
LAST-MODIFIED:20240208T131238Z
UID:2281-1707753600-1707775200@nakano-dynamite.com
SUMMARY:酒不足解消GIG
DESCRIPTION:2024.02.12 (mon)\nOPEN 16:00  START 16:30\nADV&DOOR￥2400＋1D\n\n罵倒流鷹-battlehawk-\nFUROUJI\n達磨\nAbiuro\nベヘモットトルエン\nDAYBREAK\nBUMPED HIS HEAD\nFUCK ON THE BEACH \n\n\n\nWALL pre\n酒不足解消GIG\n@初台WALL
URL:https://nakano-dynamite.com/wall/event/2024-02-12/
LOCATION:初台WALL\, 西新宿　3-15-8-B1\, 新宿区\, 東京都\, 160-0023\, Japan
CATEGORIES:酒不足解消GIG
ATTACH;FMTTYPE=image/jpeg:https://nakano-dynamite.com/wall/wp-content/uploads/2024/02/20240212.jpg
END:VEVENT
BEGIN:VEVENT
DTSTART;TZID=Asia/Tokyo:20240125T190000
DTEND;TZID=Asia/Tokyo:20240125T220000
DTSTAMP:20260422T072549
CREATED:20240106T064229Z
LAST-MODIFIED:20240121T130038Z
UID:2218-1706209200-1706220000@nakano-dynamite.com
SUMMARY:宮原タクマロのGiG道楽　vol.19
DESCRIPTION:2024.01.25 (Thu)\nOPEN/START 19:00\nDOOR ￥2000＋1D\n\n達磨\nおまえ\nKusabana\nTEENAGE AFTERPARTY\n\nDJ\n乗り鉄\nタクマロ\n\n \n宮原タクマロpre\n宮原タクマロのGiG道楽　vol.19\n＠初台WALL
URL:https://nakano-dynamite.com/wall/event/2024-01-25/
LOCATION:初台WALL\, 西新宿　3-15-8-B1\, 新宿区\, 東京都\, 160-0023\, Japan
ATTACH;FMTTYPE=image/jpeg:https://nakano-dynamite.com/wall/wp-content/uploads/2024/01/20240125.jpg
END:VEVENT
BEGIN:VEVENT
DTSTART;TZID=Asia/Tokyo:20240112T183000
DTEND;TZID=Asia/Tokyo:20240112T220000
DTSTAMP:20260422T072549
CREATED:20231216T065116Z
LAST-MODIFIED:20231216T065116Z
UID:2179-1705084200-1705096800@nakano-dynamite.com
SUMMARY:一斉検挙
DESCRIPTION:2024.01.12 (fri)\nOPEN 18:30  START 19:00\nDOOR ￥2000＋1D\n\n達磨\nWEIGHT\n絆創攻\nORAMA\n\n\nダルマシンゴ鵺pre\n一斉検挙\n@初台WALL
URL:https://nakano-dynamite.com/wall/event/2023-01-12-2/
LOCATION:初台WALL\, 西新宿　3-15-8-B1\, 新宿区\, 東京都\, 160-0023\, Japan
ATTACH;FMTTYPE=image/jpeg:https://nakano-dynamite.com/wall/wp-content/uploads/2023/12/20240112.jpg
END:VEVENT
BEGIN:VEVENT
DTSTART;TZID=Asia/Tokyo:20231125T163000
DTEND;TZID=Asia/Tokyo:20231125T220000
DTSTAMP:20260422T072549
CREATED:20231028T060604Z
LAST-MODIFIED:20231028T060604Z
UID:1689-1700929800-1700949600@nakano-dynamite.com
SUMMARY:蜃気楼
DESCRIPTION:2023.11.25 (sat)\nOPEN 16:30  START 17:00\nADV￥2400 DOOR￥2900＋1D\n\nMISPRISSION(新庄)\nCHARGED(新庄)\nHOW\nDOINGLIFE\nnastie\n達磨\ntable\n\n\n\nWALL pre\n蜃気楼\n@初台WALL
URL:https://nakano-dynamite.com/wall/event/2023-11-25/
LOCATION:初台WALL\, 西新宿　3-15-8-B1\, 新宿区\, 東京都\, 160-0023\, Japan
ATTACH;FMTTYPE=image/jpeg:https://nakano-dynamite.com/wall/wp-content/uploads/2023/10/20231125.jpg
END:VEVENT
BEGIN:VEVENT
DTSTART;TZID=Asia/Tokyo:20231002T183000
DTEND;TZID=Asia/Tokyo:20231002T220000
DTSTAMP:20260422T072549
CREATED:20230917T083337Z
LAST-MODIFIED:20230917T083337Z
UID:1557-1696271400-1696284000@nakano-dynamite.com
SUMMARY:MAGICAL VIBES
DESCRIPTION:2023.10.2(mon)\nOPEN 18:30 START 19:00\nDOOR ￥2000＋1D\n達磨 \n負塊 \ngloptin\n蓮尾 公基 \n\nWALL pre\nMAGICAL VIBES\n@初台WALL
URL:https://nakano-dynamite.com/wall/event/2023-10-02/
LOCATION:初台WALL\, 西新宿　3-15-8-B1\, 新宿区\, 東京都\, 160-0023\, Japan
ATTACH;FMTTYPE=image/jpeg:https://nakano-dynamite.com/wall/wp-content/uploads/2023/09/20231002.jpg
END:VEVENT
BEGIN:VEVENT
DTSTART;TZID=Asia/Tokyo:20230914T183000
DTEND;TZID=Asia/Tokyo:20230914T220000
DTSTAMP:20260422T072549
CREATED:20230727T080947Z
LAST-MODIFIED:20230727T080947Z
UID:1483-1694716200-1694728800@nakano-dynamite.com
SUMMARY:ALCOHOL BREAK
DESCRIPTION:2023.09.14 (thu)\nOPEN 18:30  START 19:00\nDOOR ￥2000＋1D\n\ni's \n74 \n達磨\n天獄 \nDIET OF DEATH \n\n\nWALL pre\nALCOHOL BREAK\n@初台WALL
URL:https://nakano-dynamite.com/wall/event/2023-09-14/
LOCATION:初台WALL\, 西新宿　3-15-8-B1\, 新宿区\, 東京都\, 160-0023\, Japan
ATTACH;FMTTYPE=image/jpeg:https://nakano-dynamite.com/wall/wp-content/uploads/2023/07/20230914.jpg
END:VEVENT
BEGIN:VEVENT
DTSTART;TZID=Asia/Tokyo:20230827T150000
DTEND;TZID=Asia/Tokyo:20230827T220000
DTSTAMP:20260422T072549
CREATED:20230725T084933Z
LAST-MODIFIED:20230725T084933Z
UID:1467-1693148400-1693173600@nakano-dynamite.com
SUMMARY:-soulful soup- vol.2
DESCRIPTION:2023.08.27 (sun)\nOPEN 15:00  START 15:30\nADV ￥2400 DOOR ￥2900 ＋1D\n\n\n\n\n\n\nソレガケイゴ(O.A) \n達磨 \nおまえ\n DxIxE \nGUILLOTINE TERROR\n ノイジーマイノリティー \n己是(会津) \nアノダイズヘッド\n Deer core\n\nfood.ササノのごはん\n\n\n達磨pre\n-soulful soup- vol.2\n@初台WALL
URL:https://nakano-dynamite.com/wall/event/2023-08-27/
LOCATION:初台WALL\, 西新宿　3-15-8-B1\, 新宿区\, 東京都\, 160-0023\, Japan
ATTACH;FMTTYPE=image/jpeg:https://nakano-dynamite.com/wall/wp-content/uploads/2023/07/20230827.jpg
END:VEVENT
BEGIN:VEVENT
DTSTART;TZID=Asia/Tokyo:20230812T180000
DTEND;TZID=Asia/Tokyo:20230812T220000
DTSTAMP:20260422T072549
CREATED:20230723T062403Z
LAST-MODIFIED:20230723T062403Z
UID:1464-1691863200-1691877600@nakano-dynamite.com
SUMMARY:寺子屋GIG SPECIAL
DESCRIPTION:2023.08.12 (sat)\nOPEN 18:00  START 18:30\nADV¥1500 DOOR ¥2000 +1D\n\nノイジーマイノリティー \nABOS \n達磨 \nWater Maze \nアシックス★ブーメランズ\n\n\nノイジーマイノリティーpre\n寺子屋GIG SPECIAL\n@初台WALL
URL:https://nakano-dynamite.com/wall/event/2023-08-12/
LOCATION:初台WALL\, 西新宿　3-15-8-B1\, 新宿区\, 東京都\, 160-0023\, Japan
ATTACH;FMTTYPE=image/jpeg:https://nakano-dynamite.com/wall/wp-content/uploads/2023/07/20230812.jpg
END:VEVENT
BEGIN:VEVENT
DTSTART;TZID=Asia/Tokyo:20230614T183000
DTEND;TZID=Asia/Tokyo:20230614T220000
DTSTAMP:20260422T072549
CREATED:20230510T103444Z
LAST-MODIFIED:20230510T103444Z
UID:1274-1686767400-1686780000@nakano-dynamite.com
SUMMARY:Lunatic Alcohol Club Japan Special  L.A.C Vol.7　　  WALL 24th ANNIVERSARY
DESCRIPTION:2023.06.14 (wed)\nOPEN 18:30  START 19:00\nADV ￥1900 DOOR ￥2400 +1D\n \n達磨 \n有刺鉄戦 \nおまえ 9991 \nGOOD DREAM\n\nDJ \n小野ボーイ \nTMY \n\nPhoto koyanki\n\nFood DINING ざくろ \n\nShop TORANOCO\n\n\nMISARIN pre\nLunatic Alcohol Club Japan Special L.A.C Vol.7 　　WALL 24th ANNIVERSARY\n＠初台WALL
URL:https://nakano-dynamite.com/wall/event/2023-06-14/
LOCATION:初台WALL\, 西新宿　3-15-8-B1\, 新宿区\, 東京都\, 160-0023\, Japan
ATTACH;FMTTYPE=image/jpeg:https://nakano-dynamite.com/wall/wp-content/uploads/2023/05/20230614.jpg
END:VEVENT
BEGIN:VEVENT
DTSTART;TZID=Asia/Tokyo:20230503T170000
DTEND;TZID=Asia/Tokyo:20230503T220000
DTSTAMP:20260422T072549
CREATED:20230329T112224Z
LAST-MODIFIED:20230329T112453Z
UID:1139-1683133200-1683151200@nakano-dynamite.com
SUMMARY:初台大雲原
DESCRIPTION:2023.05.03 (wed)\nOPEN 17:00 START 17:30\nDOOR ￥2400+1D\n\n己是(会津)　 \nEIEFITS　 \nBumped his head \nRydeen　 \n達磨　 \nBRING ARROW\n\n新・二天一流 pre\n初台大雲原\n@初台WALL
URL:https://nakano-dynamite.com/wall/event/2023-05-03/
LOCATION:初台WALL\, 西新宿　3-15-8-B1\, 新宿区\, 東京都\, 160-0023\, Japan
ATTACH;FMTTYPE=image/png:https://nakano-dynamite.com/wall/wp-content/uploads/2023/03/202305033.png
END:VEVENT
BEGIN:VEVENT
DTSTART;TZID=Asia/Tokyo:20230324T180000
DTEND;TZID=Asia/Tokyo:20230324T220000
DTSTAMP:20260422T072549
CREATED:20230219T110354Z
LAST-MODIFIED:20230219T110354Z
UID:987-1679680800-1679695200@nakano-dynamite.com
SUMMARY:現代着火
DESCRIPTION:2023.03.24(fri)\nOPEN 18:00  START 18:30\n¥1500+1D\n\nNAMASTE\n達磨\nノイジーマイノリティー\nおまえ\n\n\n千葉史雄 pre\n現代着火\n＠初台WALL
URL:https://nakano-dynamite.com/wall/event/2023-03-24/
LOCATION:初台WALL\, 西新宿　3-15-8-B1\, 新宿区\, 東京都\, 160-0023\, Japan
ATTACH;FMTTYPE=image/jpeg:https://nakano-dynamite.com/wall/wp-content/uploads/2023/02/20230324.jpg
END:VEVENT
BEGIN:VEVENT
DTSTART;TZID=Asia/Tokyo:20230122T160000
DTEND;TZID=Asia/Tokyo:20230122T220000
DTSTAMP:20260422T072549
CREATED:20221130T150054Z
LAST-MODIFIED:20221222T094117Z
UID:221-1674403200-1674424800@nakano-dynamite.com
SUMMARY:Harvest
DESCRIPTION:2023.01.22(sun)\nOPEN16:00 START16:30\nDOORONLY! ￥1500+1D\nアノダイズヘッド\nFRACTURE　\n達磨　 \nBad Choice　\nSequel \nはいから　\nPLUCK\n\nHarvest\n@初台WALL
URL:https://nakano-dynamite.com/wall/event/2023-01-22/
LOCATION:初台WALL\, 西新宿　3-15-8-B1\, 新宿区\, 東京都\, 160-0023\, Japan
ATTACH;FMTTYPE=image/jpeg:https://nakano-dynamite.com/wall/wp-content/uploads/2022/12/1・22.jpg
END:VEVENT
END:VCALENDAR