BEGIN:VCALENDAR
VERSION:2.0
PRODID:-//Livehouse Wall - ECPv6.15.20//NONSGML v1.0//EN
CALSCALE:GREGORIAN
METHOD:PUBLISH
X-ORIGINAL-URL:https://nakano-dynamite.com/wall
X-WR-CALDESC:Livehouse Wall のイベント
REFRESH-INTERVAL;VALUE=DURATION:PT1H
X-Robots-Tag:noindex
X-PUBLISHED-TTL:PT1H
BEGIN:VTIMEZONE
TZID:Asia/Tokyo
BEGIN:STANDARD
TZOFFSETFROM:+0900
TZOFFSETTO:+0900
TZNAME:JST
DTSTART:20240101T000000
END:STANDARD
END:VTIMEZONE
BEGIN:VEVENT
DTSTART;TZID=Asia/Tokyo:20250925T190000
DTEND;TZID=Asia/Tokyo:20250925T220000
DTSTAMP:20260423T121810
CREATED:20250907T064106Z
LAST-MODIFIED:20250907T064112Z
UID:4185-1758826800-1758837600@nakano-dynamite.com
SUMMARY:Reason To Be vol.2
DESCRIPTION:2025.09.25(thu)\nOPEN 19:00\nSTART 19:30\nADV ¥1900\nDOOR ¥2400\n+1D\n\nPADO\nHonninman\nセーラーかんな子\n黄倉未来\nDEATHRO(VHS-SET)\n\n\nHaruna pre.\nReason To Be vol.2 \n@初台WALL
URL:https://nakano-dynamite.com/wall/event/2025-09-25/
LOCATION:初台WALL\, 西新宿　3-15-8-B1\, 新宿区\, 東京都\, 160-0023\, Japan
ATTACH;FMTTYPE=image/jpeg:https://nakano-dynamite.com/wall/wp-content/uploads/2025/09/20250925.jpg
END:VEVENT
BEGIN:VEVENT
DTSTART;TZID=Asia/Tokyo:20260411T173000
DTEND;TZID=Asia/Tokyo:20260411T220000
DTSTAMP:20260423T121810
CREATED:20260404T073954Z
LAST-MODIFIED:20260404T073954Z
UID:4794-1775928600-1775944800@nakano-dynamite.com
SUMMARY:ピーポーズのパピプペポパペパピー4
DESCRIPTION:2026.04.11(sat)\nOPEN 17:30\nSTART 18:00\nDOOR ¥2500\nU-23 ¥1500\n+1D\n\nピーポーズ\n一楽儀光 × 和田晋侍\n黄倉未来\nダンカンバカヤロー！\nにんまり(加古川)\nプンクボイ\nペガサス団\n\nピーポーズ Pre.\nピーポーズのパピプペポパペパピー4\n@初台WALL
URL:https://nakano-dynamite.com/wall/event/2026-04-11/
LOCATION:初台WALL\, 西新宿　3-15-8-B1\, 新宿区\, 東京都\, 160-0023\, Japan
ATTACH;FMTTYPE=image/jpeg:https://nakano-dynamite.com/wall/wp-content/uploads/2026/04/20260411.jpg
END:VEVENT
END:VCALENDAR