BEGIN:VCALENDAR
VERSION:2.0
PRODID:-//Livehouse Wall - ECPv6.15.20//NONSGML v1.0//EN
CALSCALE:GREGORIAN
METHOD:PUBLISH
X-WR-CALNAME:Livehouse Wall
X-ORIGINAL-URL:https://nakano-dynamite.com/wall
X-WR-CALDESC:Livehouse Wall のイベント
REFRESH-INTERVAL;VALUE=DURATION:PT1H
X-Robots-Tag:noindex
X-PUBLISHED-TTL:PT1H
BEGIN:VTIMEZONE
TZID:Asia/Tokyo
BEGIN:STANDARD
TZOFFSETFROM:+0900
TZOFFSETTO:+0900
TZNAME:JST
DTSTART:20210101T000000
END:STANDARD
END:VTIMEZONE
BEGIN:VEVENT
DTSTART;TZID=Asia/Tokyo:20250823T180000
DTEND;TZID=Asia/Tokyo:20250823T220000
DTSTAMP:20260422T083552
CREATED:20250709T130317Z
LAST-MODIFIED:20250709T130317Z
UID:3956-1755972000-1755986400@nakano-dynamite.com
SUMMARY:"JUNKPOT32"
DESCRIPTION:2025.08.23(sat)\nOPEN/START 18:00\nDOOR ONLY ¥2400\n+1D\n-LIVE-\nBLONDnewHALF\n秘部痺れ\nshuhari\nghettos \n\n-DJs-\nMUM\noqbo\nkun\n\n\n"JUNKPOT32" \n@初台WALL
URL:https://nakano-dynamite.com/wall/event/2025-08-23/
LOCATION:初台WALL\, 西新宿　3-15-8-B1\, 新宿区\, 東京都\, 160-0023\, Japan
ATTACH;FMTTYPE=image/jpeg:https://nakano-dynamite.com/wall/wp-content/uploads/2025/07/20250823.jpg
END:VEVENT
BEGIN:VEVENT
DTSTART;TZID=Asia/Tokyo:20250719T160000
DTEND;TZID=Asia/Tokyo:20250719T220000
DTSTAMP:20260422T083552
CREATED:20250619T105022Z
LAST-MODIFIED:20250619T105022Z
UID:3897-1752940800-1752962400@nakano-dynamite.com
SUMMARY:The ERA
DESCRIPTION:2025.07.19(sat)\nOPEN 16:00\nSTART 16:30\nDOOR ¥2400\n+1D\n\nILBASTARDO\nDOWNWARD\nBETICO ROUGE\nHOW\nDEVD FRE$H\nAND BELEIVE\nSHARAKU\n\n-DJ-\nMUM\nY2NO\n一旦木綿\nOK BOY\n\n-FOOD-\nDINING ザクロ\n\n\nDAICHI&283 pre.\nThe ERA\n@初台WALL
URL:https://nakano-dynamite.com/wall/event/2025-07-19/
LOCATION:初台WALL\, 西新宿　3-15-8-B1\, 新宿区\, 東京都\, 160-0023\, Japan
ATTACH;FMTTYPE=image/jpeg:https://nakano-dynamite.com/wall/wp-content/uploads/2025/06/20250719.jpg
END:VEVENT
BEGIN:VEVENT
DTSTART;TZID=Asia/Tokyo:20240901T150000
DTEND;TZID=Asia/Tokyo:20240901T220000
DTSTAMP:20260422T083552
CREATED:20240829T105457Z
LAST-MODIFIED:20240829T105457Z
UID:2928-1725202800-1725228000@nakano-dynamite.com
SUMMARY:mandala-effect
DESCRIPTION:2024.09.01(sun)\nOPEN 15:00\nDOOR ¥1000\n+1D\n<CONCEPT>\nこの日のWALLにバンドは登場しません。\n「マンダラエフェクト」は塗り絵とセッションを中心とした、\nワークショップ寄りのイベントです。\n出演するのはDJ/マシンライブ/実験音楽/身体表現など、\n様々なスタイルのソロアーティストたちです。\nそれぞれが持ち寄ったマシンでのセッションも行ないます。\n塗り絵はたくさんあります。\nその場に居る誰もが、いつでも、自由に塗る事ができます。\nお気に入りのペンを持ってきてもOKです。\n音楽を聴きながら塗り絵に没頭しましょう。\nお腹が空いたらフードもありますよ。\n\n <ACT> \nMUM\noqbo\nPOTATO BUDS\nshima_hachisu\nshinki\nLINDY\nマッキン\n濁朗\n\n<FOOD>\nわんはんはんてん\n\n菊次郎 pre.\nmandala-effect\n@初台WALL
URL:https://nakano-dynamite.com/wall/event/2024-09-01/
LOCATION:初台WALL\, 西新宿　3-15-8-B1\, 新宿区\, 東京都\, 160-0023\, Japan
ATTACH;FMTTYPE=image/jpeg:https://nakano-dynamite.com/wall/wp-content/uploads/2024/08/20240901-1.jpg
END:VEVENT
BEGIN:VEVENT
DTSTART;TZID=Asia/Tokyo:20240801T183000
DTEND;TZID=Asia/Tokyo:20240801T220000
DTSTAMP:20260422T083552
CREATED:20240718T130010Z
LAST-MODIFIED:20240730T081459Z
UID:2794-1722537000-1722549600@nakano-dynamite.com
SUMMARY:MAGICAL VIBES
DESCRIPTION:2024.08.01(thu)\nOPEN 18:30\nSTART 19:00\nDOOR ¥2000\n+1D\n\nねたのよい\nロバートDEピーコ\nYGK\nMUM\nnastie\n\nWALL pre.\nMAGICAL VIBES\n@初台WALL
URL:https://nakano-dynamite.com/wall/event/2024-08-01/
LOCATION:初台WALL\, 西新宿　3-15-8-B1\, 新宿区\, 東京都\, 160-0023\, Japan
ATTACH;FMTTYPE=image/jpeg:https://nakano-dynamite.com/wall/wp-content/uploads/2024/07/20240801.jpg
END:VEVENT
BEGIN:VEVENT
DTSTART;TZID=Asia/Tokyo:20240614T190000
DTEND;TZID=Asia/Tokyo:20240614T220000
DTSTAMP:20260422T083552
CREATED:20240607T142044Z
LAST-MODIFIED:20240607T142044Z
UID:2576-1718391600-1718402400@nakano-dynamite.com
SUMMARY:初台WALL25周年GIG
DESCRIPTION:2024.06.14(fri)\nOPEN/START 19:00\nDOOR￥1900\n+1D\n\n-BAND-\nBUMPED HIS HEAD\nCROSSFACE\nソメイヨシノ\n\n-DJ-\noqbo\nMUM\n\n\n\nBHH&WALL pre.\n初台WALL25周年GIG\n@初台WALL
URL:https://nakano-dynamite.com/wall/event/2024-06-14/
LOCATION:初台WALL\, 西新宿　3-15-8-B1\, 新宿区\, 東京都\, 160-0023\, Japan
ATTACH;FMTTYPE=image/jpeg:https://nakano-dynamite.com/wall/wp-content/uploads/2024/06/20240614.jpg
END:VEVENT
BEGIN:VEVENT
DTSTART;TZID=Asia/Tokyo:20240126T183000
DTEND;TZID=Asia/Tokyo:20240126T220000
DTSTAMP:20260422T083552
CREATED:20240121T075712Z
LAST-MODIFIED:20240121T075712Z
UID:2252-1706293800-1706306400@nakano-dynamite.com
SUMMARY:こすも通信
DESCRIPTION:2024.01.26 (fri)\nOPEN 18:30\nNO CHARGE 2D(￥1200)\n-DJ-\nOKBOY\nMAU\nLEINA\nMUM\nONCEMORE\n\nOKBOY pre\nこすも通信\n@初台WALL
URL:https://nakano-dynamite.com/wall/event/2024-01-26/
LOCATION:初台WALL\, 西新宿　3-15-8-B1\, 新宿区\, 東京都\, 160-0023\, Japan
CATEGORIES:こすも通信
ATTACH;FMTTYPE=image/jpeg:https://nakano-dynamite.com/wall/wp-content/uploads/2024/01/20240126.jpg
END:VEVENT
BEGIN:VEVENT
DTSTART;TZID=Asia/Tokyo:20240106T162000
DTEND;TZID=Asia/Tokyo:20240106T220000
DTSTAMP:20260422T083552
CREATED:20231224T074142Z
LAST-MODIFIED:20231224T074142Z
UID:2187-1704558000-1704578400@nakano-dynamite.com
SUMMARY:耽溺の構図(七)
DESCRIPTION:2024.01.06 (sat)\nOPEN/START 16:20 \nDOOR ￥2400＋1D\n\nえんだぶあ \n天国注射 \nPLONQUOS \nOBAKECHANT \nONCE MORE \noqbo \nMUM\n\nおいしい珈琲◎MAEDコーヒーショップ \nおいしいお寿司◎歌舞奇Zushi \n\n\n日沼菊治郎個人企画\n耽溺の構図(七)\n@初台WALL
URL:https://nakano-dynamite.com/wall/event/2023-01-06-2/
LOCATION:初台WALL\, 西新宿　3-15-8-B1\, 新宿区\, 東京都\, 160-0023\, Japan
ATTACH;FMTTYPE=image/jpeg:https://nakano-dynamite.com/wall/wp-content/uploads/2023/12/20240106.jpg
END:VEVENT
BEGIN:VEVENT
DTSTART;TZID=Asia/Tokyo:20231021T170000
DTEND;TZID=Asia/Tokyo:20231021T220000
DTSTAMP:20260422T083552
CREATED:20230921T084342Z
LAST-MODIFIED:20230921T084501Z
UID:1588-1697907600-1697925600@nakano-dynamite.com
SUMMARY:GOOD WORLD PARTY vol.1
DESCRIPTION:2023.10.21(sat)\nOPEN/START 17:00\nDOOR￥2500+1D\n\nSECONDARMS\nABOS\nDiscavil\nBumped his head\nMEXICAN AGE\nDOMINATE\nHORSEHEAD NEBULA\n\n-DJ-\nMUM\nTHREE-CODE\n床松\nMinor Coaster\n\n-LIVE PAINTING-\nMaaji\n\nWALL pre\nGOOD WORLD PARTY vol.1\n＠初台WALL
URL:https://nakano-dynamite.com/wall/event/2023-10-21/
LOCATION:初台WALL\, 西新宿　3-15-8-B1\, 新宿区\, 東京都\, 160-0023\, Japan
ATTACH;FMTTYPE=image/jpeg:https://nakano-dynamite.com/wall/wp-content/uploads/2023/09/20231021.jpg
END:VEVENT
BEGIN:VEVENT
DTSTART;TZID=Asia/Tokyo:20230728T190000
DTEND;TZID=Asia/Tokyo:20230728T220000
DTSTAMP:20260422T083552
CREATED:20230624T045143Z
LAST-MODIFIED:20230624T045143Z
UID:1383-1690570800-1690581600@nakano-dynamite.com
SUMMARY:SAMBO
DESCRIPTION:2023.07.28 (Fri)\nOPEN 19:00  START 19:30\nDOOR ¥2000+1D\n\nローライフサーファー \nghettos \nやさぐれ\nMUM\n\n\nWALL pre\nSAMBO\n@初台WALL
URL:https://nakano-dynamite.com/wall/event/2023-07-28/
LOCATION:初台WALL\, 西新宿　3-15-8-B1\, 新宿区\, 東京都\, 160-0023\, Japan
ATTACH;FMTTYPE=image/jpeg:https://nakano-dynamite.com/wall/wp-content/uploads/2023/06/202307286.jpg
END:VEVENT
BEGIN:VEVENT
DTSTART;TZID=Asia/Tokyo:20221125T180000
DTEND;TZID=Asia/Tokyo:20221125T220000
DTSTAMP:20260422T083552
CREATED:20221121T030245Z
LAST-MODIFIED:20221129T091501Z
UID:45-1669399200-1669413600@nakano-dynamite.com
SUMMARY:Wall pre: GOTHAM
DESCRIPTION:2022.11.25(FRI)\nOPEN18:00 / START18:30\n¥1500+1D\n►ＢＡＮＤ\nTORO\nGloptin\n母親文化村\n鋭児\nNASTIE\n►DJ\nNATURAL PSYCHO BASTARD\noqub\nＭＵＭ\n \nＷＡＬＬ　pre!!!! 【GOTHAM】\n@初台WALL
URL:https://nakano-dynamite.com/wall/event/2022-11-25/
LOCATION:初台WALL\, 西新宿　3-15-8-B1\, 新宿区\, 東京都\, 160-0023\, Japan
ATTACH;FMTTYPE=image/jpeg:https://nakano-dynamite.com/wall/wp-content/uploads/2022/11/2022-11-25.jpeg
END:VEVENT
END:VCALENDAR